BEGIN:VCALENDAR
VERSION:2.0
PRODID:-//Downtown Alliance - ECPv6.15.20//NONSGML v1.0//EN
CALSCALE:GREGORIAN
METHOD:PUBLISH
X-WR-CALNAME:Downtown Alliance
X-ORIGINAL-URL:https://downtownny.com
X-WR-CALDESC:Events for Downtown Alliance
REFRESH-INTERVAL;VALUE=DURATION:PT1H
X-Robots-Tag:noindex
X-PUBLISHED-TTL:PT1H
BEGIN:VTIMEZONE
TZID:America/New_York
BEGIN:DAYLIGHT
TZOFFSETFROM:-0500
TZOFFSETTO:-0400
TZNAME:EDT
DTSTART:20200308T070000
END:DAYLIGHT
BEGIN:STANDARD
TZOFFSETFROM:-0400
TZOFFSETTO:-0500
TZNAME:EST
DTSTART:20201101T060000
END:STANDARD
BEGIN:DAYLIGHT
TZOFFSETFROM:-0500
TZOFFSETTO:-0400
TZNAME:EDT
DTSTART:20210314T070000
END:DAYLIGHT
BEGIN:STANDARD
TZOFFSETFROM:-0400
TZOFFSETTO:-0500
TZNAME:EST
DTSTART:20211107T060000
END:STANDARD
BEGIN:DAYLIGHT
TZOFFSETFROM:-0500
TZOFFSETTO:-0400
TZNAME:EDT
DTSTART:20220313T070000
END:DAYLIGHT
BEGIN:STANDARD
TZOFFSETFROM:-0400
TZOFFSETTO:-0500
TZNAME:EST
DTSTART:20221106T060000
END:STANDARD
END:VTIMEZONE
BEGIN:VEVENT
DTSTART;TZID=America/New_York:20210501T000000
DTEND;TZID=America/New_York:20210504T000000
DTSTAMP:20260420T195604
CREATED:20210210T155424Z
LAST-MODIFIED:20210311T200910Z
UID:33636-1619827200-1620086400@downtownny.com
SUMMARY:Lincoln Center at Home
DESCRIPTION:Lincoln Center at Home is a new website for all digital offerings from Lincoln Center. Livestreamed events occur daily\, and new videos are posted every day. The “On Demand” section offers content available at any time—including links to digital archives\, access to remote collections\, Q+As with artists\, workshops\, performances\, and more.
URL:https://downtownny.com/event/lincoln-center-at-home/
CATEGORIES:Arts & Culture
END:VEVENT
BEGIN:VEVENT
DTSTART;TZID=America/New_York:20210503T103000
DTEND;TZID=America/New_York:20210503T103000
DTSTAMP:20260420T195604
CREATED:20210504T171534Z
LAST-MODIFIED:20210504T171534Z
UID:37731-1620037800-1620037800@downtownny.com
SUMMARY:Adult Outdoor Group Exercise
DESCRIPTION:Strengthen the whole body from warm-up to cool-down with a variety of fun exercises. The instructor will lead you in aerobics\, balance and coordination exercises\, as well as strength training. Come join for a fun workout in the fresh air! Participants are expected to bring their own equipment: weights\, water bottle\, hand towel\, etc. Masks required. Participants must maintain six feet of physical distance between households. All programs will be held in accordance with New York State reopening guidance. Irish Hunger Memorial.
URL:https://downtownny.com/event/adult-outdoor-group-exercise/
LOCATION:Irish Hunger Memorial
CATEGORIES:Wellness
ATTACH;FMTTYPE=image/jpeg:https://downtownny.com/wp-content/uploads/2021/05/Group-Exercise-1-tUSh6V.tmp_.jpg
END:VEVENT
BEGIN:VEVENT
DTSTART;TZID=America/New_York:20210503T130000
DTEND;TZID=America/New_York:20210507T000000
DTSTAMP:20260420T195604
CREATED:20210504T171535Z
LAST-MODIFIED:20210504T171535Z
UID:37732-1620046800-1620345600@downtownny.com
SUMMARY:Comfort at One
DESCRIPTION:Online concert. During trying times\, music stills our souls and provides a healing grace. Throughout the season of Lent\, Comfort at One will present performances that are inspired by the Gandhi quote: “In the midst of darkness\, light persists.” These concerts include improvisations by Julian Wachner\, light-inspired Bach cantatas\, our 2014 Lenten “Lamentatio” series featuring NOVUS NY and The Choir of Trinity Wall Street\, new performances from the Trinity Youth Chorus and St. Paul’s Chapel Choir\, and new virtual content on Fridays from our extended family of artists.
URL:https://downtownny.com/event/comfort-at-one-6/
LOCATION:Trinity Church
CATEGORIES:Arts & Culture
ATTACH;FMTTYPE=image/jpeg:https://downtownny.com/wp-content/uploads/2021/04/comfort-at-one-sandbox-percussion-hero-2880-640-nPD4wz.tmp_-scaled.jpg
END:VEVENT
BEGIN:VEVENT
DTSTART;TZID=America/New_York:20210503T190000
DTEND;TZID=America/New_York:20210503T190000
DTSTAMP:20260420T195604
CREATED:20210504T171536Z
LAST-MODIFIED:20210504T171536Z
UID:37733-1620068400-1620068400@downtownny.com
SUMMARY:STEM Supremes: In Conversation with Rebecca Oppenheimer
DESCRIPTION:STEM Supremes is a series of  conversations with leading women in science and tech exploring their careers\, discoveries\, insights\, and what they see on the horizon in their respective fields. This event will feature Dr. Rebecca Oppenheimer\, Curator and Professor\, Department of Astrophysics\, at the American Museum of Natural History (AMNH). Dr. Oppenheimer is a comparative exoplanetary scientist: she studies planets orbiting stars other than the Sun by trying to see them directly and to dissect their chemical compositions. The co-discoverer of Gliese 229B\, the first object smaller than a star ever seen outside the solar system\, her research includes the development of new astronomical instrumentation that allow the direct investigation of objects in other solar systems. Dr. Oppenheimer serves on numerous national and international committees related to astronomical research\, physics and the state of astrophysics\, including three terms on the NASA Astrophysics Senior Review. A dedicated educator and science communicator\, Dr. Oppenheimer is an Adjunct Professor of Astronomy at Columbia University. She has also curated or co-curated programs including the AstroBulletin series of news items and bi-annual documentaries\, the Digital Universe Atlas\, the space show Journey to the Stars and the exhibit Searching for New Worlds.
URL:https://downtownny.com/event/stem-supremes-in-conversation-with-rebecca-oppenheimer/
CATEGORIES:Arts & Culture
END:VEVENT
END:VCALENDAR