BEGIN:VCALENDAR
VERSION:2.0
PRODID:-//Downtown Alliance - ECPv6.15.20//NONSGML v1.0//EN
CALSCALE:GREGORIAN
METHOD:PUBLISH
X-ORIGINAL-URL:https://downtownny.com
X-WR-CALDESC:Events for Downtown Alliance
REFRESH-INTERVAL;VALUE=DURATION:PT1H
X-Robots-Tag:noindex
X-PUBLISHED-TTL:PT1H
BEGIN:VTIMEZONE
TZID:America/New_York
BEGIN:DAYLIGHT
TZOFFSETFROM:-0500
TZOFFSETTO:-0400
TZNAME:EDT
DTSTART:20200308T070000
END:DAYLIGHT
BEGIN:STANDARD
TZOFFSETFROM:-0400
TZOFFSETTO:-0500
TZNAME:EST
DTSTART:20201101T060000
END:STANDARD
BEGIN:DAYLIGHT
TZOFFSETFROM:-0500
TZOFFSETTO:-0400
TZNAME:EDT
DTSTART:20210314T070000
END:DAYLIGHT
BEGIN:STANDARD
TZOFFSETFROM:-0400
TZOFFSETTO:-0500
TZNAME:EST
DTSTART:20211107T060000
END:STANDARD
BEGIN:DAYLIGHT
TZOFFSETFROM:-0500
TZOFFSETTO:-0400
TZNAME:EDT
DTSTART:20220313T070000
END:DAYLIGHT
BEGIN:STANDARD
TZOFFSETFROM:-0400
TZOFFSETTO:-0500
TZNAME:EST
DTSTART:20221106T060000
END:STANDARD
END:VTIMEZONE
BEGIN:VEVENT
DTSTART;TZID=America/New_York:20210503T130000
DTEND;TZID=America/New_York:20210507T000000
DTSTAMP:20260421T030724
CREATED:20210504T171535Z
LAST-MODIFIED:20210504T171535Z
UID:37732-1620046800-1620345600@downtownny.com
SUMMARY:Comfort at One
DESCRIPTION:Online concert. During trying times\, music stills our souls and provides a healing grace. Throughout the season of Lent\, Comfort at One will present performances that are inspired by the Gandhi quote: “In the midst of darkness\, light persists.” These concerts include improvisations by Julian Wachner\, light-inspired Bach cantatas\, our 2014 Lenten “Lamentatio” series featuring NOVUS NY and The Choir of Trinity Wall Street\, new performances from the Trinity Youth Chorus and St. Paul’s Chapel Choir\, and new virtual content on Fridays from our extended family of artists.
URL:https://downtownny.com/event/comfort-at-one-6/
LOCATION:Trinity Church
CATEGORIES:Arts & Culture
ATTACH;FMTTYPE=image/jpeg:https://downtownny.com/wp-content/uploads/2021/04/comfort-at-one-sandbox-percussion-hero-2880-640-nPD4wz.tmp_-scaled.jpg
END:VEVENT
BEGIN:VEVENT
DTSTART;TZID=America/New_York:20210505T080000
DTEND;TZID=America/New_York:20210505T080000
DTSTAMP:20260421T030724
CREATED:20210504T171547Z
LAST-MODIFIED:20210504T171547Z
UID:37739-1620201600-1620201600@downtownny.com
SUMMARY:Bird Walk at The Battery
DESCRIPTION:Explore the diversity of migrating birds that find food and habitat in The Battery. The walk will be led by Gabriel Willow\, an educator from NYC Audubon. Gabriel is an experienced birder and naturalist\, and is well-versed in the ecology and history of New York City.  He has been leading walks for NYC Audubon for more than ten years\, guiding new and experienced birders in all five boroughs and beyond. Participants are limited to fewer than 15 people. RSVP is required for participation.
URL:https://downtownny.com/event/bird-walk-at-the-battery-2/
CATEGORIES:Tours
ATTACH;FMTTYPE=image/jpeg:https://downtownny.com/wp-content/uploads/2021/05/https3A2F2Fcdn.evbuc_.com2Fimages2F1097402652F1552978442122F12Foriginal-IvkFPq.tmp_.jpg
END:VEVENT
BEGIN:VEVENT
DTSTART;TZID=America/New_York:20210505T103000
DTEND;TZID=America/New_York:20210505T103000
DTSTAMP:20260421T030724
CREATED:20210504T171548Z
LAST-MODIFIED:20210504T171548Z
UID:37740-1620210600-1620210600@downtownny.com
SUMMARY:Kindie Rock
DESCRIPTION:Each week features a fantastic family music performer from our star roster leading rocking storytimes and sing-a-longs! Masks required. Participants must maintain six feet of physical distance between households. All programs will be held in accordance with New York State reopening guidance. Wagner Park
URL:https://downtownny.com/event/kindie-rock/
LOCATION:Wagner Park
CATEGORIES:Community
ATTACH;FMTTYPE=image/jpeg:https://downtownny.com/wp-content/uploads/2021/05/Kindierock-1-fuwnQw.tmp_.jpg
END:VEVENT
BEGIN:VEVENT
DTSTART;TZID=America/New_York:20210505T110000
DTEND;TZID=America/New_York:20210505T110000
DTSTAMP:20260421T030724
CREATED:20210504T171631Z
LAST-MODIFIED:20210504T171631Z
UID:37747-1620212400-1620212400@downtownny.com
SUMMARY:Elements of Nature Drawing
DESCRIPTION:Wagner Park\, with its amazing gardens and views of the Hudson River and New York Bay\, is the perfect setting to practice your art. Participants are expected to bring their own drawing and painting supplies\, including drawing boards and containers of water if they are planning to paint. BPCA will supply drawing paper and watercolor paper only. Masks required. Participants must maintain six feet of physical distance between households. All programs will be held in accordance with New York State reopening guidance. Wagner Park
URL:https://downtownny.com/event/elements-of-nature-drawing/
LOCATION:Wagner Park
CATEGORIES:Community
ATTACH;FMTTYPE=image/jpeg:https://downtownny.com/wp-content/uploads/2021/05/Elements-of-Nature-Drawing-zXggQR.tmp_.jpg
END:VEVENT
BEGIN:VEVENT
DTSTART;TZID=America/New_York:20210505T173000
DTEND;TZID=America/New_York:20210505T173000
DTSTAMP:20260421T030724
CREATED:20210504T171632Z
LAST-MODIFIED:20210504T171632Z
UID:37748-1620235800-1620235800@downtownny.com
SUMMARY:Wednesdays at the Waterfront: Outdoor Fitness
DESCRIPTION:Get moving with a series of classes aimed to help you build strength\, relax\, and unwind. All cardio classes are 45 minutes long\, with a focus on high-intensity rhythmic cardio. Classes also feature sprint intervals\, sculpting\, and a stretch cool down.
URL:https://downtownny.com/event/wednesdays-at-the-waterfront-outdoor-fitness/
LOCATION:Brookfield Place
CATEGORIES:Wellness
ATTACH;FMTTYPE=image/jpeg:https://downtownny.com/wp-content/uploads/2021/05/Humming-Puppy-1_websize-4aK0im.tmp_.jpg
END:VEVENT
BEGIN:VEVENT
DTSTART;TZID=America/New_York:20210505T180000
DTEND;TZID=America/New_York:20210505T180000
DTSTAMP:20260421T030724
CREATED:20210504T171633Z
LAST-MODIFIED:20210504T171633Z
UID:37749-1620237600-1620237600@downtownny.com
SUMMARY:Sunset Yoga
DESCRIPTION:Namaste! Unwind from the day with outdoor yoga. Immerse yourself in this meditative practice- surrounded by the Hudson’s peaceful aura. Strengthen the body and cultivate awareness in a relaxed environment as your instructor guides you through alignments and poses. All levels are welcome. Participants are expected to bring their own equipment: yoga mat\, yoga blocks\, water\, etc. Masks required. Participants must maintain six feet of physical distance between households. All programs will be held in accordance with New York State reopening guidance. Wagner Park
URL:https://downtownny.com/event/sunset-yoga/
LOCATION:Wagner Park
CATEGORIES:Wellness
ATTACH;FMTTYPE=image/jpeg:https://downtownny.com/wp-content/uploads/2021/05/Yoga-hQcXl3.tmp_.jpg
END:VEVENT
BEGIN:VEVENT
DTSTART;TZID=America/New_York:20210505T193000
DTEND;TZID=America/New_York:20210505T193000
DTSTAMP:20260421T030724
CREATED:20210504T171633Z
LAST-MODIFIED:20210504T171633Z
UID:37750-1620243000-1620243000@downtownny.com
SUMMARY:China’s Financial Opening: The New Horizon for Global Companies
DESCRIPTION:A year since China opened up its financial markets on paper\, have foreign firms been able to grab a bigger slice of its $48 trillion financial sector businesses? What does China’s deepening of financial integration into the world mean for the country and U.S. institutions? How do U.S. financial sanctions impact China’s financial regulatory reform? Andrew Collier\, founder of Orient Capital Research\, and Li-Gang Liu\, Chief China Economist at Citi Group\, which has recently been approved to become the first US custody bank in China\, will discuss the new opportunities and challenges for foreign ownership in China.
URL:https://downtownny.com/event/chinas-financial-opening-the-new-horizon-for-global-companies/
LOCATION:China Institute
CATEGORIES:Arts & Culture
ATTACH;FMTTYPE=image/jpeg:https://downtownny.com/wp-content/uploads/2021/05/Chinas-Financial-Opening.webbanner-xHaw6Q.tmp_.jpg
END:VEVENT
END:VCALENDAR