BEGIN:VCALENDAR
VERSION:2.0
PRODID:-//Downtown Alliance - ECPv6.15.20//NONSGML v1.0//EN
CALSCALE:GREGORIAN
METHOD:PUBLISH
X-ORIGINAL-URL:https://downtownny.com
X-WR-CALDESC:Events for Downtown Alliance
REFRESH-INTERVAL;VALUE=DURATION:PT1H
X-Robots-Tag:noindex
X-PUBLISHED-TTL:PT1H
BEGIN:VTIMEZONE
TZID:America/New_York
BEGIN:DAYLIGHT
TZOFFSETFROM:-0500
TZOFFSETTO:-0400
TZNAME:EDT
DTSTART:20200308T070000
END:DAYLIGHT
BEGIN:STANDARD
TZOFFSETFROM:-0400
TZOFFSETTO:-0500
TZNAME:EST
DTSTART:20201101T060000
END:STANDARD
BEGIN:DAYLIGHT
TZOFFSETFROM:-0500
TZOFFSETTO:-0400
TZNAME:EDT
DTSTART:20210314T070000
END:DAYLIGHT
BEGIN:STANDARD
TZOFFSETFROM:-0400
TZOFFSETTO:-0500
TZNAME:EST
DTSTART:20211107T060000
END:STANDARD
BEGIN:DAYLIGHT
TZOFFSETFROM:-0500
TZOFFSETTO:-0400
TZNAME:EDT
DTSTART:20220313T070000
END:DAYLIGHT
BEGIN:STANDARD
TZOFFSETFROM:-0400
TZOFFSETTO:-0500
TZNAME:EST
DTSTART:20221106T060000
END:STANDARD
END:VTIMEZONE
BEGIN:VEVENT
DTSTART;TZID=America/New_York:20210507T120000
DTEND;TZID=America/New_York:20210507T120000
DTSTAMP:20260421T110904
CREATED:20210210T155425Z
LAST-MODIFIED:20210322T195333Z
UID:33638-1620388800-1620388800@downtownny.com
SUMMARY:Virtual Talk\, Preserving the Past: The Restoration of Fraunces Tavern
DESCRIPTION:Join historian Mary Tsaltas-Ottomanelli to explore the history of 54 Pearl Street\, the home of Fraunces Tavern Museum and Restaurant\, its significance to the American Revolutionary era\, and the efforts to restore and preserve the building over the last 300 years. 54 Pearl Street\, was built in 1719 and is Manhattan’s oldest standing structure. This live talk is organized exclusively for Untapped New York’s Insiders and will be broadcasted via Zoom. Join Untapped New York to access this talk\, and be able to to ask questions in a Q&A section at the end.
URL:https://downtownny.com/event/virtual-talk-preserving-the-past-the-restoration-of-fraunces-tavern/
CATEGORIES:Arts & Culture
END:VEVENT
BEGIN:VEVENT
DTSTART;TZID=America/New_York:20210507T120000
DTEND;TZID=America/New_York:20210507T124500
DTSTAMP:20260421T110904
CREATED:20210504T171722Z
LAST-MODIFIED:20210504T171722Z
UID:37757-1620388800-1620391500@downtownny.com
SUMMARY:Lunch and Learn: A Mandarin Read-Aloud Cultural Series
DESCRIPTION:Learn and practice Mandarin\, while engaging with Chinese literature\, poetry\, history and more with fellow enthusiasts. Participants will enjoy live\, interactive learning sessions with our language and cultural experts from home. Each session will start with a read-aloud in Mandarin of a carefully selected poem which represents both a touchstone to Chinese culture as well as text for practicing Mandarin language and pronunciation.
URL:https://downtownny.com/event/lunch-and-learn-a-mandarin-read-aloud-cultural-series-3/
LOCATION:China Institute
CATEGORIES:Arts & Culture
ATTACH;FMTTYPE=image/jpeg:https://downtownny.com/wp-content/uploads/2021/04/lunch-and-learn-2021.v2-XyN12e.tmp_.jpg
END:VEVENT
BEGIN:VEVENT
DTSTART;TZID=America/New_York:20210507T180000
DTEND;TZID=America/New_York:20210507T180000
DTSTAMP:20260421T110904
CREATED:20210504T171723Z
LAST-MODIFIED:20210504T171723Z
UID:37759-1620410400-1620410400@downtownny.com
SUMMARY:BARE Dance Company Presents SURVEILLANCE2.0
DESCRIPTION:Surveillance2.0 is a voyeuristic experience unpacking the tension around privacy issues highlighted by pandemic life. BARE Dance Company’s completely live production brings new meaning to immersive performance\, creatively using multiple feeds — and even a drone camera– in the theater at Tribeca Performing Arts Center. Cinematic in scope\, with free-moving cameras wielded by the performers\, Surveillance2.0 is inspired by the increased scrutiny of personal spaces during quarantine prompted by platforms like Zoom. With performances at 6pm and 7pm\, each presentation will be unique due to real-time mixing of visual and audio feeds — handled by director Mike Esperanza– and streamed to YouTube Live. The 7pm live-stream will be followed by a brief Q&A with the artists.
URL:https://downtownny.com/event/bare-dance-company-presents-surveillance2-0/
CATEGORIES:Arts & Culture
ATTACH;FMTTYPE=image/jpeg:https://downtownny.com/wp-content/uploads/2021/05/Surveillance-2.0-square-copy-8yqDsh.tmp_.jpg
END:VEVENT
BEGIN:VEVENT
DTSTART;TZID=America/New_York:20210507T190000
DTEND;TZID=America/New_York:20210507T190000
DTSTAMP:20260421T110904
CREATED:20210504T171837Z
LAST-MODIFIED:20210504T171837Z
UID:37770-1620414000-1620414000@downtownny.com
SUMMARY:Sunset Singing Circle
DESCRIPTION:Singer/songwriter Terre Roche leads this weekly singing program with the beautiful backdrop of the setting sun in NY Harbor. Whether you are a beginner or a seasoned crooner\, the singing circle is perfect for mellow melodies and healthy harmonizing. Participants are expected to bring their own equipment: blankets\, instruments\, water\, etc. Masks required. Participants must maintain six feet of physical distance between households. All programs will be held in accordance with New York State reopening guidance. Wagner Park.
URL:https://downtownny.com/event/sunset-singing-circle/
LOCATION:Wagner Park
CATEGORIES:Community
ATTACH;FMTTYPE=image/jpeg:https://downtownny.com/wp-content/uploads/2021/05/sunset-singing-circle-Jzna0h.tmp_.jpg
END:VEVENT
BEGIN:VEVENT
DTSTART;TZID=America/New_York:20210507T190000
DTEND;TZID=America/New_York:20210507T190000
DTSTAMP:20260421T110904
CREATED:20210504T171838Z
LAST-MODIFIED:20210504T171838Z
UID:37771-1620414000-1620414000@downtownny.com
SUMMARY:Living Gallery: Hope Boykin
DESCRIPTION:Living Gallery\, curated by Eva Yaa Asantewaa and normally produced in the Gibney Gallery\, presents live performance of storytelling\, monologues\, spoken word\, stand-up\, or creative talks. Each performance – free and open to the public – runs 30-45 minutes\, traditionally scheduled within the hour before a dance concert presented in Gibney’s Theater. Due to COVID-19\, Living Galleries for the fall season will happen on Zoom. Today\, see Hope Boykin\, educator\, creator\, mover\, and motivator.
URL:https://downtownny.com/event/living-gallery-hope-boykin/
LOCATION:Gibney Dance
CATEGORIES:Arts & Culture
ATTACH;FMTTYPE=image/jpeg:https://downtownny.com/wp-content/uploads/2021/05/FORWEBSteve-Vaccariello-11680-0311-532x675-mj2Vaq.tmp_.jpg
END:VEVENT
END:VCALENDAR