BEGIN:VCALENDAR
VERSION:2.0
PRODID:-//Downtown Alliance - ECPv6.15.20//NONSGML v1.0//EN
CALSCALE:GREGORIAN
METHOD:PUBLISH
X-ORIGINAL-URL:https://downtownny.com
X-WR-CALDESC:Events for Downtown Alliance
REFRESH-INTERVAL;VALUE=DURATION:PT1H
X-Robots-Tag:noindex
X-PUBLISHED-TTL:PT1H
BEGIN:VTIMEZONE
TZID:America/New_York
BEGIN:DAYLIGHT
TZOFFSETFROM:-0500
TZOFFSETTO:-0400
TZNAME:EDT
DTSTART:20200308T070000
END:DAYLIGHT
BEGIN:STANDARD
TZOFFSETFROM:-0400
TZOFFSETTO:-0500
TZNAME:EST
DTSTART:20201101T060000
END:STANDARD
BEGIN:DAYLIGHT
TZOFFSETFROM:-0500
TZOFFSETTO:-0400
TZNAME:EDT
DTSTART:20210314T070000
END:DAYLIGHT
BEGIN:STANDARD
TZOFFSETFROM:-0400
TZOFFSETTO:-0500
TZNAME:EST
DTSTART:20211107T060000
END:STANDARD
BEGIN:DAYLIGHT
TZOFFSETFROM:-0500
TZOFFSETTO:-0400
TZNAME:EDT
DTSTART:20220313T070000
END:DAYLIGHT
BEGIN:STANDARD
TZOFFSETFROM:-0400
TZOFFSETTO:-0500
TZNAME:EST
DTSTART:20221106T060000
END:STANDARD
END:VTIMEZONE
BEGIN:VEVENT
DTSTART;TZID=America/New_York:20210508T090000
DTEND;TZID=America/New_York:20210508T120000
DTSTAMP:20260423T101552
CREATED:20210504T171839Z
LAST-MODIFIED:20210504T171839Z
UID:37772-1620464400-1620475200@downtownny.com
SUMMARY:Family Farm Volunteer Day at The Battery Urban Farm
DESCRIPTION:Farm staff will lead participants in the tasks needed to set up our farm for the spring – this could include planting\, weeding\, spreading mulch\, harvesting\, and more!  No experience necessary.  We recommend this event for ages 5 and up with adult supervision and participation; younger siblings are welcome.  RSVP is required.
URL:https://downtownny.com/event/family-farm-volunteer-day-at-the-battery-urban-farm/
CATEGORIES:Wellness
ATTACH;FMTTYPE=image/jpeg:https://downtownny.com/wp-content/uploads/2021/05/https3A2F2Fcdn.evbuc_.com2Fimages2F1108323132F2967328984492F12Foriginal-nxE9lk.tmp_.jpg
END:VEVENT
BEGIN:VEVENT
DTSTART;TZID=America/New_York:20210508T100000
DTEND;TZID=America/New_York:20210508T100000
DTSTAMP:20260423T101552
CREATED:20210504T171839Z
LAST-MODIFIED:20210504T171839Z
UID:37773-1620468000-1620468000@downtownny.com
SUMMARY:Drawing in the Park
DESCRIPTION:South Cove is a special place in spring\, and what better time than Saturday mornings to practice your art! Participants are expected to bring their own drawing and painting supplies\, including drawing boards and containers of water if they are planning to paint. BPCA will supply drawing paper and watercolor paper only. Masks required. Participants must maintain six feet of physical distance between households. All programs will be held in accordance with New York State reopening guidance. South Cove.
URL:https://downtownny.com/event/drawing-in-the-park-2/
LOCATION:South Cove
CATEGORIES:Community
END:VEVENT
BEGIN:VEVENT
DTSTART;TZID=America/New_York:20210508T200000
DTEND;TZID=America/New_York:20210508T200000
DTSTAMP:20260423T101552
CREATED:20210504T171840Z
LAST-MODIFIED:20210504T171840Z
UID:37774-1620504000-1620504000@downtownny.com
SUMMARY:How to Put Dinosaurs in Noah’s Ark – A Glance at the Diversity of Museums in America
DESCRIPTION:Coming in late in the vein of the Western civilization\, American culture is young and vibrant. So are the museums. The most characteristic museums in the United States are not to be found in mega cities like New York or Los Angeles. They rest at the foot of mountains\, amidst the Southern suburbs\, and sometimes in the forgotten corner of a fine college campus. What is important about these hidden gems is that they represent the real America as they are often created and operated by the people who feel dearest to the themes of their museums. Great diversity can be seen in the creation of the seven museums selected for this lecture – The Cloisters\, High Line\, Field Museum of Natural History\, National Firearm Museum\, The Ark Encounter\, Harvard Museum of Natural History\, and Delta Airline Museum. Not only do they vary in topical themes\, but they were owned and run by businessmen\, activists\, scholars\, firms\, and average citizens like us. How do they reflect the social dynamics of American society? What culture outsiders can learn from the making of these museums? These are the questions that Dr. Shen Xincheng will address in this lecture.
URL:https://downtownny.com/event/how-to-put-dinosaurs-in-noahs-ark-a-glance-at-the-diversity-of-museums-in-america/
LOCATION:China Institute
CATEGORIES:Arts & Culture
END:VEVENT
END:VCALENDAR