BEGIN:VCALENDAR
VERSION:2.0
PRODID:-//Downtown Alliance - ECPv6.15.20//NONSGML v1.0//EN
CALSCALE:GREGORIAN
METHOD:PUBLISH
X-WR-CALNAME:Downtown Alliance
X-ORIGINAL-URL:https://downtownny.com
X-WR-CALDESC:Events for Downtown Alliance
REFRESH-INTERVAL;VALUE=DURATION:PT1H
X-Robots-Tag:noindex
X-PUBLISHED-TTL:PT1H
BEGIN:VTIMEZONE
TZID:America/New_York
BEGIN:DAYLIGHT
TZOFFSETFROM:-0500
TZOFFSETTO:-0400
TZNAME:EDT
DTSTART:20200308T070000
END:DAYLIGHT
BEGIN:STANDARD
TZOFFSETFROM:-0400
TZOFFSETTO:-0500
TZNAME:EST
DTSTART:20201101T060000
END:STANDARD
BEGIN:DAYLIGHT
TZOFFSETFROM:-0500
TZOFFSETTO:-0400
TZNAME:EDT
DTSTART:20210314T070000
END:DAYLIGHT
BEGIN:STANDARD
TZOFFSETFROM:-0400
TZOFFSETTO:-0500
TZNAME:EST
DTSTART:20211107T060000
END:STANDARD
BEGIN:DAYLIGHT
TZOFFSETFROM:-0500
TZOFFSETTO:-0400
TZNAME:EDT
DTSTART:20220313T070000
END:DAYLIGHT
BEGIN:STANDARD
TZOFFSETFROM:-0400
TZOFFSETTO:-0500
TZNAME:EST
DTSTART:20221106T060000
END:STANDARD
END:VTIMEZONE
BEGIN:VEVENT
DTSTART;TZID=America/New_York:20210509T150000
DTEND;TZID=America/New_York:20210509T150000
DTSTAMP:20260423T102552
CREATED:20210504T171853Z
LAST-MODIFIED:20210504T171853Z
UID:37777-1620572400-1620572400@downtownny.com
SUMMARY:Stories Survive: Elizabeth Bellak
DESCRIPTION:Elizabeth Bellak (née Ari­ana Spiegel) was born in 1930 in Staw­ki\, Poland. Known as “the Shirley Temple of Poland\,” she was a prominent child actress before World War II who went to live in Warsaw to pursue a career in film. When war broke out\, Ariana and her older sister Renia were visiting their grandparents in the town of Przemyśl. Renia was killed in Przemyśl in 1942\, but Ariana survived and made her way back to Warsaw along with a friend’s father. There\, Ariana was baptized with a new name—Elzbieta—and sent to play a real-life acting role as a Catholic girl at a convent school. After the war\, Elzbieta made her way to New York via Austria\, became “Elizabeth\,” and started a career as a schoolteacher. Years later\, she was miraculously reunited with her sister Renia’s wartime diary\, in which Renia had documented their family’s experiences and shared intimate personal reflections. St. Martin’s Press published it in 2019 as Renia’s Diary and the diary became an international bestseller. Join Elizabeth Bellak for this Stories Survive program exploring her remarkable journey. Bellak will be interviewed by Stephanie Lynne Mason\, a Broadway actress known for leading roles in Fiddler on the Roof and Fiddler on the Roof in Yiddish.
URL:https://downtownny.com/event/stories-survive-elizabeth-bellak/
LOCATION:Museum of Jewish Heritage
CATEGORIES:Arts & Culture
END:VEVENT
END:VCALENDAR