BEGIN:VCALENDAR
VERSION:2.0
PRODID:-//Downtown Alliance - ECPv6.15.20//NONSGML v1.0//EN
CALSCALE:GREGORIAN
METHOD:PUBLISH
X-WR-CALNAME:Downtown Alliance
X-ORIGINAL-URL:https://downtownny.com
X-WR-CALDESC:Events for Downtown Alliance
REFRESH-INTERVAL;VALUE=DURATION:PT1H
X-Robots-Tag:noindex
X-PUBLISHED-TTL:PT1H
BEGIN:VTIMEZONE
TZID:America/New_York
BEGIN:DAYLIGHT
TZOFFSETFROM:-0500
TZOFFSETTO:-0400
TZNAME:EDT
DTSTART:20200308T070000
END:DAYLIGHT
BEGIN:STANDARD
TZOFFSETFROM:-0400
TZOFFSETTO:-0500
TZNAME:EST
DTSTART:20201101T060000
END:STANDARD
BEGIN:DAYLIGHT
TZOFFSETFROM:-0500
TZOFFSETTO:-0400
TZNAME:EDT
DTSTART:20210314T070000
END:DAYLIGHT
BEGIN:STANDARD
TZOFFSETFROM:-0400
TZOFFSETTO:-0500
TZNAME:EST
DTSTART:20211107T060000
END:STANDARD
BEGIN:DAYLIGHT
TZOFFSETFROM:-0500
TZOFFSETTO:-0400
TZNAME:EDT
DTSTART:20220313T070000
END:DAYLIGHT
BEGIN:STANDARD
TZOFFSETFROM:-0400
TZOFFSETTO:-0500
TZNAME:EST
DTSTART:20221106T060000
END:STANDARD
BEGIN:DAYLIGHT
TZOFFSETFROM:-0500
TZOFFSETTO:-0400
TZNAME:EDT
DTSTART:20230312T070000
END:DAYLIGHT
BEGIN:STANDARD
TZOFFSETFROM:-0400
TZOFFSETTO:-0500
TZNAME:EST
DTSTART:20231105T060000
END:STANDARD
END:VTIMEZONE
BEGIN:VEVENT
DTSTART;TZID=America/New_York:20211209T190000
DTEND;TZID=America/New_York:20221209T000000
DTSTAMP:20260424T164943
CREATED:20211129T151620Z
LAST-MODIFIED:20211129T151620Z
UID:42199-1639076400-1670544000@downtownny.com
SUMMARY:Transforming Moments: A Conversation With Diane Von Furstenberg
DESCRIPTION:Before she was an international fashion icon and a member of the TIME 100\, Diane von Furstenberg was a young girl growing up with parents who had just survived the Holocaust. Her father\, originally from Moldova\, escaped the Nazis in Switzerland. Her mother\, originally from Greece\, fought the Nazis as a member of the resistance until she was captured and sent to Auschwitz. Join the Museum for a conversation with von Furstenberg about her identity as the daughter of survivors and how it has informed her remarkable career at the helm of one of the world’s most recognizable brands. She will be in conversation with Dr. Eva Fogelman\, renowned psychologist and author of the Pulitzer Prize-nominated book Conscience and Courage: Rescuers of Jews During the Holocaust.
URL:https://downtownny.com/event/transforming-moments-a-conversation-with-diane-von-furstenberg/
LOCATION:Museum of Jewish Heritage
CATEGORIES:Arts & Culture
END:VEVENT
BEGIN:VEVENT
DTSTART;TZID=America/New_York:20220517T080000
DTEND;TZID=America/New_York:20220518T000000
DTSTAMP:20260424T164943
CREATED:20220503T174456Z
LAST-MODIFIED:20220503T174456Z
UID:44796-1652774400-1652832000@downtownny.com
SUMMARY:Guided Bird Walk at The Battery with NYC Audubon
DESCRIPTION:Join experienced birding guide Gabriel Willow on a walk through The Battery to observe the diversity of migrating birds that visit the park.
URL:https://downtownny.com/event/guided-bird-walk-at-the-battery-with-nyc-audubon-3/
CATEGORIES:Tours
END:VEVENT
BEGIN:VEVENT
DTSTART;TZID=America/New_York:20220517T103000
DTEND;TZID=America/New_York:20220517T113000
DTSTAMP:20260424T164943
CREATED:20220503T174456Z
LAST-MODIFIED:20220503T174456Z
UID:44797-1652783400-1652787000@downtownny.com
SUMMARY:Adult Zumba
DESCRIPTION:Join in on the fun featuring easy-to-follow Latin dance choreography while working on your balance\, coordination and range of motion. Come prepared for enthusiastic instruction\, a little strength training and a lot of fun. Participants are encouraged to bring their own equipment: weights\, water bottle\, hand towel etc. Proof of vaccination required.
URL:https://downtownny.com/event/adult-zumba-19/
CATEGORIES:Community
END:VEVENT
BEGIN:VEVENT
DTSTART;TZID=America/New_York:20220517T120000
DTEND;TZID=America/New_York:20220517T120000
DTSTAMP:20260424T164943
CREATED:20220503T174457Z
LAST-MODIFIED:20220503T174457Z
UID:44798-1652788800-1652788800@downtownny.com
SUMMARY:Anthro-Vision: A New Way to See In Business and Life
DESCRIPTION:Webinar. Amid severe digital disruption\, economic upheaval and political flux\, how can we make sense of the world? Leaders today typically look for answers in economic models\, Big Data or artificial intelligence platforms. Gillian Tett points to anthropology—the study of human culture. Anthropologists learn to get inside the minds of other people\, helping them not only to understand other cultures but also to appraise their own environment with fresh perspective as an insider-outsider\, gaining lateral vision. Today\, anthropologists are more likely to study Amazon warehouses than remote Amazon tribes. They have done research into institutions and companies such as General Motors\, Nestlé\, Intel and more\, shedding light on practical questions such as how internet users define themselves; why corporate projects fail; why bank traders miscalculate losses; how companies sell certain products; and why pandemic policies succeed (or not). Anthropology makes the familiar seem unfamiliar and vice versa\, giving a three-dimensional perspective in a world where many executives are plagued by tunnel vision\, especially in fields like finance and technology.
URL:https://downtownny.com/event/anthro-vision-a-new-way-to-see-in-business-and-life/
CATEGORIES:Arts & Culture
END:VEVENT
BEGIN:VEVENT
DTSTART;TZID=America/New_York:20220517T153000
DTEND;TZID=America/New_York:20220517T170000
DTSTAMP:20260424T164943
CREATED:20220503T174457Z
LAST-MODIFIED:20220503T174457Z
UID:44799-1652801400-1652806800@downtownny.com
SUMMARY:Drop-In Chess
DESCRIPTION:Play the popular strategy game while getting pointers and advice from an expert. Chess improves concentration\, problem solving\, and strategic planning — plus it’s fun! For ages 5 and up (adults welcome).
URL:https://downtownny.com/event/drop-in-chess-2/
LOCATION:Rockefeller Park
CATEGORIES:Community
END:VEVENT
BEGIN:VEVENT
DTSTART;TZID=America/New_York:20220517T180000
DTEND;TZID=America/New_York:20220517T180000
DTSTAMP:20260424T164943
CREATED:20220503T174656Z
LAST-MODIFIED:20220503T174656Z
UID:44804-1652810400-1652810400@downtownny.com
SUMMARY:Supertall: How the World’s Tallest Buildings Are Reshaping Our Cities and Our Lives
DESCRIPTION:Focusing on four global cities – London\, New York\, Hong Kong\, and Singapore – architect\, urban designer\, and TED Resident Stefan Al examines rise of global supertalls and the factors that have led to this worldwide boom. He uncovers the latest innovations in sustainable building\, from skyscrapers made of wood to tree-covered buildings that promise a better urban future\, but also examines the issues of wealth inequality\, carbon emissions\, and contagion that can accompany dense high-rise development. Featuring original architectural sketches\, Supertall: How the World’s Tallest Buildings Are Reshaping Our Cities and Our Lives is both an exploration of our greatest accomplishments and a powerful argument for a more equitable way forward.
URL:https://downtownny.com/event/supertall-how-the-worlds-tallest-buildings-are-reshaping-our-cities-and-our-lives/
LOCATION:Skyscraper Museum
CATEGORIES:Arts & Culture
END:VEVENT
END:VCALENDAR