BEGIN:VCALENDAR
VERSION:2.0
PRODID:-//Downtown Alliance - ECPv6.15.20//NONSGML v1.0//EN
CALSCALE:GREGORIAN
METHOD:PUBLISH
X-WR-CALNAME:Downtown Alliance
X-ORIGINAL-URL:https://downtownny.com
X-WR-CALDESC:Events for Downtown Alliance
REFRESH-INTERVAL;VALUE=DURATION:PT1H
X-Robots-Tag:noindex
X-PUBLISHED-TTL:PT1H
BEGIN:VTIMEZONE
TZID:America/New_York
BEGIN:DAYLIGHT
TZOFFSETFROM:-0500
TZOFFSETTO:-0400
TZNAME:EDT
DTSTART:20200308T070000
END:DAYLIGHT
BEGIN:STANDARD
TZOFFSETFROM:-0400
TZOFFSETTO:-0500
TZNAME:EST
DTSTART:20201101T060000
END:STANDARD
BEGIN:DAYLIGHT
TZOFFSETFROM:-0500
TZOFFSETTO:-0400
TZNAME:EDT
DTSTART:20210314T070000
END:DAYLIGHT
BEGIN:STANDARD
TZOFFSETFROM:-0400
TZOFFSETTO:-0500
TZNAME:EST
DTSTART:20211107T060000
END:STANDARD
BEGIN:DAYLIGHT
TZOFFSETFROM:-0500
TZOFFSETTO:-0400
TZNAME:EDT
DTSTART:20220313T070000
END:DAYLIGHT
BEGIN:STANDARD
TZOFFSETFROM:-0400
TZOFFSETTO:-0500
TZNAME:EST
DTSTART:20221106T060000
END:STANDARD
BEGIN:DAYLIGHT
TZOFFSETFROM:-0500
TZOFFSETTO:-0400
TZNAME:EDT
DTSTART:20230312T070000
END:DAYLIGHT
BEGIN:STANDARD
TZOFFSETFROM:-0400
TZOFFSETTO:-0500
TZNAME:EST
DTSTART:20231105T060000
END:STANDARD
END:VTIMEZONE
BEGIN:VEVENT
DTSTART;TZID=America/New_York:20211209T190000
DTEND;TZID=America/New_York:20221209T000000
DTSTAMP:20260423T164619
CREATED:20211129T151620Z
LAST-MODIFIED:20211129T151620Z
UID:42199-1639076400-1670544000@downtownny.com
SUMMARY:Transforming Moments: A Conversation With Diane Von Furstenberg
DESCRIPTION:Before she was an international fashion icon and a member of the TIME 100\, Diane von Furstenberg was a young girl growing up with parents who had just survived the Holocaust. Her father\, originally from Moldova\, escaped the Nazis in Switzerland. Her mother\, originally from Greece\, fought the Nazis as a member of the resistance until she was captured and sent to Auschwitz. Join the Museum for a conversation with von Furstenberg about her identity as the daughter of survivors and how it has informed her remarkable career at the helm of one of the world’s most recognizable brands. She will be in conversation with Dr. Eva Fogelman\, renowned psychologist and author of the Pulitzer Prize-nominated book Conscience and Courage: Rescuers of Jews During the Holocaust.
URL:https://downtownny.com/event/transforming-moments-a-conversation-with-diane-von-furstenberg/
LOCATION:Museum of Jewish Heritage
CATEGORIES:Arts & Culture
END:VEVENT
BEGIN:VEVENT
DTSTART;TZID=America/New_York:20220519T123000
DTEND;TZID=America/New_York:20220519T123000
DTSTAMP:20260423T164619
CREATED:20220503T174858Z
LAST-MODIFIED:20220503T174858Z
UID:44813-1652963400-1652963400@downtownny.com
SUMMARY:Get Promoted 101
DESCRIPTION:Virtual\, interactive workshop. Learn how to ramp up your voice\, value or visibility to create career outcomes you deserve—without being an extrovert or overworking.
URL:https://downtownny.com/event/get-promoted-101/
CATEGORIES:Arts & Culture
END:VEVENT
BEGIN:VEVENT
DTSTART;TZID=America/New_York:20220519T150000
DTEND;TZID=America/New_York:20220519T150000
DTSTAMP:20260423T164619
CREATED:20220503T174859Z
LAST-MODIFIED:20220503T174859Z
UID:44814-1652972400-1652972400@downtownny.com
SUMMARY:Farm Tour for Kids at The Battery Urban Farm
DESCRIPTION:Take a kid-friendly tour of The Battery Urban Farm to learn about how we grow produce in the heart of downtown New York City.
URL:https://downtownny.com/event/farm-tour-for-kids-at-the-battery-urban-farm-3/
CATEGORIES:Tours
END:VEVENT
BEGIN:VEVENT
DTSTART;TZID=America/New_York:20220519T170000
DTEND;TZID=America/New_York:20220519T170000
DTSTAMP:20260423T164619
CREATED:20220503T174900Z
LAST-MODIFIED:20220503T174900Z
UID:44815-1652979600-1652979600@downtownny.com
SUMMARY:Art from Tragedy: Molly Crabapple and Sara Softness in Conversation
DESCRIPTION:The Museum’s exhibition\, Boris Lurie: Nothing To Do But To Try centers around the “War Series” of the artist and Holocaust survivor Boris Lurie. However\, Lurie is not the only artist who has chronicled war and tragedy. Others such as Chittaprosad Bhattacharya\, Francisco Goya\, Otto Dix\, and Käthe Kollwitz also used art to illustrate their feelings about war\, famine\, and other tragedies. Join the Museum for a program about these artists and their work to celebrate the launch of the catalogue of Boris Lurie: Nothing To Do But To Try. The exhibition’s curator Sara Softness will be in conversation with artist Molly Crabapple about these different artists and where Lurie’s work fits into this long tradition.
URL:https://downtownny.com/event/art-from-tragedy-molly-crabapple-and-sara-softness-in-conversation/
LOCATION:Museum of Jewish Heritage
CATEGORIES:Arts & Culture
END:VEVENT
BEGIN:VEVENT
DTSTART;TZID=America/New_York:20220519T183000
DTEND;TZID=America/New_York:20220519T183000
DTSTAMP:20260423T164619
CREATED:20220503T174900Z
LAST-MODIFIED:20220503T174900Z
UID:44816-1652985000-1652985000@downtownny.com
SUMMARY:Female Genius: Eliza Harriot and George Washington at the Dawn of the Constitution
DESCRIPTION:Zoom lecture. In this lecture\, Mary Sarah Bilder looks to the 1780s\, the Age of the Constitution\, to investigate the rise of a radical new idea in the English-speaking world: female genius. Bilder will discuss Eliza Harriot Barons O’Connor\, a path-breaking female educator who delivered a University of Pennsylvania lecture that was attended by George Washington as he and other members of the Constitutional Convention gathered in Philadelphia.
URL:https://downtownny.com/event/female-genius-eliza-harriot-and-george-washington-at-the-dawn-of-the-constitution/
LOCATION:Fraunces Tavern Museum
CATEGORIES:Arts & Culture
END:VEVENT
BEGIN:VEVENT
DTSTART;TZID=America/New_York:20220519T190000
DTEND;TZID=America/New_York:20220519T190000
DTSTAMP:20260423T164619
CREATED:20220503T175104Z
LAST-MODIFIED:20220503T175104Z
UID:44819-1652986800-1652986800@downtownny.com
SUMMARY:Courtney Maum presents The Year of the Horses\, in conversation with Holly Whitaker
DESCRIPTION:A Publishers Weekly Best Book of Summer and a Most Anticipated Book of 2022 at The Millions\, LitHub\, and The Rumpus. Sharp\, heartfelt\, and cathartic\, The Year of the Horses captures a woman’s journey out of depression and the horses that guide her\, physically and emotionally\, on a new path forward.
URL:https://downtownny.com/event/courtney-maum-presents-the-year-of-the-horses-in-conversation-with-holly-whitaker/
CATEGORIES:Arts & Culture
END:VEVENT
END:VCALENDAR