BEGIN:VCALENDAR
VERSION:2.0
PRODID:-//Downtown Alliance - ECPv6.15.20//NONSGML v1.0//EN
CALSCALE:GREGORIAN
METHOD:PUBLISH
X-WR-CALNAME:Downtown Alliance
X-ORIGINAL-URL:https://downtownny.com
X-WR-CALDESC:Events for Downtown Alliance
REFRESH-INTERVAL;VALUE=DURATION:PT1H
X-Robots-Tag:noindex
X-PUBLISHED-TTL:PT1H
BEGIN:VTIMEZONE
TZID:America/New_York
BEGIN:DAYLIGHT
TZOFFSETFROM:-0500
TZOFFSETTO:-0400
TZNAME:EDT
DTSTART:20200308T070000
END:DAYLIGHT
BEGIN:STANDARD
TZOFFSETFROM:-0400
TZOFFSETTO:-0500
TZNAME:EST
DTSTART:20201101T060000
END:STANDARD
BEGIN:DAYLIGHT
TZOFFSETFROM:-0500
TZOFFSETTO:-0400
TZNAME:EDT
DTSTART:20210314T070000
END:DAYLIGHT
BEGIN:STANDARD
TZOFFSETFROM:-0400
TZOFFSETTO:-0500
TZNAME:EST
DTSTART:20211107T060000
END:STANDARD
BEGIN:DAYLIGHT
TZOFFSETFROM:-0500
TZOFFSETTO:-0400
TZNAME:EDT
DTSTART:20220313T070000
END:DAYLIGHT
BEGIN:STANDARD
TZOFFSETFROM:-0400
TZOFFSETTO:-0500
TZNAME:EST
DTSTART:20221106T060000
END:STANDARD
BEGIN:DAYLIGHT
TZOFFSETFROM:-0500
TZOFFSETTO:-0400
TZNAME:EDT
DTSTART:20230312T070000
END:DAYLIGHT
BEGIN:STANDARD
TZOFFSETFROM:-0400
TZOFFSETTO:-0500
TZNAME:EST
DTSTART:20231105T060000
END:STANDARD
END:VTIMEZONE
BEGIN:VEVENT
DTSTART;TZID=America/New_York:20211209T190000
DTEND;TZID=America/New_York:20221209T000000
DTSTAMP:20260420T153435
CREATED:20211129T151620Z
LAST-MODIFIED:20211129T151620Z
UID:42199-1639076400-1670544000@downtownny.com
SUMMARY:Transforming Moments: A Conversation With Diane Von Furstenberg
DESCRIPTION:Before she was an international fashion icon and a member of the TIME 100\, Diane von Furstenberg was a young girl growing up with parents who had just survived the Holocaust. Her father\, originally from Moldova\, escaped the Nazis in Switzerland. Her mother\, originally from Greece\, fought the Nazis as a member of the resistance until she was captured and sent to Auschwitz. Join the Museum for a conversation with von Furstenberg about her identity as the daughter of survivors and how it has informed her remarkable career at the helm of one of the world’s most recognizable brands. She will be in conversation with Dr. Eva Fogelman\, renowned psychologist and author of the Pulitzer Prize-nominated book Conscience and Courage: Rescuers of Jews During the Holocaust.
URL:https://downtownny.com/event/transforming-moments-a-conversation-with-diane-von-furstenberg/
LOCATION:Museum of Jewish Heritage
CATEGORIES:Arts & Culture
END:VEVENT
BEGIN:VEVENT
DTSTART;TZID=America/New_York:20220526T150000
DTEND;TZID=America/New_York:20220526T150000
DTSTAMP:20260420T153435
CREATED:20220503T175904Z
LAST-MODIFIED:20220503T175904Z
UID:44853-1653577200-1653577200@downtownny.com
SUMMARY:Farm Tour for Kids at The Battery Urban Farm
DESCRIPTION:Take a kid-friendly tour of The Battery Urban Farm to learn about how we grow produce in the heart of downtown New York City.
URL:https://downtownny.com/event/farm-tour-for-kids-at-the-battery-urban-farm-4/
CATEGORIES:Tours
END:VEVENT
BEGIN:VEVENT
DTSTART;TZID=America/New_York:20220526T183000
DTEND;TZID=America/New_York:20220526T200000
DTSTAMP:20260420T153435
CREATED:20220503T175904Z
LAST-MODIFIED:20220503T175904Z
UID:44575-1653589800-1653595200@downtownny.com
SUMMARY:Interludes: Ballet Hispanico
DESCRIPTION:Time to dance! Join us for a Latin social dance workshop with Ballet Hispánico\, one of the nation’s largest Latinx dance organizations. This all ages dance session features Tempo Alegre playing salsa\, merengue\, Afro-Cuban and other Latinx music that will get you up and moving!
URL:https://downtownny.com/event/interludes-ballet-hispanico/
LOCATION:Brookfield Place
CATEGORIES:Arts & Culture
ATTACH;FMTTYPE=image/jpeg:https://downtownny.com/wp-content/uploads/2022/04/Untitled-drawing-27small.jpg
END:VEVENT
BEGIN:VEVENT
DTSTART;TZID=America/New_York:20220526T190000
DTEND;TZID=America/New_York:20220526T190000
DTSTAMP:20260420T153435
CREATED:20220503T175905Z
LAST-MODIFIED:20220503T175905Z
UID:44855-1653591600-1653591600@downtownny.com
SUMMARY:Book Launch: Chris Pavone presents Two Nights in Lisbon
DESCRIPTION:Tautly wound and expertly crafted\, Two Nights in Lisbon is a riveting thriller about a woman under pressure\, and how far she will go when everything is on the line.
URL:https://downtownny.com/event/book-launch-chris-pavone-presents-two-nights-in-lisbon/
CATEGORIES:Arts & Culture
END:VEVENT
END:VCALENDAR