BEGIN:VCALENDAR
VERSION:2.0
PRODID:-//Downtown Alliance - ECPv6.15.20//NONSGML v1.0//EN
CALSCALE:GREGORIAN
METHOD:PUBLISH
X-ORIGINAL-URL:https://downtownny.com
X-WR-CALDESC:Events for Downtown Alliance
REFRESH-INTERVAL;VALUE=DURATION:PT1H
X-Robots-Tag:noindex
X-PUBLISHED-TTL:PT1H
BEGIN:VTIMEZONE
TZID:America/New_York
BEGIN:DAYLIGHT
TZOFFSETFROM:-0500
TZOFFSETTO:-0400
TZNAME:EDT
DTSTART:20200308T070000
END:DAYLIGHT
BEGIN:STANDARD
TZOFFSETFROM:-0400
TZOFFSETTO:-0500
TZNAME:EST
DTSTART:20201101T060000
END:STANDARD
BEGIN:DAYLIGHT
TZOFFSETFROM:-0500
TZOFFSETTO:-0400
TZNAME:EDT
DTSTART:20210314T070000
END:DAYLIGHT
BEGIN:STANDARD
TZOFFSETFROM:-0400
TZOFFSETTO:-0500
TZNAME:EST
DTSTART:20211107T060000
END:STANDARD
BEGIN:DAYLIGHT
TZOFFSETFROM:-0500
TZOFFSETTO:-0400
TZNAME:EDT
DTSTART:20220313T070000
END:DAYLIGHT
BEGIN:STANDARD
TZOFFSETFROM:-0400
TZOFFSETTO:-0500
TZNAME:EST
DTSTART:20221106T060000
END:STANDARD
BEGIN:DAYLIGHT
TZOFFSETFROM:-0500
TZOFFSETTO:-0400
TZNAME:EDT
DTSTART:20230312T070000
END:DAYLIGHT
BEGIN:STANDARD
TZOFFSETFROM:-0400
TZOFFSETTO:-0500
TZNAME:EST
DTSTART:20231105T060000
END:STANDARD
END:VTIMEZONE
BEGIN:VEVENT
DTSTART;TZID=America/New_York:20211209T190000
DTEND;TZID=America/New_York:20221209T000000
DTSTAMP:20260421T214005
CREATED:20211129T151620Z
LAST-MODIFIED:20211129T151620Z
UID:42199-1639076400-1670544000@downtownny.com
SUMMARY:Transforming Moments: A Conversation With Diane Von Furstenberg
DESCRIPTION:Before she was an international fashion icon and a member of the TIME 100\, Diane von Furstenberg was a young girl growing up with parents who had just survived the Holocaust. Her father\, originally from Moldova\, escaped the Nazis in Switzerland. Her mother\, originally from Greece\, fought the Nazis as a member of the resistance until she was captured and sent to Auschwitz. Join the Museum for a conversation with von Furstenberg about her identity as the daughter of survivors and how it has informed her remarkable career at the helm of one of the world’s most recognizable brands. She will be in conversation with Dr. Eva Fogelman\, renowned psychologist and author of the Pulitzer Prize-nominated book Conscience and Courage: Rescuers of Jews During the Holocaust.
URL:https://downtownny.com/event/transforming-moments-a-conversation-with-diane-von-furstenberg/
LOCATION:Museum of Jewish Heritage
CATEGORIES:Arts & Culture
END:VEVENT
BEGIN:VEVENT
DTSTART;TZID=America/New_York:20220601T080000
DTEND;TZID=America/New_York:20220601T080000
DTSTAMP:20260421T214005
CREATED:20220527T134900Z
LAST-MODIFIED:20220527T134900Z
UID:45573-1654070400-1654070400@downtownny.com
SUMMARY:Guided Bird Walk at The Battery with NYC Audubon
DESCRIPTION:Join experienced birding guide Gabriel Willow on a walk through The Battery to observe the diversity of migrating birds that visit the park.
URL:https://downtownny.com/event/guided-bird-walk-at-the-battery-with-nyc-audubon-5/
CATEGORIES:Tours
END:VEVENT
BEGIN:VEVENT
DTSTART;TZID=America/New_York:20220601T100000
DTEND;TZID=America/New_York:20220601T120000
DTSTAMP:20260421T214005
CREATED:20220527T134903Z
LAST-MODIFIED:20220527T134903Z
UID:45574-1654077600-1654084800@downtownny.com
SUMMARY:Figure al Fresco
DESCRIPTION:Observe and sketch the human figure. Each week a model will strike short and long poses for participants to draw. An artist/educator will offer constructive suggestions and critique. Drawing materials provided\, and artists are encouraged to bring their own favorite media.
URL:https://downtownny.com/event/figure-al-fresco-5/
CATEGORIES:Arts & Culture
END:VEVENT
BEGIN:VEVENT
DTSTART;TZID=America/New_York:20220601T110000
DTEND;TZID=America/New_York:20220605T170000
DTSTAMP:20260421T214005
CREATED:20220527T134903Z
LAST-MODIFIED:20220527T134903Z
UID:45575-1654081200-1654448400@downtownny.com
SUMMARY:South Street Seaport Museum
DESCRIPTION:Take a self guided tour of the tall ship Wavertree\, and visit the 12 Fulton Street galleries to view the exhibitions “South Street and the Rise of New York” and “Millions: Migrants and Millionares aboard the Great Liners.”
URL:https://downtownny.com/event/south-street-seaport-museum/
LOCATION:South Street Seaport Museum
CATEGORIES:Arts & Culture
END:VEVENT
BEGIN:VEVENT
DTSTART;TZID=America/New_York:20220601T130000
DTEND;TZID=America/New_York:20220601T130000
DTSTAMP:20260421T214005
CREATED:20220527T134904Z
LAST-MODIFIED:20220527T134904Z
UID:45576-1654088400-1654088400@downtownny.com
SUMMARY:Native Sounds Downtown Featuring D'DAT
DESCRIPTION:Jam out to the sounds of Albuquerque-based jazz ensemble D’DAT. Vocalist James Pakootas (Colville)\, award-winning trumpet player Delbert Anderson (Diné)\, drummer Nicholas Lucero\, and bassist Mike McCluhan offer a funky fusion of jazz and hip hop.
URL:https://downtownny.com/event/native-sounds-downtown-featuring-ddat/
CATEGORIES:Arts & Culture
END:VEVENT
BEGIN:VEVENT
DTSTART;TZID=America/New_York:20220601T140000
DTEND;TZID=America/New_York:20220601T160000
DTSTAMP:20260421T214005
CREATED:20220527T134905Z
LAST-MODIFIED:20220527T134905Z
UID:45577-1654092000-1654099200@downtownny.com
SUMMARY:Elements of Nature Drawing
DESCRIPTION:Embolden your artwork amidst the flower-filled and seasonally evolving palette of BPC’s verdant gardens. An artist/ educator will provide ideas and instruction. Materials provided\, and artists are encouraged to bring their own favorite media.
URL:https://downtownny.com/event/elements-of-nature-drawing-30/
LOCATION:Wagner Park
CATEGORIES:Arts & Culture
END:VEVENT
BEGIN:VEVENT
DTSTART;TZID=America/New_York:20220601T180000
DTEND;TZID=America/New_York:20220601T190000
DTSTAMP:20260421T214005
CREATED:20220527T134910Z
LAST-MODIFIED:20220527T134910Z
UID:45578-1654106400-1654110000@downtownny.com
SUMMARY:Sunset Yoga
DESCRIPTION:Immerse yourself in this meditative practice- surrounded by the Hudson’s peaceful aura. Strengthen the body and cultivate awareness in a relaxed environment as your instructor guides you through alignments and poses. All levels are welcome. Bringing your own mat is encouraged\, as provided accessories are first come first serve.
URL:https://downtownny.com/event/sunset-yoga-24/
CATEGORIES:Wellness
END:VEVENT
BEGIN:VEVENT
DTSTART;TZID=America/New_York:20220601T190000
DTEND;TZID=America/New_York:20220601T190000
DTSTAMP:20260421T214005
CREATED:20220527T134911Z
LAST-MODIFIED:20220527T134911Z
UID:45579-1654110000-1654110000@downtownny.com
SUMMARY:For the Moment: Rourou Ye\, Marýa Wethers\, and Paul Singh + Jack Blackmon
DESCRIPTION:For the Moment\, a program curated by Eva Yaa Asantewaa\, presents evenings of short\, theme-based solo dance improvisations that celebrate creative response to the changing textures and energies of outer and inner worlds. The Spring 2022 theme is Other Discoveries Made on The Moon.
URL:https://downtownny.com/event/for-the-moment-rourou-ye-marya-wethers-and-paul-singh-jack-blackmon/
CATEGORIES:Arts & Culture
END:VEVENT
BEGIN:VEVENT
DTSTART;TZID=America/New_York:20220601T190000
DTEND;TZID=America/New_York:20220601T190000
DTSTAMP:20260421T214005
CREATED:20220527T134911Z
LAST-MODIFIED:20220527T134911Z
UID:45580-1654110000-1654110000@downtownny.com
SUMMARY:Jean Hanff Korelitz Presents The Latecomer\, in conversation with Christina Baker Kline
DESCRIPTION:From the New York Times bestselling author of The Plot\, Jean Hanff Korelitz’s The Latecomer is a layered and immersive literary novel about three siblings\, desperate to escape one another\, and the upending of their family by the late arrival of a fourth.
URL:https://downtownny.com/event/jean-hanff-korelitz-presents-the-latecomer-in-conversation-with-christina-baker-kline/
CATEGORIES:Arts & Culture
END:VEVENT
BEGIN:VEVENT
DTSTART;TZID=America/New_York:20220601T190000
DTEND;TZID=America/New_York:20220602T000000
DTSTAMP:20260421T214005
CREATED:20220527T134912Z
LAST-MODIFIED:20220527T134912Z
UID:45581-1654110000-1654128000@downtownny.com
SUMMARY:J O B – A Simple Man
DESCRIPTION:In an intense and musical dramatization\, J O B – A Simple Man tells the story of an emigrant’s journey from the old world-a little village in Russia-to the new world in New York. Mendel Singer\, much like Job in the Hebrew Bible\, loses everything. He despairs and curses\, but ultimately experiences a miracle. Adapted by Karen-Maria Bille from Joseph Roth’s 1930 novel of the same name\, this powerful production stars award-winning Danish actor Ina-Miriam Rosenbaum in every role. Rosenbaum is directed by Rolf Heim and joined onstage by principal oboist of the Danish Royal Orchestra Henrik Goldshmidt and Indian-Danish accordion virtuoso Anders Singh Vesterdahl. As audiences follow Mendel Singer from joy to deep despair\, and through to hope and comfort\, the performance’s offbeat music lifts the story of one person into a universally relatable tale about the experience of being a refugee and the challenges of encountering a new world.
URL:https://downtownny.com/event/j-o-b-a-simple-man/
LOCATION:Museum of Jewish Heritage
CATEGORIES:Arts & Culture
END:VEVENT
END:VCALENDAR