BEGIN:VCALENDAR
VERSION:2.0
PRODID:-//Downtown Alliance - ECPv6.15.20//NONSGML v1.0//EN
CALSCALE:GREGORIAN
METHOD:PUBLISH
X-ORIGINAL-URL:https://downtownny.com
X-WR-CALDESC:Events for Downtown Alliance
REFRESH-INTERVAL;VALUE=DURATION:PT1H
X-Robots-Tag:noindex
X-PUBLISHED-TTL:PT1H
BEGIN:VTIMEZONE
TZID:America/New_York
BEGIN:DAYLIGHT
TZOFFSETFROM:-0500
TZOFFSETTO:-0400
TZNAME:EDT
DTSTART:20200308T070000
END:DAYLIGHT
BEGIN:STANDARD
TZOFFSETFROM:-0400
TZOFFSETTO:-0500
TZNAME:EST
DTSTART:20201101T060000
END:STANDARD
BEGIN:DAYLIGHT
TZOFFSETFROM:-0500
TZOFFSETTO:-0400
TZNAME:EDT
DTSTART:20210314T070000
END:DAYLIGHT
BEGIN:STANDARD
TZOFFSETFROM:-0400
TZOFFSETTO:-0500
TZNAME:EST
DTSTART:20211107T060000
END:STANDARD
BEGIN:DAYLIGHT
TZOFFSETFROM:-0500
TZOFFSETTO:-0400
TZNAME:EDT
DTSTART:20220313T070000
END:DAYLIGHT
BEGIN:STANDARD
TZOFFSETFROM:-0400
TZOFFSETTO:-0500
TZNAME:EST
DTSTART:20221106T060000
END:STANDARD
BEGIN:DAYLIGHT
TZOFFSETFROM:-0500
TZOFFSETTO:-0400
TZNAME:EDT
DTSTART:20230312T070000
END:DAYLIGHT
BEGIN:STANDARD
TZOFFSETFROM:-0400
TZOFFSETTO:-0500
TZNAME:EST
DTSTART:20231105T060000
END:STANDARD
END:VTIMEZONE
BEGIN:VEVENT
DTSTART;TZID=America/New_York:20211209T190000
DTEND;TZID=America/New_York:20221209T000000
DTSTAMP:20260422T073827
CREATED:20211129T151620Z
LAST-MODIFIED:20211129T151620Z
UID:42199-1639076400-1670544000@downtownny.com
SUMMARY:Transforming Moments: A Conversation With Diane Von Furstenberg
DESCRIPTION:Before she was an international fashion icon and a member of the TIME 100\, Diane von Furstenberg was a young girl growing up with parents who had just survived the Holocaust. Her father\, originally from Moldova\, escaped the Nazis in Switzerland. Her mother\, originally from Greece\, fought the Nazis as a member of the resistance until she was captured and sent to Auschwitz. Join the Museum for a conversation with von Furstenberg about her identity as the daughter of survivors and how it has informed her remarkable career at the helm of one of the world’s most recognizable brands. She will be in conversation with Dr. Eva Fogelman\, renowned psychologist and author of the Pulitzer Prize-nominated book Conscience and Courage: Rescuers of Jews During the Holocaust.
URL:https://downtownny.com/event/transforming-moments-a-conversation-with-diane-von-furstenberg/
LOCATION:Museum of Jewish Heritage
CATEGORIES:Arts & Culture
END:VEVENT
BEGIN:VEVENT
DTSTART;TZID=America/New_York:20220704T000000
DTEND;TZID=America/New_York:20220830T000000
DTSTAMP:20260422T073827
CREATED:20220630T134854Z
LAST-MODIFIED:20220630T134854Z
UID:45992-1656892800-1661817600@downtownny.com
SUMMARY:Shall Make\, Shall Be: The Bill of Rights at Play
DESCRIPTION:Presentation of a curatorial project which invited 10 independent artists and game designers to create playable artworks themed around the individual amendments in the Bill of Rights\, drawing on their effects\, interpretations\, and legal meanings in U.S. culture. On September 25\, 1789\, 12 Amendments to the still fledgling U.S. Constitution were enacted at Federal Hall by the first Congress. Sent to the States for ratification\, ten would be approved and become known as the Bill of Rights. Stewarded by Representative James Madison\, this codification of individual rights\, was an integral compromise for the unification of the United States. Alongside this history\, is the recognition and duty to communicate that this exhibit sits on Lenapehoking: a land stolen from the Indigenous Lenape peoples who continue to live in New York City and beyond. These works are intended to be understood as critical games\, using the mechanisms of play to interrogate\, critique\, and inform common understanding of civil liberties in the 21st Century.
URL:https://downtownny.com/event/shall-make-shall-be-the-bill-of-rights-at-play/
LOCATION:Federal Hall
CATEGORIES:Arts & Culture
END:VEVENT
BEGIN:VEVENT
DTSTART;TZID=America/New_York:20220706T110000
DTEND;TZID=America/New_York:20220710T170000
DTSTAMP:20260422T073827
CREATED:20220630T135056Z
LAST-MODIFIED:20220630T135056Z
UID:45999-1657105200-1657472400@downtownny.com
SUMMARY:South Street Seaport Museum
DESCRIPTION:Take a self guided tour of the tall ship Wavertree\, and visit the 12 Fulton Street galleries to view the exhibitions “South Street and the Rise of New York” and “Millions: Migrants and Millionares aboard the Great Liners.”
URL:https://downtownny.com/event/south-street-seaport-museum-4/
LOCATION:South Street Seaport Museum
CATEGORIES:Arts & Culture
END:VEVENT
BEGIN:VEVENT
DTSTART;TZID=America/New_York:20220709T090000
DTEND;TZID=America/New_York:20220709T090000
DTSTAMP:20260422T073827
CREATED:20220630T135559Z
LAST-MODIFIED:20220630T135559Z
UID:46013-1657357200-1657357200@downtownny.com
SUMMARY:Family Farm Volunteer Day at The Battery Urban Farm
DESCRIPTION:Join us at The Battery Urban Farm for some projects for all ages in the vegetable farm.
URL:https://downtownny.com/event/family-farm-volunteer-day-at-the-battery-urban-farm-3/
CATEGORIES:Wellness
END:VEVENT
BEGIN:VEVENT
DTSTART;TZID=America/New_York:20220709T100000
DTEND;TZID=America/New_York:20220709T120000
DTSTAMP:20260422T073827
CREATED:20220630T135559Z
LAST-MODIFIED:20220630T135559Z
UID:46014-1657360800-1657368000@downtownny.com
SUMMARY:Drawing in the Park
DESCRIPTION:Paint in watercolor or use pastels and other drawing materials to capture the magical vistas of the Hudson River and the unique landscape of South Cove. An artist/educator will help participants of all levels with instruction and critique. Materials provided\, and artists are encouraged to bring their own favorite media.
URL:https://downtownny.com/event/drawing-in-the-park-24/
LOCATION:South Cove
CATEGORIES:Arts & Culture
END:VEVENT
BEGIN:VEVENT
DTSTART;TZID=America/New_York:20220709T103000
DTEND;TZID=America/New_York:20220709T103000
DTSTAMP:20260422T073827
CREATED:20220630T135559Z
LAST-MODIFIED:20220630T135559Z
UID:46015-1657362600-1657362600@downtownny.com
SUMMARY:Making Structures Strong: The Significance of Domes!
DESCRIPTION:Have you ever wondered how a dome is built? The first dome of the U.S. Capitol\, completed in the 1820s\, was made of wood and covered in copper. The magnificent dome we know today was completed in 1866 and is made of cast iron! In honor of The Fourth of July young learners will be introduced to the architectural significance and strength of domes by learning about the U.S Capitol current and past buildings. Afterwards we will work together to build domes of our own using newspaper\, tape\, and teamwork! Ages 6+. RSVP required. This indoor program meets at the Skyscraper Museum\, 39 Battery Pl. Masks are required for indoor programs. For those who prefer the Zoom option for this in-person program\, please email programs@skyscraper.org.
URL:https://downtownny.com/event/making-structures-strong-the-significance-of-domes/
LOCATION:Skyscraper Museum
CATEGORIES:Arts & Culture
END:VEVENT
BEGIN:VEVENT
DTSTART;TZID=America/New_York:20220709T103000
DTEND;TZID=America/New_York:20220709T130000
DTSTAMP:20260422T073827
CREATED:20220630T135358Z
LAST-MODIFIED:20220712T140945Z
UID:46010-1657362600-1657371600@downtownny.com
SUMMARY:Life & Death in Manhattan Walking Tour
DESCRIPTION:Lively 2.5-hour tour of Battery Park\, the Financial District\, Tribeca\, the Civic Center\, and Chinatown. Meet at the Staten Island Ferry Terminal. Discover more than four centuries of life and death in Manhattan.
URL:https://downtownny.com/event/life-death-in-manhattan-walking-tour-2/
LOCATION:Staten Island Ferry
CATEGORIES:Tours
END:VEVENT
BEGIN:VEVENT
DTSTART;TZID=America/New_York:20220709T110000
DTEND;TZID=America/New_York:20220709T130000
DTSTAMP:20260422T073827
CREATED:20220630T135559Z
LAST-MODIFIED:20220630T135559Z
UID:46016-1657364400-1657371600@downtownny.com
SUMMARY:Revolutionary New York
DESCRIPTION:Walking tour. Experience the spellbinding story of the events leading up to the American Revolution while walking on the very streets where it happened\, from the Stamp Act of 1765 through General Washington’s Farewell at the end of the War for Independence in 1783.
URL:https://downtownny.com/event/revolutionary-new-york/
CATEGORIES:Tours
END:VEVENT
BEGIN:VEVENT
DTSTART;TZID=America/New_York:20220709T110000
DTEND;TZID=America/New_York:20220709T180000
DTSTAMP:20260422T073827
CREATED:20220630T135759Z
LAST-MODIFIED:20220630T135759Z
UID:46017-1657364400-1657389600@downtownny.com
SUMMARY:Hester Street Fair Ice Cream Social
DESCRIPTION:The best ice cream vendors from across the five boroughs bring us their finest flavors to compete for the chance to claim this year’s acclaimed ‘Audience Award’. The Social’s reputation is pretty darn good when you consider that thousands of people have shown up years past— including Leo DiCaprio and his mom— but don’t be intimidated\, as all it takes to vote is $10 which gives you one vote and a 2oz sample of each vendors’ signature flavor for the day. The votes will be tallied at 4:30pm and a winner announced at 5 pm. The fate of NYC’s ice cream obsession is in your hands!
URL:https://downtownny.com/event/hester-street-fair-ice-cream-social/
LOCATION:Pier 17
CATEGORIES:Arts & Culture
END:VEVENT
BEGIN:VEVENT
DTSTART;TZID=America/New_York:20220709T130000
DTEND;TZID=America/New_York:20220709T130000
DTSTAMP:20260422T073827
CREATED:20220630T135759Z
LAST-MODIFIED:20220630T135759Z
UID:46018-1657371600-1657371600@downtownny.com
SUMMARY:Textile and Design Panel
DESCRIPTION:Join artist Cat Schmitz for a con­ver­sa­tion with a pan­el of cre­atives to learn about how dif­fer­ent arti­sans inte­grate tex­tiles into their design prac­tice. Hear from design­ers work­ing in fab­ric design\, inte­ri­ors\, fash­ion\, and more.
URL:https://downtownny.com/event/textile-and-design-panel/
CATEGORIES:Arts & Culture
END:VEVENT
BEGIN:VEVENT
DTSTART;TZID=America/New_York:20220709T140000
DTEND;TZID=America/New_York:20220709T140000
DTSTAMP:20260422T073827
CREATED:20220630T135800Z
LAST-MODIFIED:20220630T135800Z
UID:46019-1657375200-1657375200@downtownny.com
SUMMARY:Prehistoric New York: Underwater Dominion
DESCRIPTION:Family-friendly experience hosted by dinosaur expert and author Dustin Growick. The event will begin at Cannon’s Walk\, 206 Front Street\, and move out to Pier 16. The event is recommended for ages 6+. You’ll be introduced to some of the creatures that currently reside in and around New York Harbor as well as get a look at some archeological artifacts from the sea that shaped the history of the South Street Seaport Historic District. Hands-on activities and exploration will give you new insights on some of the strangest prehistoric aquatic animals who once called the waters of New York home.
URL:https://downtownny.com/event/prehistoric-new-york-underwater-dominion/
LOCATION:Pier 16
CATEGORIES:Arts & Culture
END:VEVENT
BEGIN:VEVENT
DTSTART;TZID=America/New_York:20220709T200000
DTEND;TZID=America/New_York:20220709T200000
DTSTAMP:20260422T073827
CREATED:20220630T135800Z
LAST-MODIFIED:20220630T135800Z
UID:46020-1657396800-1657396800@downtownny.com
SUMMARY:Jin Yong: The Lord of the Swords
DESCRIPTION:One of the most widely read 20th-century writers\, Jin Yong enjoys enormous popularity in the Chinese-speaking world with the panoramic fictional universes he created through his novels. He modernized and elevated the wuxia genre to a new height by blending in poetry\, history and fantasy\, and his epic novels inspired countless film\, television and video game adaptations. His creations have been compared to J. R. R. Tolkien’s “The Lord of the Rings”. By the time of his death in 2018\, he was the best-selling Chinese author with over 100 million copies of his books sold worldwide. The Renwen Society presents a lecture on July 9 on the literary giant by Prof. Chen Hong\, a scholar on Jin Yong\, with whom he had also maintained a close personal friendship. At the lecture\, Prof. Chen will explore Jin Yong’s place in Chinese literature\, unique features of his novels as well as his interactions and exchanges with the master.
URL:https://downtownny.com/event/jin-yong-the-lord-of-the-swords/
CATEGORIES:Arts & Culture
END:VEVENT
END:VCALENDAR