BEGIN:VCALENDAR
VERSION:2.0
PRODID:-//Downtown Alliance - ECPv6.15.20//NONSGML v1.0//EN
CALSCALE:GREGORIAN
METHOD:PUBLISH
X-ORIGINAL-URL:https://downtownny.com
X-WR-CALDESC:Events for Downtown Alliance
REFRESH-INTERVAL;VALUE=DURATION:PT1H
X-Robots-Tag:noindex
X-PUBLISHED-TTL:PT1H
BEGIN:VTIMEZONE
TZID:America/New_York
BEGIN:DAYLIGHT
TZOFFSETFROM:-0500
TZOFFSETTO:-0400
TZNAME:EDT
DTSTART:20200308T070000
END:DAYLIGHT
BEGIN:STANDARD
TZOFFSETFROM:-0400
TZOFFSETTO:-0500
TZNAME:EST
DTSTART:20201101T060000
END:STANDARD
BEGIN:DAYLIGHT
TZOFFSETFROM:-0500
TZOFFSETTO:-0400
TZNAME:EDT
DTSTART:20210314T070000
END:DAYLIGHT
BEGIN:STANDARD
TZOFFSETFROM:-0400
TZOFFSETTO:-0500
TZNAME:EST
DTSTART:20211107T060000
END:STANDARD
BEGIN:DAYLIGHT
TZOFFSETFROM:-0500
TZOFFSETTO:-0400
TZNAME:EDT
DTSTART:20220313T070000
END:DAYLIGHT
BEGIN:STANDARD
TZOFFSETFROM:-0400
TZOFFSETTO:-0500
TZNAME:EST
DTSTART:20221106T060000
END:STANDARD
BEGIN:DAYLIGHT
TZOFFSETFROM:-0500
TZOFFSETTO:-0400
TZNAME:EDT
DTSTART:20230312T070000
END:DAYLIGHT
BEGIN:STANDARD
TZOFFSETFROM:-0400
TZOFFSETTO:-0500
TZNAME:EST
DTSTART:20231105T060000
END:STANDARD
END:VTIMEZONE
BEGIN:VEVENT
DTSTART;TZID=America/New_York:20211209T190000
DTEND;TZID=America/New_York:20221209T000000
DTSTAMP:20260422T131956
CREATED:20211129T151620Z
LAST-MODIFIED:20211129T151620Z
UID:42199-1639076400-1670544000@downtownny.com
SUMMARY:Transforming Moments: A Conversation With Diane Von Furstenberg
DESCRIPTION:Before she was an international fashion icon and a member of the TIME 100\, Diane von Furstenberg was a young girl growing up with parents who had just survived the Holocaust. Her father\, originally from Moldova\, escaped the Nazis in Switzerland. Her mother\, originally from Greece\, fought the Nazis as a member of the resistance until she was captured and sent to Auschwitz. Join the Museum for a conversation with von Furstenberg about her identity as the daughter of survivors and how it has informed her remarkable career at the helm of one of the world’s most recognizable brands. She will be in conversation with Dr. Eva Fogelman\, renowned psychologist and author of the Pulitzer Prize-nominated book Conscience and Courage: Rescuers of Jews During the Holocaust.
URL:https://downtownny.com/event/transforming-moments-a-conversation-with-diane-von-furstenberg/
LOCATION:Museum of Jewish Heritage
CATEGORIES:Arts & Culture
END:VEVENT
BEGIN:VEVENT
DTSTART;TZID=America/New_York:20220704T000000
DTEND;TZID=America/New_York:20220830T000000
DTSTAMP:20260422T131956
CREATED:20220630T134854Z
LAST-MODIFIED:20220630T134854Z
UID:45992-1656892800-1661817600@downtownny.com
SUMMARY:Shall Make\, Shall Be: The Bill of Rights at Play
DESCRIPTION:Presentation of a curatorial project which invited 10 independent artists and game designers to create playable artworks themed around the individual amendments in the Bill of Rights\, drawing on their effects\, interpretations\, and legal meanings in U.S. culture. On September 25\, 1789\, 12 Amendments to the still fledgling U.S. Constitution were enacted at Federal Hall by the first Congress. Sent to the States for ratification\, ten would be approved and become known as the Bill of Rights. Stewarded by Representative James Madison\, this codification of individual rights\, was an integral compromise for the unification of the United States. Alongside this history\, is the recognition and duty to communicate that this exhibit sits on Lenapehoking: a land stolen from the Indigenous Lenape peoples who continue to live in New York City and beyond. These works are intended to be understood as critical games\, using the mechanisms of play to interrogate\, critique\, and inform common understanding of civil liberties in the 21st Century.
URL:https://downtownny.com/event/shall-make-shall-be-the-bill-of-rights-at-play/
LOCATION:Federal Hall
CATEGORIES:Arts & Culture
END:VEVENT
BEGIN:VEVENT
DTSTART;TZID=America/New_York:20220720T110000
DTEND;TZID=America/New_York:20220724T170000
DTSTAMP:20260422T131956
CREATED:20220630T143656Z
LAST-MODIFIED:20220630T143656Z
UID:46065-1658314800-1658682000@downtownny.com
SUMMARY:South Street Seaport Museum
DESCRIPTION:Take a self guided tour of the tall ship Wavertree\, and visit the 12 Fulton Street galleries to view the exhibitions “South Street and the Rise of New York” and “Millions: Migrants and Millionares aboard the Great Liners.”
URL:https://downtownny.com/event/south-street-seaport-museum-6/
LOCATION:South Street Seaport Museum
CATEGORIES:Arts & Culture
END:VEVENT
BEGIN:VEVENT
DTSTART;TZID=America/New_York:20220721T103000
DTEND;TZID=America/New_York:20220721T113000
DTSTAMP:20260422T131956
CREATED:20220630T143757Z
LAST-MODIFIED:20220630T143757Z
UID:46070-1658399400-1658403000@downtownny.com
SUMMARY:Pick Up Pickleball
DESCRIPTION:An exciting fusion of badminton and tennis\, pickleball has been proven to strengthen muscles\, boost cardiovascular health\, and enhance brain function. BPCA is proudly working with NYC Pickleball to offer beginner pickleball classes to the community. All equipment will be provided. Registration required\, please email: registration@bpca.ny.gov
URL:https://downtownny.com/event/pick-up-pickleball-3/
CATEGORIES:Community
END:VEVENT
BEGIN:VEVENT
DTSTART;TZID=America/New_York:20220721T130000
DTEND;TZID=America/New_York:20220721T130000
DTSTAMP:20260422T131956
CREATED:20220630T143757Z
LAST-MODIFIED:20220630T143757Z
UID:46071-1658408400-1658408400@downtownny.com
SUMMARY:Tour of The Battery Urban Farm
DESCRIPTION:Tour of the urban vegetable farm and perennial forest farm\, led by park staff. RSVP is required for this event. Please note that this tour is intended for ages 13 and up.
URL:https://downtownny.com/event/tour-of-the-battery-urban-farm-13/
CATEGORIES:Tours
END:VEVENT
BEGIN:VEVENT
DTSTART;TZID=America/New_York:20220721T180000
DTEND;TZID=America/New_York:20220721T180000
DTSTAMP:20260422T131956
CREATED:20220630T143858Z
LAST-MODIFIED:20220630T143858Z
UID:46073-1658426400-1658426400@downtownny.com
SUMMARY:Jazz Roots Dance: The Jo Jo Smith Legacy Project
DESCRIPTION:The Jo Jo Smith Legacy Project documents and preserves Jo Jo Smith’s original works along with styling and training techniques of the jazz dance icon. JoJo Smith\, the veteran Broadway dancer who helped define disco in Hollywood films as one of the go-to contemporary choreographers and coaches of the 1970s disco era. He worked with John Travolta\, Barbra Streisand\, Debbie Allen\, and more. Jazz Roots Dance Company is dedicated to the preservation of the classic jazz dance form\, and aims to entertain and educate all generations about the roots of classic jazz dance. The Jazz Roots Dance Company Company premiered its first full length production “Jazz on the West Side” in 2014. Other performances include New York City Center’s Career Transitions for Dancers 30th Anniversary Pearl Jubilee and Dumbo Dance Festival\, where Jazz Roots performed “Down into Muddy Water” in the classic jazz style of Matt Mattox.
URL:https://downtownny.com/event/jazz-roots-dance-the-jo-jo-smith-legacy-project/
CATEGORIES:Arts & Culture
END:VEVENT
BEGIN:VEVENT
DTSTART;TZID=America/New_York:20220721T180000
DTEND;TZID=America/New_York:20220721T203000
DTSTAMP:20260422T131956
CREATED:20220630T143857Z
LAST-MODIFIED:20220630T143857Z
UID:46072-1658426400-1658435400@downtownny.com
SUMMARY:River and Blues: Lady Wray
DESCRIPTION:Virginia-born artist Nicole Wray shows off her dexterous range of singing and songwriting\, infusing hints of soul\, R&B\, and hip-hop into head-nodding\, funky stories with the power to heal.
URL:https://downtownny.com/event/river-and-blues-lady-wray/
LOCATION:Wagner Park
CATEGORIES:Arts & Culture
END:VEVENT
END:VCALENDAR