BEGIN:VCALENDAR
VERSION:2.0
PRODID:-//Downtown Alliance - ECPv6.15.20//NONSGML v1.0//EN
CALSCALE:GREGORIAN
METHOD:PUBLISH
X-ORIGINAL-URL:https://downtownny.com
X-WR-CALDESC:Events for Downtown Alliance
REFRESH-INTERVAL;VALUE=DURATION:PT1H
X-Robots-Tag:noindex
X-PUBLISHED-TTL:PT1H
BEGIN:VTIMEZONE
TZID:America/New_York
BEGIN:DAYLIGHT
TZOFFSETFROM:-0500
TZOFFSETTO:-0400
TZNAME:EDT
DTSTART:20220313T070000
END:DAYLIGHT
BEGIN:STANDARD
TZOFFSETFROM:-0400
TZOFFSETTO:-0500
TZNAME:EST
DTSTART:20221106T060000
END:STANDARD
BEGIN:DAYLIGHT
TZOFFSETFROM:-0500
TZOFFSETTO:-0400
TZNAME:EDT
DTSTART:20230312T070000
END:DAYLIGHT
BEGIN:STANDARD
TZOFFSETFROM:-0400
TZOFFSETTO:-0500
TZNAME:EST
DTSTART:20231105T060000
END:STANDARD
BEGIN:DAYLIGHT
TZOFFSETFROM:-0500
TZOFFSETTO:-0400
TZNAME:EDT
DTSTART:20240310T070000
END:DAYLIGHT
BEGIN:STANDARD
TZOFFSETFROM:-0400
TZOFFSETTO:-0500
TZNAME:EST
DTSTART:20241103T060000
END:STANDARD
BEGIN:DAYLIGHT
TZOFFSETFROM:-0500
TZOFFSETTO:-0400
TZNAME:EDT
DTSTART:20250309T070000
END:DAYLIGHT
BEGIN:STANDARD
TZOFFSETFROM:-0400
TZOFFSETTO:-0500
TZNAME:EST
DTSTART:20251102T060000
END:STANDARD
END:VTIMEZONE
BEGIN:VEVENT
DTSTART;TZID=America/New_York:20231226T000000
DTEND;TZID=America/New_York:20240119T000000
DTSTAMP:20260424T103142
CREATED:20231130T220656Z
LAST-MODIFIED:20231130T220656Z
UID:60306-1703548800-1705622400@downtownny.com
SUMMARY:Recycle Your Tree
DESCRIPTION:Help Battery Park City stay green this holiday season! Please deposit your tree without decorations on the curb. Park Operations will pick up trees until Jan 26. Trees are chipped and used for mulch in the parks of Battery Park City.
URL:https://downtownny.com/event/recycle-your-tree-2/
CATEGORIES:Community
END:VEVENT
BEGIN:VEVENT
DTSTART;TZID=America/New_York:20240105T000000
DTEND;TZID=America/New_York:20240114T000000
DTSTAMP:20260424T103142
CREATED:20231229T185606Z
LAST-MODIFIED:20231229T185606Z
UID:60886-1704412800-1705190400@downtownny.com
SUMMARY:Motion/Matter: Street Dance Festival
DESCRIPTION:An international festival celebrating the multitude of street dance movements emerging from New York City and beyond\, featuring legendary DJs\, epic battles\, and concert dance premieres. Motion/Matter brings together an intergenerational intersection of today’s hottest artists\, dancers\, and choreographers to share the awe-inspiring talent that has evolved into a global phenomenon.
URL:https://downtownny.com/event/motion-matter-street-dance-festival/
CATEGORIES:Arts & Culture
END:VEVENT
BEGIN:VEVENT
DTSTART;TZID=America/New_York:20240106T110000
DTEND;TZID=America/New_York:20240106T110000
DTSTAMP:20260424T103142
CREATED:20231229T185610Z
LAST-MODIFIED:20231229T185610Z
UID:60889-1704538800-1704538800@downtownny.com
SUMMARY:Kids Breaking League
DESCRIPTION:Part of Motion/Matter: Street Dance Festival. Kids Breaking League is a community of coaches\, parents\, enthusiasts and leaders who are guiding today’s youth to become leaders and members of this global community known as “Breaking”.
URL:https://downtownny.com/event/kids-breaking-league/
CATEGORIES:Arts & Culture
END:VEVENT
BEGIN:VEVENT
DTSTART;TZID=America/New_York:20240106T190000
DTEND;TZID=America/New_York:20240106T190000
DTSTAMP:20260424T103142
CREATED:20231229T185611Z
LAST-MODIFIED:20231229T185611Z
UID:60890-1704567600-1704567600@downtownny.com
SUMMARY:Stéphane San Juan
DESCRIPTION:Stéphane San Juan is a French drummer\, singer\, and composer who seamlessly blends Samba\, Jazz\, and Afro-Brazilian styles.
URL:https://downtownny.com/event/stephane-san-juan/
CATEGORIES:Arts & Culture
END:VEVENT
END:VCALENDAR