BEGIN:VCALENDAR
VERSION:2.0
PRODID:-//Downtown Alliance - ECPv6.15.20//NONSGML v1.0//EN
CALSCALE:GREGORIAN
METHOD:PUBLISH
X-WR-CALNAME:Downtown Alliance
X-ORIGINAL-URL:https://downtownny.com
X-WR-CALDESC:Events for Downtown Alliance
REFRESH-INTERVAL;VALUE=DURATION:PT1H
X-Robots-Tag:noindex
X-PUBLISHED-TTL:PT1H
BEGIN:VTIMEZONE
TZID:America/New_York
BEGIN:DAYLIGHT
TZOFFSETFROM:-0500
TZOFFSETTO:-0400
TZNAME:EDT
DTSTART:20230312T070000
END:DAYLIGHT
BEGIN:STANDARD
TZOFFSETFROM:-0400
TZOFFSETTO:-0500
TZNAME:EST
DTSTART:20231105T060000
END:STANDARD
BEGIN:DAYLIGHT
TZOFFSETFROM:-0500
TZOFFSETTO:-0400
TZNAME:EDT
DTSTART:20240310T070000
END:DAYLIGHT
BEGIN:STANDARD
TZOFFSETFROM:-0400
TZOFFSETTO:-0500
TZNAME:EST
DTSTART:20241103T060000
END:STANDARD
BEGIN:DAYLIGHT
TZOFFSETFROM:-0500
TZOFFSETTO:-0400
TZNAME:EDT
DTSTART:20250309T070000
END:DAYLIGHT
BEGIN:STANDARD
TZOFFSETFROM:-0400
TZOFFSETTO:-0500
TZNAME:EST
DTSTART:20251102T060000
END:STANDARD
END:VTIMEZONE
BEGIN:VEVENT
DTSTART;VALUE=DATE:20241226
DTEND;VALUE=DATE:20250101
DTSTAMP:20260422T192701
CREATED:20241205T193653Z
LAST-MODIFIED:20241205T193706Z
UID:102649-1735171200-1735689599@downtownny.com
SUMMARY:FIDE WORLD RAPID AND BLITZ CHESS CHAMPIONSHIP
DESCRIPTION:One of the most popular and prestigious chess tournaments held by the International Chess Federation (FIDE)\, the World Rapid & Blitz\, will be held in North America for the first time ever. The championship\, attracting 300 of the best players from around the world\, will take place in New York City’s financial district on December 26-31\, 2024. \nThis six-day event will showcase elite chess players from every continent as they converge on the heart of Wall Street. A prize fund of nearly $1.5 million will be presented at the tournament. Freedom Holding Corp. (NASDAQ: FRHC)\, a multi-national diversified financial services holding company is the title sponsor for the championship. \nThis year’s event introduces a thrilling twist: a knockout stage in the later rounds\, making it even more challenging for the players. This new format raises the stakes\, ensuring dramatic finishes and keeping players and fans on edge until the final move. \nFor the first time ever\, there will be a day without competitive play\, which will be used to host a Conference on Chess and Finance\, bringing together chess legends and financial leaders to explore the fascinating intersections between the two worlds. \nFans wishing to experience the event in person can now purchase tickets\, available at: https://tickets.fide.com/
URL:https://downtownny.com/event/fide-world-rapid-blitz-chess-championship/
LOCATION:Wall Street Park
ATTACH;FMTTYPE=image/png:https://downtownny.com/wp-content/uploads/2024/11/Freedom-chess-1.png
END:VEVENT
END:VCALENDAR