BEGIN:VCALENDAR
VERSION:2.0
PRODID:-//Downtown Alliance - ECPv6.15.20//NONSGML v1.0//EN
CALSCALE:GREGORIAN
METHOD:PUBLISH
X-ORIGINAL-URL:https://downtownny.com
X-WR-CALDESC:Events for Downtown Alliance
REFRESH-INTERVAL;VALUE=DURATION:PT1H
X-Robots-Tag:noindex
X-PUBLISHED-TTL:PT1H
BEGIN:VTIMEZONE
TZID:America/New_York
BEGIN:DAYLIGHT
TZOFFSETFROM:-0500
TZOFFSETTO:-0400
TZNAME:EDT
DTSTART:20240310T070000
END:DAYLIGHT
BEGIN:STANDARD
TZOFFSETFROM:-0400
TZOFFSETTO:-0500
TZNAME:EST
DTSTART:20241103T060000
END:STANDARD
BEGIN:DAYLIGHT
TZOFFSETFROM:-0500
TZOFFSETTO:-0400
TZNAME:EDT
DTSTART:20250309T070000
END:DAYLIGHT
BEGIN:STANDARD
TZOFFSETFROM:-0400
TZOFFSETTO:-0500
TZNAME:EST
DTSTART:20251102T060000
END:STANDARD
BEGIN:DAYLIGHT
TZOFFSETFROM:-0500
TZOFFSETTO:-0400
TZNAME:EDT
DTSTART:20260308T070000
END:DAYLIGHT
BEGIN:STANDARD
TZOFFSETFROM:-0400
TZOFFSETTO:-0500
TZNAME:EST
DTSTART:20261101T060000
END:STANDARD
END:VTIMEZONE
BEGIN:VEVENT
DTSTART;TZID=America/New_York:20250104T110000
DTEND;TZID=America/New_York:20250105T163000
DTSTAMP:20260424T043453
CREATED:20250102T152712Z
LAST-MODIFIED:20250102T152712Z
UID:103707-1735988400-1736094600@downtownny.com
SUMMARY:South Street Seaport Museum Family Activity Weekend
DESCRIPTION:Let your creativity fly at the Seaport Museum by making your own signal flag swags. For centuries\, flags were the only form of communication between ships at sea\, and between ships and the shore. In the 19th century\, signaling with special flags developed into a system capable of passing several types of information and relatively elaborate messages. This even became a successful form of communication between crews who didn’t share a common language. Learn more about how sailors communicate using these vibrant flags that feature different patterns\, shapes\, and colors\, while making your own banner that spells out whatever message you like. There will also be opportunities to use your new-found skill by decoding others’ signal flag messages.
URL:https://downtownny.com/event/south-street-seaport-museum-family-activity-weekend/
CATEGORIES:Arts & Culture
END:VEVENT
BEGIN:VEVENT
DTSTART;TZID=America/New_York:20250104T150000
DTEND;TZID=America/New_York:20250104T150000
DTSTAMP:20260424T043453
CREATED:20250102T152712Z
LAST-MODIFIED:20250102T152712Z
UID:103708-1736002800-1736002800@downtownny.com
SUMMARY:Three Kings Day/Los Tres Reyes Celebration with Poetry and Music of Puerto Rico
DESCRIPTION:Enjoy Three Kings Day traditions with live music\, poets\, and an open mic for guest poets from the audience. Learn how children in Puerto Rico leave a box with hay or grass for the kings’ camels under their beds (like cookies for Santa) on the night before the holiday. Presented by Nuyorican Poets Café\, rooted in the Puerto Rican/ Afro Caribbean legacy of spoken word and honoring history by creating forums for expression and experimentation\, in partnership with the Battery Park City Authority. All ages welcome!
URL:https://downtownny.com/event/three-kings-day-los-tres-reyes-celebration-with-poetry-and-music-of-puerto-rico/
CATEGORIES:Arts & Culture
END:VEVENT
BEGIN:VEVENT
DTSTART;TZID=America/New_York:20250104T160000
DTEND;TZID=America/New_York:20250104T160000
DTSTAMP:20260424T043453
CREATED:20250102T152713Z
LAST-MODIFIED:20250102T152713Z
UID:103709-1736006400-1736006400@downtownny.com
SUMMARY:A Memorial Tribute to David Shapiro
DESCRIPTION:Longtime friends and fellow artists pay tribute to the life and work of David Shapiro. With Elaine Equi\, Mohammed Fairouz\, Kate Farrell\, Joanna Fuhrman\, Jim Jarmusch\, Rodger Kamenetz\, Phil Kline\, Phillip Lopate\, Charles North\, Ron Padgett\, Daryl Pinckney\, Lucy Sante\, Tony Towle\, James Venit\, John Yau\, and other friends. As a child\, David Shapiro\, a widely renowned\, much-loved poet\, teacher\, and art historian\, was a violin and literary prodigy. At 10\, he decided to be poet\, and within a few years\, met Kenneth Koch\, Frank O’Hara\, and the movement now known as the New York School—of which he would\, with time\, be considered a leading poet\, proponent and scribe.
URL:https://downtownny.com/event/a-memorial-tribute-to-david-shapiro/
CATEGORIES:Arts & Culture
END:VEVENT
BEGIN:VEVENT
DTSTART;TZID=America/New_York:20250104T200000
DTEND;TZID=America/New_York:20250104T200000
DTSTAMP:20260424T043453
CREATED:20250102T152713Z
LAST-MODIFIED:20250102T152713Z
UID:103710-1736020800-1736020800@downtownny.com
SUMMARY:Emily Hahn: The Extraordinary Life and Legacy of a Cross-Cultural Adventurer
DESCRIPTION:Online lecture. Emily Hahn (1905–1997)\, known as Xiang Meili in Chinese\, was a lifelong columnist for The New Yorker and one of the most prolific and adventurous writers of the 20th century. Her fascinating life journey spanned three continents—Africa\, Asia\, and Europe—where she fearlessly delved into diverse cultures and penned over 50 books\, including more than ten focused on China. Works such as Mr. Pan\, The Soong Sisters\, and China to Me became bestsellers in the U.S. during the 1930s and 1940s\, garnering widespread acclaim. Despite her achievements\, Hahn has become an overlooked literary gem in contemporary America. In recent years\, her works have been reintroduced to Chinese audiences\, though much remains to be discovered about her extraordinary life and writings.
URL:https://downtownny.com/event/emily-hahn-the-extraordinary-life-and-legacy-of-a-cross-cultural-adventurer/
CATEGORIES:Arts & Culture
END:VEVENT
END:VCALENDAR