BEGIN:VCALENDAR
VERSION:2.0
PRODID:-//Downtown Alliance - ECPv6.15.20//NONSGML v1.0//EN
CALSCALE:GREGORIAN
METHOD:PUBLISH
X-WR-CALNAME:Downtown Alliance
X-ORIGINAL-URL:https://downtownny.com
X-WR-CALDESC:Events for Downtown Alliance
REFRESH-INTERVAL;VALUE=DURATION:PT1H
X-Robots-Tag:noindex
X-PUBLISHED-TTL:PT1H
BEGIN:VTIMEZONE
TZID:America/New_York
BEGIN:DAYLIGHT
TZOFFSETFROM:-0500
TZOFFSETTO:-0400
TZNAME:EDT
DTSTART:20240310T070000
END:DAYLIGHT
BEGIN:STANDARD
TZOFFSETFROM:-0400
TZOFFSETTO:-0500
TZNAME:EST
DTSTART:20241103T060000
END:STANDARD
BEGIN:DAYLIGHT
TZOFFSETFROM:-0500
TZOFFSETTO:-0400
TZNAME:EDT
DTSTART:20250309T070000
END:DAYLIGHT
BEGIN:STANDARD
TZOFFSETFROM:-0400
TZOFFSETTO:-0500
TZNAME:EST
DTSTART:20251102T060000
END:STANDARD
BEGIN:DAYLIGHT
TZOFFSETFROM:-0500
TZOFFSETTO:-0400
TZNAME:EDT
DTSTART:20260308T070000
END:DAYLIGHT
BEGIN:STANDARD
TZOFFSETFROM:-0400
TZOFFSETTO:-0500
TZNAME:EST
DTSTART:20261101T060000
END:STANDARD
END:VTIMEZONE
BEGIN:VEVENT
DTSTART;TZID=America/New_York:20250108T130000
DTEND;TZID=America/New_York:20250108T140000
DTSTAMP:20260422T060018
CREATED:20250102T152719Z
LAST-MODIFIED:20250102T152719Z
UID:103716-1736341200-1736344800@downtownny.com
SUMMARY:Downtown Beats Chorus
DESCRIPTION:Directed by Church Street School of Music\, the Downtown Beats adult chorus is open to all who love to sing! Learn contemporary and classic songs and perform at community events throughout the yea
URL:https://downtownny.com/event/downtown-beats-chorus-11/
CATEGORIES:Community
END:VEVENT
BEGIN:VEVENT
DTSTART;TZID=America/New_York:20250108T180000
DTEND;TZID=America/New_York:20250108T180000
DTSTAMP:20260422T060018
CREATED:20250102T152918Z
LAST-MODIFIED:20250102T152918Z
UID:103717-1736359200-1736359200@downtownny.com
SUMMARY:More Mass Timber
DESCRIPTION:The final program in The Skyscraper Museum’s TALL TIMBER series turns the attention to New York City. This free in-person event will be held at the architectural office of SOM and will bring together the four teams of architects invited by New York magazine critic JUSTIN DAVIDSON for his feature article on possible futures for Mass Timber in New York. Davidson’s piece will appear online the week of the program and in print the following week\, so this panel discussion is both a preview of that project and the culminating event of the series conceived around the Museum’s exhibition\, TALL TIMBER: The Future of Cities in Wood\, which will close on Saturday\, January 11th.
URL:https://downtownny.com/event/more-mass-timber/
CATEGORIES:Arts & Culture
END:VEVENT
BEGIN:VEVENT
DTSTART;TZID=America/New_York:20250108T183000
DTEND;TZID=America/New_York:20250108T183000
DTSTAMP:20260422T060018
CREATED:20250102T152918Z
LAST-MODIFIED:20250102T152918Z
UID:103718-1736361000-1736361000@downtownny.com
SUMMARY:Playworld: A Novel
DESCRIPTION:Book reading.  Less a bildungsroman than a story of miseducation\, Playworld is a novel of epic proportions\, bursting with laughter and heartache.
URL:https://downtownny.com/event/playworld-a-novel/
CATEGORIES:Arts & Culture
END:VEVENT
END:VCALENDAR