BEGIN:VCALENDAR
VERSION:2.0
PRODID:-//Downtown Alliance - ECPv6.15.20//NONSGML v1.0//EN
CALSCALE:GREGORIAN
METHOD:PUBLISH
X-WR-CALNAME:Downtown Alliance
X-ORIGINAL-URL:https://downtownny.com
X-WR-CALDESC:Events for Downtown Alliance
REFRESH-INTERVAL;VALUE=DURATION:PT1H
X-Robots-Tag:noindex
X-PUBLISHED-TTL:PT1H
BEGIN:VTIMEZONE
TZID:America/New_York
BEGIN:DAYLIGHT
TZOFFSETFROM:-0500
TZOFFSETTO:-0400
TZNAME:EDT
DTSTART:20240310T070000
END:DAYLIGHT
BEGIN:STANDARD
TZOFFSETFROM:-0400
TZOFFSETTO:-0500
TZNAME:EST
DTSTART:20241103T060000
END:STANDARD
BEGIN:DAYLIGHT
TZOFFSETFROM:-0500
TZOFFSETTO:-0400
TZNAME:EDT
DTSTART:20250309T070000
END:DAYLIGHT
BEGIN:STANDARD
TZOFFSETFROM:-0400
TZOFFSETTO:-0500
TZNAME:EST
DTSTART:20251102T060000
END:STANDARD
BEGIN:DAYLIGHT
TZOFFSETFROM:-0500
TZOFFSETTO:-0400
TZNAME:EDT
DTSTART:20260308T070000
END:DAYLIGHT
BEGIN:STANDARD
TZOFFSETFROM:-0400
TZOFFSETTO:-0500
TZNAME:EST
DTSTART:20261101T060000
END:STANDARD
END:VTIMEZONE
BEGIN:VEVENT
DTSTART;TZID=America/New_York:20250111T100000
DTEND;TZID=America/New_York:20250111T120000
DTSTAMP:20260422T020231
CREATED:20250102T153320Z
LAST-MODIFIED:20250102T153320Z
UID:103728-1736589600-1736596800@downtownny.com
SUMMARY:Stewardship Day at Gotham Park
DESCRIPTION:Clean-up and gardening.
URL:https://downtownny.com/event/stewardship-day-at-gotham-park-3/
CATEGORIES:Arts & Culture
END:VEVENT
BEGIN:VEVENT
DTSTART;TZID=America/New_York:20250111T103000
DTEND;TZID=America/New_York:20250111T103000
DTSTAMP:20260422T020231
CREATED:20250102T153321Z
LAST-MODIFIED:20250102T153321Z
UID:103729-1736591400-1736591400@downtownny.com
SUMMARY:New Year\, New Buildings!
DESCRIPTION:Happy New Year! In 2025\, many new buildings in New York City are being planned\, constructed\, and finished! We will learn about how NYC’s iconic skyline will be changing this year\, as well as the process of approval for building something new in the city. After\, we will be finishing our own skyscrapers with the most important part–the top! Let’s create our own building spires out of paper\, cardboard\, and construction materials! All ages welcome.
URL:https://downtownny.com/event/new-year-new-buildings/
CATEGORIES:Arts & Culture
END:VEVENT
BEGIN:VEVENT
DTSTART;TZID=America/New_York:20250111T110000
DTEND;TZID=America/New_York:20250112T163000
DTSTAMP:20260422T020231
CREATED:20250102T153321Z
LAST-MODIFIED:20250102T153321Z
UID:103730-1736593200-1736699400@downtownny.com
SUMMARY:South Street Seaport Museum Family Activity Weekend
DESCRIPTION:Let your creativity fly at the Seaport Museum by making your own signal flag swags. For centuries\, flags were the only form of communication between ships at sea\, and between ships and the shore. In the 19th century\, signaling with special flags developed into a system capable of passing several types of information and relatively elaborate messages. This even became a successful form of communication between crews who didn’t share a common language. Learn more about how sailors communicate using these vibrant flags that feature different patterns\, shapes\, and colors\, while making your own banner that spells out whatever message you like. There will also be opportunities to use your new-found skill by decoding others’ signal flag messages.
URL:https://downtownny.com/event/south-street-seaport-museum-family-activity-weekend-2/
CATEGORIES:Arts & Culture
END:VEVENT
BEGIN:VEVENT
DTSTART;TZID=America/New_York:20250111T140000
DTEND;TZID=America/New_York:20250111T140000
DTSTAMP:20260422T020231
CREATED:20250102T153521Z
LAST-MODIFIED:20250102T153521Z
UID:103732-1736604000-1736604000@downtownny.com
SUMMARY:Sinister Secrets of the Seaport Walking Tour
DESCRIPTION:90-minute walking tour that will take you on a winding journey that unravels the darker past of the South Street Seaport Historic District and Lower Manhattan.
URL:https://downtownny.com/event/sinister-secrets-of-the-seaport-walking-tour-22/
CATEGORIES:Tours
END:VEVENT
BEGIN:VEVENT
DTSTART;TZID=America/New_York:20250111T140000
DTEND;TZID=America/New_York:20250111T170000
DTSTAMP:20260422T020231
CREATED:20250102T153322Z
LAST-MODIFIED:20250102T153322Z
UID:103731-1736604000-1736614800@downtownny.com
SUMMARY:Downtown New Year Lunar Celebration
DESCRIPTION:Ring in the Year of the Snake with the PS 150 community. Activities include lion dance\, Chinese paper cutting workshop\, Korean traditional dance performance\, tasting menu from local restaurants\, Chinese shadow puppetry\, martial arts demo\, Chinese sugar painting\, and more.
URL:https://downtownny.com/event/downtown-new-year-lunar-celebration/
CATEGORIES:Arts & Culture
END:VEVENT
END:VCALENDAR