BEGIN:VCALENDAR
VERSION:2.0
PRODID:-//Downtown Alliance - ECPv6.15.20//NONSGML v1.0//EN
CALSCALE:GREGORIAN
METHOD:PUBLISH
X-WR-CALNAME:Downtown Alliance
X-ORIGINAL-URL:https://downtownny.com
X-WR-CALDESC:Events for Downtown Alliance
REFRESH-INTERVAL;VALUE=DURATION:PT1H
X-Robots-Tag:noindex
X-PUBLISHED-TTL:PT1H
BEGIN:VTIMEZONE
TZID:America/New_York
BEGIN:DAYLIGHT
TZOFFSETFROM:-0500
TZOFFSETTO:-0400
TZNAME:EDT
DTSTART:20240310T070000
END:DAYLIGHT
BEGIN:STANDARD
TZOFFSETFROM:-0400
TZOFFSETTO:-0500
TZNAME:EST
DTSTART:20241103T060000
END:STANDARD
BEGIN:DAYLIGHT
TZOFFSETFROM:-0500
TZOFFSETTO:-0400
TZNAME:EDT
DTSTART:20250309T070000
END:DAYLIGHT
BEGIN:STANDARD
TZOFFSETFROM:-0400
TZOFFSETTO:-0500
TZNAME:EST
DTSTART:20251102T060000
END:STANDARD
BEGIN:DAYLIGHT
TZOFFSETFROM:-0500
TZOFFSETTO:-0400
TZNAME:EDT
DTSTART:20260308T070000
END:DAYLIGHT
BEGIN:STANDARD
TZOFFSETFROM:-0400
TZOFFSETTO:-0500
TZNAME:EST
DTSTART:20261101T060000
END:STANDARD
END:VTIMEZONE
BEGIN:VEVENT
DTSTART;TZID=America/New_York:20250115T110000
DTEND;TZID=America/New_York:20250115T110000
DTSTAMP:20260424T124424
CREATED:20250102T153723Z
LAST-MODIFIED:20250102T153723Z
UID:103739-1736938800-1736938800@downtownny.com
SUMMARY:Virtual Walking Tour: Buenos Aires\, Argentina
DESCRIPTION:Buenos Aires is home to the largest Jewish population in Latin America\, with a history that dates back to the 19th century when the first Jewish immigrants arrived. This live-stream tour takes you through the rich history and vibrant culture of the Argentinian-Jewish community\, from its early beginnings to its thriving presence today.
URL:https://downtownny.com/event/virtual-walking-tour-buenos-aires-argentina/
CATEGORIES:Tours
END:VEVENT
BEGIN:VEVENT
DTSTART;TZID=America/New_York:20250115T130000
DTEND;TZID=America/New_York:20250115T140000
DTSTAMP:20260424T124424
CREATED:20250102T153723Z
LAST-MODIFIED:20250102T153723Z
UID:103740-1736946000-1736949600@downtownny.com
SUMMARY:Downtown Beats Chorus
DESCRIPTION:Directed by Church Street School of Music\, the Downtown Beats adult chorus is open to all who love to sing! Learn contemporary and classic songs and perform at community events throughout the yea
URL:https://downtownny.com/event/downtown-beats-chorus-12/
CATEGORIES:Community
END:VEVENT
BEGIN:VEVENT
DTSTART;TZID=America/New_York:20250115T180000
DTEND;TZID=America/New_York:20250115T180000
DTSTAMP:20260424T124424
CREATED:20250102T153724Z
LAST-MODIFIED:20250102T153724Z
UID:103741-1736964000-1736964000@downtownny.com
SUMMARY:Blood and the Badge
DESCRIPTION:Book reading and signing by Michael Cannell\, author of Blood and the Badge.
URL:https://downtownny.com/event/blood-and-the-badge/
CATEGORIES:Arts & Culture
END:VEVENT
END:VCALENDAR