BEGIN:VCALENDAR
VERSION:2.0
PRODID:-//Downtown Alliance - ECPv6.15.20//NONSGML v1.0//EN
CALSCALE:GREGORIAN
METHOD:PUBLISH
X-WR-CALNAME:Downtown Alliance
X-ORIGINAL-URL:https://downtownny.com
X-WR-CALDESC:Events for Downtown Alliance
REFRESH-INTERVAL;VALUE=DURATION:PT1H
X-Robots-Tag:noindex
X-PUBLISHED-TTL:PT1H
BEGIN:VTIMEZONE
TZID:America/New_York
BEGIN:DAYLIGHT
TZOFFSETFROM:-0500
TZOFFSETTO:-0400
TZNAME:EDT
DTSTART:20240310T070000
END:DAYLIGHT
BEGIN:STANDARD
TZOFFSETFROM:-0400
TZOFFSETTO:-0500
TZNAME:EST
DTSTART:20241103T060000
END:STANDARD
BEGIN:DAYLIGHT
TZOFFSETFROM:-0500
TZOFFSETTO:-0400
TZNAME:EDT
DTSTART:20250309T070000
END:DAYLIGHT
BEGIN:STANDARD
TZOFFSETFROM:-0400
TZOFFSETTO:-0500
TZNAME:EST
DTSTART:20251102T060000
END:STANDARD
BEGIN:DAYLIGHT
TZOFFSETFROM:-0500
TZOFFSETTO:-0400
TZNAME:EDT
DTSTART:20260308T070000
END:DAYLIGHT
BEGIN:STANDARD
TZOFFSETFROM:-0400
TZOFFSETTO:-0500
TZNAME:EST
DTSTART:20261101T060000
END:STANDARD
END:VTIMEZONE
BEGIN:VEVENT
DTSTART;TZID=America/New_York:20250205T000000
DTEND;TZID=America/New_York:20250208T000000
DTSTAMP:20260421T194012
CREATED:20250130T174711Z
LAST-MODIFIED:20250130T174711Z
UID:104347-1738713600-1738972800@downtownny.com
SUMMARY:SCAT!… The Complex Lives of Al & Dot\, Dot & Al Zollar
DESCRIPTION:Urban Bush Women\, the groundbreaking dance company known for amplifying underrepresented voices and unheard stories of Black Women+\, continues their 40th anniversary season with the NYC premiere of SCAT!… The Complex Lives of Al & Dot\, Dot & Al Zollar. Through song\, dance\, and storytelling\, Urban Bush Women tell the powerful love story of two people making their way through the Great Migration\, inspired by founder Jawole Willa Jo Zollar’s childhood in Kansas City’s Black neighborhoods. With live music composed by Craig Harris and a cast of electrifying performers\, SCAT! pays tribute to the joyous resilience and rich legacy of Black floor shows.
URL:https://downtownny.com/event/scat-the-complex-lives-of-al-dot-dot-al-zollar/
CATEGORIES:Arts & Culture
END:VEVENT
BEGIN:VEVENT
DTSTART;TZID=America/New_York:20250206T100000
DTEND;TZID=America/New_York:20250206T120000
DTSTAMP:20260421T194012
CREATED:20250130T174713Z
LAST-MODIFIED:20250130T174713Z
UID:104350-1738836000-1738843200@downtownny.com
SUMMARY:Mah Jongg & More
DESCRIPTION:Join a dedicated group of Mah Jongg enthusiasts for friendly games\, or try your hand at other card and board games.
URL:https://downtownny.com/event/mah-jongg-more-73/
CATEGORIES:Community
END:VEVENT
BEGIN:VEVENT
DTSTART;TZID=America/New_York:20250206T130000
DTEND;TZID=America/New_York:20250206T150000
DTSTAMP:20260421T194012
CREATED:20250130T174713Z
LAST-MODIFIED:20250130T174713Z
UID:104351-1738846800-1738854000@downtownny.com
SUMMARY:Craft Studio
DESCRIPTION:Open studio craft session.
URL:https://downtownny.com/event/craft-studio-28/
CATEGORIES:Arts & Culture
END:VEVENT
BEGIN:VEVENT
DTSTART;TZID=America/New_York:20250206T180000
DTEND;TZID=America/New_York:20250206T180000
DTSTAMP:20260421T194012
CREATED:20250130T174912Z
LAST-MODIFIED:20250130T174912Z
UID:104353-1738864800-1738864800@downtownny.com
SUMMARY:Fresh Prints
DESCRIPTION:This open house will feature a breadth of printing equipment that you will be invited to use. You’ll get to see how the designers at Bowne lock up limited edition designs that showcase some of the more eccentric parts from the Seaport Museum’s printing and graphic arts collection. Established in 1775\, the original Bowne & Co.\, Inc. was one of New York’s oldest printing firms. The Bowne & Co. that you can experience today at the Seaport Museum is an offshoot of the original and continues the age-old tradition of job (or small batch) printing.
URL:https://downtownny.com/event/fresh-prints-18/
CATEGORIES:Arts & Culture
END:VEVENT
BEGIN:VEVENT
DTSTART;TZID=America/New_York:20250206T183000
DTEND;TZID=America/New_York:20250206T183000
DTSTAMP:20260421T194012
CREATED:20250130T174913Z
LAST-MODIFIED:20250130T174913Z
UID:104354-1738866600-1738866600@downtownny.com
SUMMARY:Walter Mosley
DESCRIPTION:Reading. Walter Mosley presents Been Wrong So Long It Feels Like Right\, with Kellye Garrett. In the latest from “mystery master” Walter Mosley\, a family member’s terminal illness leads P.I. Joe King Oliver to the investigation of his life: tracking down his long-lost father\, and meanwhile\, a new case pits King’s professional responsibility against his own moral code.
URL:https://downtownny.com/event/walter-mosley/
CATEGORIES:Arts & Culture
END:VEVENT
END:VCALENDAR