BEGIN:VCALENDAR
VERSION:2.0
PRODID:-//Downtown Alliance - ECPv6.15.20//NONSGML v1.0//EN
CALSCALE:GREGORIAN
METHOD:PUBLISH
X-ORIGINAL-URL:https://downtownny.com
X-WR-CALDESC:Events for Downtown Alliance
REFRESH-INTERVAL;VALUE=DURATION:PT1H
X-Robots-Tag:noindex
X-PUBLISHED-TTL:PT1H
BEGIN:VTIMEZONE
TZID:America/New_York
BEGIN:DAYLIGHT
TZOFFSETFROM:-0500
TZOFFSETTO:-0400
TZNAME:EDT
DTSTART:20240310T070000
END:DAYLIGHT
BEGIN:STANDARD
TZOFFSETFROM:-0400
TZOFFSETTO:-0500
TZNAME:EST
DTSTART:20241103T060000
END:STANDARD
BEGIN:DAYLIGHT
TZOFFSETFROM:-0500
TZOFFSETTO:-0400
TZNAME:EDT
DTSTART:20250309T070000
END:DAYLIGHT
BEGIN:STANDARD
TZOFFSETFROM:-0400
TZOFFSETTO:-0500
TZNAME:EST
DTSTART:20251102T060000
END:STANDARD
BEGIN:DAYLIGHT
TZOFFSETFROM:-0500
TZOFFSETTO:-0400
TZNAME:EDT
DTSTART:20260308T070000
END:DAYLIGHT
BEGIN:STANDARD
TZOFFSETFROM:-0400
TZOFFSETTO:-0500
TZNAME:EST
DTSTART:20261101T060000
END:STANDARD
END:VTIMEZONE
BEGIN:VEVENT
DTSTART;TZID=America/New_York:20250210T110000
DTEND;TZID=America/New_York:20250221T000000
DTSTAMP:20260421T141934
CREATED:20250130T175517Z
LAST-MODIFIED:20250130T175517Z
UID:104372-1739185200-1740096000@downtownny.com
SUMMARY:Animation Celebration
DESCRIPTION:The museum’s Animation Celebration! features eight creative Indigenous animated films that offer colorful stories of magical tales\, humorous encounters\, and hidden histories.
URL:https://downtownny.com/event/animation-celebration/
CATEGORIES:Arts & Culture
END:VEVENT
BEGIN:VEVENT
DTSTART;TZID=America/New_York:20250213T100000
DTEND;TZID=America/New_York:20250213T120000
DTSTAMP:20260421T141934
CREATED:20250130T175823Z
LAST-MODIFIED:20250130T175823Z
UID:104385-1739440800-1739448000@downtownny.com
SUMMARY:Mah Jongg & More
DESCRIPTION:Join a dedicated group of Mah Jongg enthusiasts for friendly games\, or try your hand at other card and board games.
URL:https://downtownny.com/event/mah-jongg-more-75/
CATEGORIES:Community
END:VEVENT
BEGIN:VEVENT
DTSTART;TZID=America/New_York:20250213T110000
DTEND;TZID=America/New_York:20250213T120000
DTSTAMP:20260421T141934
CREATED:20250130T175826Z
LAST-MODIFIED:20250130T175826Z
UID:104386-1739444400-1739448000@downtownny.com
SUMMARY:Meet Me in the Kitchen: Making Healthy Choices
DESCRIPTION:Nutritionist Lauren C. Kelly offers creative twists on classic recipes\, food prep and cooking trends. From appetizers\, to entrees\, to dessert\, learn how to design menus using helpful tips and current research findings for better health and eating. Registration required.
URL:https://downtownny.com/event/meet-me-in-the-kitchen-making-healthy-choices-16/
LOCATION:Asphalt Green
CATEGORIES:Community
END:VEVENT
BEGIN:VEVENT
DTSTART;TZID=America/New_York:20250213T130000
DTEND;TZID=America/New_York:20250213T150000
DTSTAMP:20260421T141934
CREATED:20250130T175828Z
LAST-MODIFIED:20250130T175828Z
UID:104387-1739451600-1739458800@downtownny.com
SUMMARY:Craft Studio
DESCRIPTION:Open studio craft session.
URL:https://downtownny.com/event/craft-studio-29/
CATEGORIES:Arts & Culture
END:VEVENT
BEGIN:VEVENT
DTSTART;TZID=America/New_York:20250213T173000
DTEND;TZID=America/New_York:20250213T173000
DTSTAMP:20260421T141934
CREATED:20250130T175831Z
LAST-MODIFIED:20250130T175831Z
UID:104388-1739467800-1739467800@downtownny.com
SUMMARY:Black Girl Magic Day Celebration 2025
DESCRIPTION:Public event hosted by the City Council.
URL:https://downtownny.com/event/black-girl-magic-day-celebration-2025/
CATEGORIES:Arts & Culture
END:VEVENT
BEGIN:VEVENT
DTSTART;TZID=America/New_York:20250213T180000
DTEND;TZID=America/New_York:20250213T180000
DTSTAMP:20260421T141934
CREATED:20250130T180018Z
LAST-MODIFIED:20250130T180018Z
UID:104389-1739469600-1739469600@downtownny.com
SUMMARY:A Conversation with Peter Hessler
DESCRIPTION:An evening with acclaimed author and journalist Peter Hessler\, whose works have illuminated the intricate connections between people\, cultures\, and history. Hessler will join Susan Yuqing Feng\, Director of Programs at the China Institute in America\, for an engaging discussion about his latest book\, Other Rivers. In Other Rivers\, Hessler delves into the lives and landscapes shaped by the world’s waterways\, offering readers a compelling exploration of adaptation\, resilience\, and transformation.
URL:https://downtownny.com/event/a-conversation-with-peter-hessler/
CATEGORIES:Arts & Culture
END:VEVENT
BEGIN:VEVENT
DTSTART;TZID=America/New_York:20250213T180000
DTEND;TZID=America/New_York:20250213T180000
DTSTAMP:20260421T141934
CREATED:20250130T180019Z
LAST-MODIFIED:20250130T180019Z
UID:104390-1739469600-1739469600@downtownny.com
SUMMARY:Tu BiShevat Celebration
DESCRIPTION:Come celebrate Frutikas – Tu BiShevat with the Museum of Jewish Heritage and the Sephardic Jewish Brotherhood of America! Tu BiShevat\, the fifteenth day of the Jewish month of Shevat\, is designated as the “new year of trees.” In the Sephardic tradition\, this is celebrated by having a Seder referred to as Frutikas in Ladino (lit. little fruits)\, which highlights the symbolic meaning of various fruits and marks the beginning of the annual growth cycle in the land of Israel. This event will feature a mini-seder in Hebrew\, Ladino\, and English\, along with traditional food and music from the Sephardic community.
URL:https://downtownny.com/event/tu-bishevat-celebration/
CATEGORIES:Arts & Culture
END:VEVENT
BEGIN:VEVENT
DTSTART;TZID=America/New_York:20250213T183000
DTEND;TZID=America/New_York:20250213T183000
DTSTAMP:20260421T141934
CREATED:20250130T180020Z
LAST-MODIFIED:20250130T180020Z
UID:104392-1739471400-1739471400@downtownny.com
SUMMARY:Figure humaine  
DESCRIPTION:Trinity Choir\, led by director Melissa Attebury\, presents a stirring collection of works created in the crucible of World War II. Showcasing the power of music to confront tyranny\, honor voices of courage\, and transform our darkest hours\, the program culminates in Francis Poulenc’s choral masterpiece\, Figure humaine. Composed in secret during the Nazi occupation of France and set to text by poet Paul Éluard\, this hymn to freedom moves from introspective grief to defiant triumph\, ending with a resounding final declaration: “Liberté.”
URL:https://downtownny.com/event/figure-humaine/
CATEGORIES:Arts & Culture
END:VEVENT
BEGIN:VEVENT
DTSTART;TZID=America/New_York:20250213T183000
DTEND;TZID=America/New_York:20250213T203000
DTSTAMP:20260421T141934
CREATED:20250130T180019Z
LAST-MODIFIED:20250130T180019Z
UID:104391-1739471400-1739478600@downtownny.com
SUMMARY:Latin American Film Series
DESCRIPTION:This series explores modern and contemporary Latin America through cinema. Tonight\, see Rosa Chumbe (Jonatan Relayze\, 2015) a mature police officer is forced to take care of her grandson after her daughter steals her savings. Everything takes a wrong turn one night. Only a miracle can save her. Free popcorn will be served\, and a discussion will follow the screenings.
URL:https://downtownny.com/event/latin-american-film-series-2/
CATEGORIES:Arts & Culture
END:VEVENT
END:VCALENDAR