BEGIN:VCALENDAR
VERSION:2.0
PRODID:-//Downtown Alliance - ECPv6.15.20//NONSGML v1.0//EN
CALSCALE:GREGORIAN
METHOD:PUBLISH
X-ORIGINAL-URL:https://downtownny.com
X-WR-CALDESC:Events for Downtown Alliance
REFRESH-INTERVAL;VALUE=DURATION:PT1H
X-Robots-Tag:noindex
X-PUBLISHED-TTL:PT1H
BEGIN:VTIMEZONE
TZID:America/New_York
BEGIN:DAYLIGHT
TZOFFSETFROM:-0500
TZOFFSETTO:-0400
TZNAME:EDT
DTSTART:20240310T070000
END:DAYLIGHT
BEGIN:STANDARD
TZOFFSETFROM:-0400
TZOFFSETTO:-0500
TZNAME:EST
DTSTART:20241103T060000
END:STANDARD
BEGIN:DAYLIGHT
TZOFFSETFROM:-0500
TZOFFSETTO:-0400
TZNAME:EDT
DTSTART:20250309T070000
END:DAYLIGHT
BEGIN:STANDARD
TZOFFSETFROM:-0400
TZOFFSETTO:-0500
TZNAME:EST
DTSTART:20251102T060000
END:STANDARD
BEGIN:DAYLIGHT
TZOFFSETFROM:-0500
TZOFFSETTO:-0400
TZNAME:EDT
DTSTART:20260308T070000
END:DAYLIGHT
BEGIN:STANDARD
TZOFFSETFROM:-0400
TZOFFSETTO:-0500
TZNAME:EST
DTSTART:20261101T060000
END:STANDARD
END:VTIMEZONE
BEGIN:VEVENT
DTSTART;TZID=America/New_York:20250210T110000
DTEND;TZID=America/New_York:20250221T000000
DTSTAMP:20260424T045618
CREATED:20250130T175517Z
LAST-MODIFIED:20250130T175517Z
UID:104372-1739185200-1740096000@downtownny.com
SUMMARY:Animation Celebration
DESCRIPTION:The museum’s Animation Celebration! features eight creative Indigenous animated films that offer colorful stories of magical tales\, humorous encounters\, and hidden histories.
URL:https://downtownny.com/event/animation-celebration/
CATEGORIES:Arts & Culture
END:VEVENT
BEGIN:VEVENT
DTSTART;TZID=America/New_York:20250220T130000
DTEND;TZID=America/New_York:20250220T150000
DTSTAMP:20260424T045618
CREATED:20250130T180854Z
LAST-MODIFIED:20250130T180854Z
UID:104415-1740056400-1740063600@downtownny.com
SUMMARY:Craft Studio
DESCRIPTION:Open studio craft session.
URL:https://downtownny.com/event/craft-studio-30/
CATEGORIES:Arts & Culture
END:VEVENT
BEGIN:VEVENT
DTSTART;TZID=America/New_York:20250220T170000
DTEND;TZID=America/New_York:20250220T210000
DTSTAMP:20260424T045618
CREATED:20250130T180854Z
LAST-MODIFIED:20250130T180854Z
UID:104416-1740070800-1740085200@downtownny.com
SUMMARY:It Happened Here : A Celebration of the New York Cocktail
DESCRIPTION:Evening dedicated to the historic cocktails that define the Big Apple. Sip on familiar and unfamiliar classic drinks while mingling with fellow cocktail enthusiasts. Our expert mixologists will be on hand to share the history behind each drink.  Lower Manhattan has been America’s town square since its founding as Fort Amsterdam in 1624. Key global events— and nearly every aspect of national and local significance—can be traced to this New York “stage”. To kick off the United States’ upcoming 250th birthday and celebrate the 400th anniversary of the founding of New York\, It Happened Here in July 2025 will compress 400 years into 5 days. Special events\, tours\, panels\, and other programming will re-activate the sites where America began\, supplemented with cultureNOW’s digital museum without walls app.
URL:https://downtownny.com/event/it-happened-here-a-celebration-of-the-new-york-cocktail/
CATEGORIES:Arts & Culture
END:VEVENT
BEGIN:VEVENT
DTSTART;TZID=America/New_York:20250220T180000
DTEND;TZID=America/New_York:20250220T180000
DTSTAMP:20260424T045618
CREATED:20250130T180854Z
LAST-MODIFIED:20250130T180854Z
UID:104417-1740074400-1740074400@downtownny.com
SUMMARY:Flirtation Cards: Press Your Luck in Love
DESCRIPTION:Join the Seaport Museum and Downtown Alliance for a post-Valentine’s Day singles mixer and workshop at the 19th century-style letterpress print shop Bowne & Co. and explore the tradition of acquaintance cards—or flirtation cards—a playful variation on the Victorian calling card.
URL:https://downtownny.com/event/flirtation-cards-press-your-luck-in-love/
CATEGORIES:Arts & Culture
END:VEVENT
BEGIN:VEVENT
DTSTART;TZID=America/New_York:20250220T183000
DTEND;TZID=America/New_York:20250220T183000
DTSTAMP:20260424T045618
CREATED:20250130T180855Z
LAST-MODIFIED:20250130T180855Z
UID:104418-1740076200-1740076200@downtownny.com
SUMMARY:Lorne
DESCRIPTION:Book reading. Susan Morrison presents Lorne: The Man Who Invented Saturday Night Live. The definitive biography of Lorne Michaels\, the man behind America’s most beloved comedy show.
URL:https://downtownny.com/event/lorne/
CATEGORIES:Arts & Culture
END:VEVENT
BEGIN:VEVENT
DTSTART;TZID=America/New_York:20250220T190000
DTEND;TZID=America/New_York:20250220T190000
DTSTAMP:20260424T045618
CREATED:20250130T180919Z
LAST-MODIFIED:20250130T180919Z
UID:104419-1740078000-1740078000@downtownny.com
SUMMARY:“Saints and Liars: Americans Who Saved Jews During the Nazi Years”
DESCRIPTION:Long before their country joined the war\, American aid workers were active in rescue efforts across Europe. In this presentation\, renowned Holocaust scholar Debórah Dwork will focus on such Americans\, many of whom were women. Some\, followed by Nazi agents\, learned secrecy as they spirited people across borders. Others negotiated with government representatives. The new book Saints and Liars illuminates the unpredictable circumstances and often fast-changing historical events with which these rescuers contended\, while revealing the moral questions they encountered and the devastating decisions they had to make. Drawing on a multitude of archival documents\, from letters to diaries and memos\, Prof. Dwork offers a rare glimpse into the lives of individuals who – at times with their organizations’ backing\, but sometimes against their directives – sought to help people find safe-haven from persecution.
URL:https://downtownny.com/event/saints-and-liars-americans-who-saved-jews-during-the-nazi-years/
CATEGORIES:Arts & Culture
END:VEVENT
BEGIN:VEVENT
DTSTART;TZID=America/New_York:20250220T193000
DTEND;TZID=America/New_York:20250220T210000
DTSTAMP:20260424T045618
CREATED:20250130T180920Z
LAST-MODIFIED:20250130T180920Z
UID:104420-1740079800-1740085200@downtownny.com
SUMMARY:NY Laughs
DESCRIPTION:In celebration of Black History Month\, enjoy this evening of stand-up comedy with NY Laughs. This unique non-profit seeks to enrich lives\, build community\, and inspire audiences through the power of laughter.
URL:https://downtownny.com/event/ny-laughs-3/
CATEGORIES:Arts & Culture
END:VEVENT
END:VCALENDAR