BEGIN:VCALENDAR
VERSION:2.0
PRODID:-//Downtown Alliance - ECPv6.15.20//NONSGML v1.0//EN
CALSCALE:GREGORIAN
METHOD:PUBLISH
X-WR-CALNAME:Downtown Alliance
X-ORIGINAL-URL:https://downtownny.com
X-WR-CALDESC:Events for Downtown Alliance
REFRESH-INTERVAL;VALUE=DURATION:PT1H
X-Robots-Tag:noindex
X-PUBLISHED-TTL:PT1H
BEGIN:VTIMEZONE
TZID:America/New_York
BEGIN:DAYLIGHT
TZOFFSETFROM:-0500
TZOFFSETTO:-0400
TZNAME:EDT
DTSTART:20240310T070000
END:DAYLIGHT
BEGIN:STANDARD
TZOFFSETFROM:-0400
TZOFFSETTO:-0500
TZNAME:EST
DTSTART:20241103T060000
END:STANDARD
BEGIN:DAYLIGHT
TZOFFSETFROM:-0500
TZOFFSETTO:-0400
TZNAME:EDT
DTSTART:20250309T070000
END:DAYLIGHT
BEGIN:STANDARD
TZOFFSETFROM:-0400
TZOFFSETTO:-0500
TZNAME:EST
DTSTART:20251102T060000
END:STANDARD
BEGIN:DAYLIGHT
TZOFFSETFROM:-0500
TZOFFSETTO:-0400
TZNAME:EDT
DTSTART:20260308T070000
END:DAYLIGHT
BEGIN:STANDARD
TZOFFSETFROM:-0400
TZOFFSETTO:-0500
TZNAME:EST
DTSTART:20261101T060000
END:STANDARD
END:VTIMEZONE
BEGIN:VEVENT
DTSTART;TZID=America/New_York:20250326T130000
DTEND;TZID=America/New_York:20250326T140000
DTSTAMP:20260423T195040
CREATED:20250303T181605Z
LAST-MODIFIED:20250303T181605Z
UID:105496-1742994000-1742997600@downtownny.com
SUMMARY:Downtown Beats Chorus
DESCRIPTION:Directed by Church Street School of Music\, the Downtown Beats adult chorus is open to all who love to sing! Learn contemporary and classic songs and perform at community events throughout the year.
URL:https://downtownny.com/event/downtown-beats-chorus-20/
CATEGORIES:Community
END:VEVENT
BEGIN:VEVENT
DTSTART;TZID=America/New_York:20250326T140000
DTEND;TZID=America/New_York:20250326T160000
DTSTAMP:20260423T195040
CREATED:20250303T181608Z
LAST-MODIFIED:20250303T181608Z
UID:105497-1742997600-1743004800@downtownny.com
SUMMARY:Figure Drawing
DESCRIPTION:Challenge your artistic skills by drawing the human figure. Each week a model will strike short and long poses for participants to draw. Artists/ educators will offer constructive suggestions and critique. Materials provided\, and artists are encouraged to bring their own favorite media. Free program\, space is limited\, registration required\, please email: registration@bpca.ny.gov.
URL:https://downtownny.com/event/figure-drawing-24/
CATEGORIES:Arts & Culture
END:VEVENT
END:VCALENDAR