BEGIN:VCALENDAR
VERSION:2.0
PRODID:-//Downtown Alliance - ECPv6.15.20//NONSGML v1.0//EN
CALSCALE:GREGORIAN
METHOD:PUBLISH
X-WR-CALNAME:Downtown Alliance
X-ORIGINAL-URL:https://downtownny.com
X-WR-CALDESC:Events for Downtown Alliance
REFRESH-INTERVAL;VALUE=DURATION:PT1H
X-Robots-Tag:noindex
X-PUBLISHED-TTL:PT1H
BEGIN:VTIMEZONE
TZID:America/New_York
BEGIN:DAYLIGHT
TZOFFSETFROM:-0500
TZOFFSETTO:-0400
TZNAME:EDT
DTSTART:20240310T070000
END:DAYLIGHT
BEGIN:STANDARD
TZOFFSETFROM:-0400
TZOFFSETTO:-0500
TZNAME:EST
DTSTART:20241103T060000
END:STANDARD
BEGIN:DAYLIGHT
TZOFFSETFROM:-0500
TZOFFSETTO:-0400
TZNAME:EDT
DTSTART:20250309T070000
END:DAYLIGHT
BEGIN:STANDARD
TZOFFSETFROM:-0400
TZOFFSETTO:-0500
TZNAME:EST
DTSTART:20251102T060000
END:STANDARD
BEGIN:DAYLIGHT
TZOFFSETFROM:-0500
TZOFFSETTO:-0400
TZNAME:EDT
DTSTART:20260308T070000
END:DAYLIGHT
BEGIN:STANDARD
TZOFFSETFROM:-0400
TZOFFSETTO:-0500
TZNAME:EST
DTSTART:20261101T060000
END:STANDARD
END:VTIMEZONE
BEGIN:VEVENT
DTSTART;TZID=America/New_York:20250331T140000
DTEND;TZID=America/New_York:20250331T140000
DTSTAMP:20260420T223650
CREATED:20250303T181631Z
LAST-MODIFIED:20250303T181631Z
UID:105504-1743429600-1743429600@downtownny.com
SUMMARY:Creativing Writing
DESCRIPTION:Walk and writing session led by author and poet Jon Curley.
URL:https://downtownny.com/event/creativing-writing-5/
LOCATION:Battery Park City Library
CATEGORIES:Arts & Culture
END:VEVENT
BEGIN:VEVENT
DTSTART;TZID=America/New_York:20250331T160000
DTEND;TZID=America/New_York:20250331T160000
DTSTAMP:20260420T223650
CREATED:20250303T181632Z
LAST-MODIFIED:20250303T181632Z
UID:105505-1743436800-1743436800@downtownny.com
SUMMARY:Plant Swap/Seed Share
DESCRIPTION:Bring your plants\, cuttings and seeds to exchange. You can still participate without bringing a plant to swap.
URL:https://downtownny.com/event/plant-swap-seed-share-3/
CATEGORIES:Arts & Culture
END:VEVENT
BEGIN:VEVENT
DTSTART;TZID=America/New_York:20250331T183000
DTEND;TZID=America/New_York:20250331T183000
DTSTAMP:20260420T223650
CREATED:20250303T181632Z
LAST-MODIFIED:20250303T181632Z
UID:105506-1743445800-1743445800@downtownny.com
SUMMARY:Seaport Museum Book Club
DESCRIPTION:Maritime-themed book club.
URL:https://downtownny.com/event/seaport-museum-book-club-12/
CATEGORIES:Arts & Culture
END:VEVENT
END:VCALENDAR