BEGIN:VCALENDAR
VERSION:2.0
PRODID:-//Downtown Alliance - ECPv6.15.20//NONSGML v1.0//EN
CALSCALE:GREGORIAN
METHOD:PUBLISH
X-WR-CALNAME:Downtown Alliance
X-ORIGINAL-URL:https://downtownny.com
X-WR-CALDESC:Events for Downtown Alliance
REFRESH-INTERVAL;VALUE=DURATION:PT1H
X-Robots-Tag:noindex
X-PUBLISHED-TTL:PT1H
BEGIN:VTIMEZONE
TZID:America/New_York
BEGIN:DAYLIGHT
TZOFFSETFROM:-0500
TZOFFSETTO:-0400
TZNAME:EDT
DTSTART:20240310T070000
END:DAYLIGHT
BEGIN:STANDARD
TZOFFSETFROM:-0400
TZOFFSETTO:-0500
TZNAME:EST
DTSTART:20241103T060000
END:STANDARD
BEGIN:DAYLIGHT
TZOFFSETFROM:-0500
TZOFFSETTO:-0400
TZNAME:EDT
DTSTART:20250309T070000
END:DAYLIGHT
BEGIN:STANDARD
TZOFFSETFROM:-0400
TZOFFSETTO:-0500
TZNAME:EST
DTSTART:20251102T060000
END:STANDARD
BEGIN:DAYLIGHT
TZOFFSETFROM:-0500
TZOFFSETTO:-0400
TZNAME:EDT
DTSTART:20260308T070000
END:DAYLIGHT
BEGIN:STANDARD
TZOFFSETFROM:-0400
TZOFFSETTO:-0500
TZNAME:EST
DTSTART:20261101T060000
END:STANDARD
BEGIN:DAYLIGHT
TZOFFSETFROM:-0500
TZOFFSETTO:-0400
TZNAME:EDT
DTSTART:20270314T070000
END:DAYLIGHT
BEGIN:STANDARD
TZOFFSETFROM:-0400
TZOFFSETTO:-0500
TZNAME:EST
DTSTART:20271107T060000
END:STANDARD
END:VTIMEZONE
BEGIN:VEVENT
DTSTART;TZID=America/New_York:20250411T000000
DTEND;TZID=America/New_York:20260516T000000
DTSTAMP:20260423T182857
CREATED:20250331T135051Z
LAST-MODIFIED:20250331T135051Z
UID:106250-1744329600-1778889600@downtownny.com
SUMMARY:The Golden Thread: New Adventures in Textile Art by Christian Viveros-Fauné
DESCRIPTION:Fiber art exhibition with multiple artists.
URL:https://downtownny.com/event/the-golden-thread-new-adventures-in-textile-art-by-christian-viveros-faune/
CATEGORIES:Arts & Culture
END:VEVENT
BEGIN:VEVENT
DTSTART;TZID=America/New_York:20250416T000000
DTEND;TZID=America/New_York:20250511T000000
DTSTAMP:20260423T182857
CREATED:20250331T135138Z
LAST-MODIFIED:20250331T135138Z
UID:106266-1744761600-1746921600@downtownny.com
SUMMARY:The Death of Rasputin
DESCRIPTION:Step into a world where his­to­ry is sus­pend­ed\, loy­al­ty is test­ed\, and desire will save you. Cre­at­ed by and fea­tur­ing orig­i­nal cast mem­bers and cre­ative leads of Sleep No More\, The Death of Rasputin isn’t just an immer­sive per­for­mance — it’s a rev­o­lu­tion. Stakes are high. Where will your alle­giance lie?
URL:https://downtownny.com/event/the-death-of-rasputin/
LOCATION:Governors Island
CATEGORIES:Arts & Culture
END:VEVENT
BEGIN:VEVENT
DTSTART;TZID=America/New_York:20250427T080000
DTEND;TZID=America/New_York:20250427T080000
DTSTAMP:20260423T182857
CREATED:20250331T135256Z
LAST-MODIFIED:20250331T135256Z
UID:106312-1745740800-1745740800@downtownny.com
SUMMARY:9/11 Memorial & Museum 5K Run/Walk
DESCRIPTION:Fundraiser. This 5K follows a similar path that rescue and recovery workers took down West Street on their way to Ground Zero on 9/11 and in the days\, weeks\, and months that followed.
URL:https://downtownny.com/event/9-11-memorial-museum-5k-run-walk-2/
CATEGORIES:Arts & Culture
END:VEVENT
BEGIN:VEVENT
DTSTART;TZID=America/New_York:20250427T100000
DTEND;TZID=America/New_York:20250427T140000
DTSTAMP:20260423T182857
CREATED:20250331T135256Z
LAST-MODIFIED:20250331T135256Z
UID:106313-1745748000-1745762400@downtownny.com
SUMMARY:Shred Day
DESCRIPTION:In honor of Earth Day\, clear out your papers and drop them into our mobile shredder in Duane Park for free. Watch your hard drive destroyed on sight.
URL:https://downtownny.com/event/shred-day/
CATEGORIES:Community
END:VEVENT
BEGIN:VEVENT
DTSTART;TZID=America/New_York:20250427T140000
DTEND;TZID=America/New_York:20250427T140000
DTSTAMP:20260423T182857
CREATED:20250331T135257Z
LAST-MODIFIED:20250331T135257Z
UID:106314-1745762400-1745762400@downtownny.com
SUMMARY:Sunday Afternoon Music: Voices of Resilience and Hope
DESCRIPTION:Join us for an uplifting program that elevates emerging artists in our city. Students from Dorrill Initiative\, Borough of Manhattan Community College\, and  Manhattan School of Music perform works ranging from classical standards to beloved theater tunes. 
URL:https://downtownny.com/event/sunday-afternoon-music-voices-of-resilience-and-hope/
CATEGORIES:Arts & Culture
END:VEVENT
END:VCALENDAR