BEGIN:VCALENDAR
VERSION:2.0
PRODID:-//Downtown Alliance - ECPv6.15.20//NONSGML v1.0//EN
CALSCALE:GREGORIAN
METHOD:PUBLISH
X-ORIGINAL-URL:https://downtownny.com
X-WR-CALDESC:Events for Downtown Alliance
REFRESH-INTERVAL;VALUE=DURATION:PT1H
X-Robots-Tag:noindex
X-PUBLISHED-TTL:PT1H
BEGIN:VTIMEZONE
TZID:America/New_York
BEGIN:DAYLIGHT
TZOFFSETFROM:-0500
TZOFFSETTO:-0400
TZNAME:EDT
DTSTART:20240310T070000
END:DAYLIGHT
BEGIN:STANDARD
TZOFFSETFROM:-0400
TZOFFSETTO:-0500
TZNAME:EST
DTSTART:20241103T060000
END:STANDARD
BEGIN:DAYLIGHT
TZOFFSETFROM:-0500
TZOFFSETTO:-0400
TZNAME:EDT
DTSTART:20250309T070000
END:DAYLIGHT
BEGIN:STANDARD
TZOFFSETFROM:-0400
TZOFFSETTO:-0500
TZNAME:EST
DTSTART:20251102T060000
END:STANDARD
BEGIN:DAYLIGHT
TZOFFSETFROM:-0500
TZOFFSETTO:-0400
TZNAME:EDT
DTSTART:20260308T070000
END:DAYLIGHT
BEGIN:STANDARD
TZOFFSETFROM:-0400
TZOFFSETTO:-0500
TZNAME:EST
DTSTART:20261101T060000
END:STANDARD
BEGIN:DAYLIGHT
TZOFFSETFROM:-0500
TZOFFSETTO:-0400
TZNAME:EDT
DTSTART:20270314T070000
END:DAYLIGHT
BEGIN:STANDARD
TZOFFSETFROM:-0400
TZOFFSETTO:-0500
TZNAME:EST
DTSTART:20271107T060000
END:STANDARD
END:VTIMEZONE
BEGIN:VEVENT
DTSTART;TZID=America/New_York:20250411T000000
DTEND;TZID=America/New_York:20260516T000000
DTSTAMP:20260423T125359
CREATED:20250331T135051Z
LAST-MODIFIED:20250331T135051Z
UID:106250-1744329600-1778889600@downtownny.com
SUMMARY:The Golden Thread: New Adventures in Textile Art by Christian Viveros-Fauné
DESCRIPTION:Fiber art exhibition with multiple artists.
URL:https://downtownny.com/event/the-golden-thread-new-adventures-in-textile-art-by-christian-viveros-faune/
CATEGORIES:Arts & Culture
END:VEVENT
BEGIN:VEVENT
DTSTART;TZID=America/New_York:20250603T110000
DTEND;TZID=America/New_York:20250612T190000
DTSTAMP:20260423T125359
CREATED:20250530T195026Z
LAST-MODIFIED:20250530T195026Z
UID:108962-1748948400-1749754800@downtownny.com
SUMMARY:Pickleball
DESCRIPTION:Temporary pickleball courts are set up on Brookfield’s waterfront plaza.
URL:https://downtownny.com/event/pickleball-2/
CATEGORIES:Community
END:VEVENT
BEGIN:VEVENT
DTSTART;TZID=America/New_York:20250607T110000
DTEND;TZID=America/New_York:20250608T170000
DTSTAMP:20260423T125359
CREATED:20250530T195528Z
LAST-MODIFIED:20250530T195528Z
UID:108996-1749294000-1749402000@downtownny.com
SUMMARY:NYC Lavender Festival
DESCRIPTION:Tours\, demon­stra­tions\, mak­er work­shops\, har­vest­ing oppor­tu­ni­ties and fun fam­i­ly activ­i­ties at the Laven­der Field on Gov­er­nors Island — a heal­ing space for com­mu­ni­ty\, bees and the earth\, and the only laven­der field in New York City! You will receive a brief hands-on har­vest­ing tuto­r­i­al and then cut your own take home bou­quet from the sun­ny field over­look­ing But­ter­milk Chan­nel. Suit­able for ages 12 and up. Younger chil­dren may accom­pa­ny you into the field\, but can­not use har­vest­ing tools.
URL:https://downtownny.com/event/nyc-lavender-festival-2/
LOCATION:Governors Island
CATEGORIES:Arts & Culture
END:VEVENT
BEGIN:VEVENT
DTSTART;TZID=America/New_York:20250607T140000
DTEND;TZID=America/New_York:20250608T200000
DTSTAMP:20260423T125359
CREATED:20250530T195628Z
LAST-MODIFIED:20250530T195628Z
UID:108999-1749304800-1749412800@downtownny.com
SUMMARY:Mubadala New York Sail Grand Prix
DESCRIPTION:Watch the world’s top ath­letes from 12 nations race 50-foot fly­ing boats at over 60 mph. On Governors Island\, secure a seat with great views\, food\, music\, and a high-ener­gy fes­ti­val atmos­phere.
URL:https://downtownny.com/event/mubadala-new-york-sail-grand-prix-2/
LOCATION:Governors Island
CATEGORIES:Arts & Culture
END:VEVENT
BEGIN:VEVENT
DTSTART;TZID=America/New_York:20250608T100000
DTEND;TZID=America/New_York:20250608T170000
DTSTAMP:20260423T125359
CREATED:20250530T195828Z
LAST-MODIFIED:20250530T195828Z
UID:109003-1749376800-1749402000@downtownny.com
SUMMARY:Mishpachah Festival
DESCRIPTION:The Hebrew word Mishpachah means family – we invite you to join ours! This day-long Mishpachah Festival will celebrate and explore Jewish genealogy\, heritage\, and immigration with JewishGen\, the Museum’s Jewish Genealogical Research Division and other partners. Engage with your family’s genealogy\, learn about historical immigration\, and reflect on how we tell our individual and collective stories.
URL:https://downtownny.com/event/mishpachah-festival/
CATEGORIES:Arts & Culture
END:VEVENT
BEGIN:VEVENT
DTSTART;TZID=America/New_York:20250608T120000
DTEND;TZID=America/New_York:20250608T120000
DTSTAMP:20260423T125359
CREATED:20250530T195829Z
LAST-MODIFIED:20250530T195829Z
UID:109004-1749384000-1749384000@downtownny.com
SUMMARY:Print Your Own Father's Day Card
DESCRIPTION:Looking for a special Father’s Day gift? Come to Bowne & Co. to join the talented designers to create a festive card for dad using the Museum’s 19th century historical printing equipment.
URL:https://downtownny.com/event/print-your-own-fathers-day-card/
CATEGORIES:Arts & Culture
END:VEVENT
END:VCALENDAR