BEGIN:VCALENDAR
VERSION:2.0
PRODID:-//Downtown Alliance - ECPv6.15.20//NONSGML v1.0//EN
CALSCALE:GREGORIAN
METHOD:PUBLISH
X-WR-CALNAME:Downtown Alliance
X-ORIGINAL-URL:https://downtownny.com
X-WR-CALDESC:Events for Downtown Alliance
REFRESH-INTERVAL;VALUE=DURATION:PT1H
X-Robots-Tag:noindex
X-PUBLISHED-TTL:PT1H
BEGIN:VTIMEZONE
TZID:America/New_York
BEGIN:DAYLIGHT
TZOFFSETFROM:-0500
TZOFFSETTO:-0400
TZNAME:EDT
DTSTART:20240310T070000
END:DAYLIGHT
BEGIN:STANDARD
TZOFFSETFROM:-0400
TZOFFSETTO:-0500
TZNAME:EST
DTSTART:20241103T060000
END:STANDARD
BEGIN:DAYLIGHT
TZOFFSETFROM:-0500
TZOFFSETTO:-0400
TZNAME:EDT
DTSTART:20250309T070000
END:DAYLIGHT
BEGIN:STANDARD
TZOFFSETFROM:-0400
TZOFFSETTO:-0500
TZNAME:EST
DTSTART:20251102T060000
END:STANDARD
BEGIN:DAYLIGHT
TZOFFSETFROM:-0500
TZOFFSETTO:-0400
TZNAME:EDT
DTSTART:20260308T070000
END:DAYLIGHT
BEGIN:STANDARD
TZOFFSETFROM:-0400
TZOFFSETTO:-0500
TZNAME:EST
DTSTART:20261101T060000
END:STANDARD
BEGIN:DAYLIGHT
TZOFFSETFROM:-0500
TZOFFSETTO:-0400
TZNAME:EDT
DTSTART:20270314T070000
END:DAYLIGHT
BEGIN:STANDARD
TZOFFSETFROM:-0400
TZOFFSETTO:-0500
TZNAME:EST
DTSTART:20271107T060000
END:STANDARD
END:VTIMEZONE
BEGIN:VEVENT
DTSTART;TZID=America/New_York:20250411T000000
DTEND;TZID=America/New_York:20260516T000000
DTSTAMP:20260420T140557
CREATED:20250331T135051Z
LAST-MODIFIED:20250331T135051Z
UID:106250-1744329600-1778889600@downtownny.com
SUMMARY:The Golden Thread: New Adventures in Textile Art by Christian Viveros-Fauné
DESCRIPTION:Fiber art exhibition with multiple artists.
URL:https://downtownny.com/event/the-golden-thread-new-adventures-in-textile-art-by-christian-viveros-faune/
CATEGORIES:Arts & Culture
END:VEVENT
BEGIN:VEVENT
DTSTART;TZID=America/New_York:20250809T110000
DTEND;TZID=America/New_York:20250810T170000
DTSTAMP:20260420T140557
CREATED:20250731T133222Z
LAST-MODIFIED:20250731T133222Z
UID:112766-1754737200-1754845200@downtownny.com
SUMMARY:Jazz Age Lawn Party
DESCRIPTION:Break out your best flap­per dress­es\, linen jack­ets\, straw hats and spats\, and 100-year-old Gats­by-inspired attire! The Jazz Age Lawn Par­ty on Gov­er­nors Island fea­tures live music\, retro cock­tails\, and ​’20s Pro­hi­bi­tion era enter­tain­ment. Explore the Island and join dance lessons\, take a vin­tage por­trait\, check out the antique 1920s cars\, play cro­quet\, enjoy a gourmet pic­nic\, and more.
URL:https://downtownny.com/event/jazz-age-lawn-party-9/
LOCATION:Governors Island
CATEGORIES:Arts & Culture
END:VEVENT
BEGIN:VEVENT
DTSTART;TZID=America/New_York:20250809T190000
DTEND;TZID=America/New_York:20250814T203000
DTSTAMP:20260420T140557
CREATED:20250731T133422Z
LAST-MODIFIED:20250731T133422Z
UID:112773-1754766000-1755203400@downtownny.com
SUMMARY:Dance @ The New Wagner Park
DESCRIPTION:Battery Dance Company performs in this celebratory night of dance alongside Marie Poncé\, The Limón Dance Company\, and tap dancer John Manzari & Band. Rain date 8/10.
URL:https://downtownny.com/event/dance-the-new-wagner-park/
LOCATION:Wagner Park
CATEGORIES:Arts & Culture
END:VEVENT
BEGIN:VEVENT
DTSTART;TZID=America/New_York:20250810T160000
DTEND;TZID=America/New_York:20250810T160000
DTSTAMP:20260420T140557
CREATED:20250731T133423Z
LAST-MODIFIED:20250731T133423Z
UID:112775-1754841600-1754841600@downtownny.com
SUMMARY:History on the Harbor Sail
DESCRIPTION:Voyage through history and on the historic schooner Pioneer with Stefan Dreisbach-Williams\, a distinguished historian renowned for his expertise on New York Harbor\, its estuary\, and its maritime network. This tour will have a specific focus on canals and sail freight. As Pioneer sails past icons of New York Harbor\, we will be treated to a wealth of knowledge about the numerous historical landmarks that grace its shores. From the deck of this remarkable vessel\, you will gain new insights into the pivotal events that shaped New York City. Discover how the city evolved through time and the significant contributions of its maritime history.
URL:https://downtownny.com/event/history-on-the-harbor-sail/
LOCATION:Pier 16
CATEGORIES:Tours
END:VEVENT
END:VCALENDAR