BEGIN:VCALENDAR
VERSION:2.0
PRODID:-//Downtown Alliance - ECPv6.15.20//NONSGML v1.0//EN
CALSCALE:GREGORIAN
METHOD:PUBLISH
X-ORIGINAL-URL:https://downtownny.com
X-WR-CALDESC:Events for Downtown Alliance
REFRESH-INTERVAL;VALUE=DURATION:PT1H
X-Robots-Tag:noindex
X-PUBLISHED-TTL:PT1H
BEGIN:VTIMEZONE
TZID:America/New_York
BEGIN:DAYLIGHT
TZOFFSETFROM:-0500
TZOFFSETTO:-0400
TZNAME:EDT
DTSTART:20240310T070000
END:DAYLIGHT
BEGIN:STANDARD
TZOFFSETFROM:-0400
TZOFFSETTO:-0500
TZNAME:EST
DTSTART:20241103T060000
END:STANDARD
BEGIN:DAYLIGHT
TZOFFSETFROM:-0500
TZOFFSETTO:-0400
TZNAME:EDT
DTSTART:20250309T070000
END:DAYLIGHT
BEGIN:STANDARD
TZOFFSETFROM:-0400
TZOFFSETTO:-0500
TZNAME:EST
DTSTART:20251102T060000
END:STANDARD
BEGIN:DAYLIGHT
TZOFFSETFROM:-0500
TZOFFSETTO:-0400
TZNAME:EDT
DTSTART:20260308T070000
END:DAYLIGHT
BEGIN:STANDARD
TZOFFSETFROM:-0400
TZOFFSETTO:-0500
TZNAME:EST
DTSTART:20261101T060000
END:STANDARD
BEGIN:DAYLIGHT
TZOFFSETFROM:-0500
TZOFFSETTO:-0400
TZNAME:EDT
DTSTART:20270314T070000
END:DAYLIGHT
BEGIN:STANDARD
TZOFFSETFROM:-0400
TZOFFSETTO:-0500
TZNAME:EST
DTSTART:20271107T060000
END:STANDARD
END:VTIMEZONE
BEGIN:VEVENT
DTSTART;TZID=America/New_York:20250411T000000
DTEND;TZID=America/New_York:20260516T000000
DTSTAMP:20260420T152228
CREATED:20250331T135051Z
LAST-MODIFIED:20250331T135051Z
UID:106250-1744329600-1778889600@downtownny.com
SUMMARY:The Golden Thread: New Adventures in Textile Art by Christian Viveros-Fauné
DESCRIPTION:Fiber art exhibition with multiple artists.
URL:https://downtownny.com/event/the-golden-thread-new-adventures-in-textile-art-by-christian-viveros-faune/
CATEGORIES:Arts & Culture
END:VEVENT
BEGIN:VEVENT
DTSTART;TZID=America/New_York:20250809T190000
DTEND;TZID=America/New_York:20250814T203000
DTSTAMP:20260420T152228
CREATED:20250731T133422Z
LAST-MODIFIED:20250731T133422Z
UID:112773-1754766000-1755203400@downtownny.com
SUMMARY:Dance @ The New Wagner Park
DESCRIPTION:Battery Dance Company performs in this celebratory night of dance alongside Marie Poncé\, The Limón Dance Company\, and tap dancer John Manzari & Band. Rain date 8/10.
URL:https://downtownny.com/event/dance-the-new-wagner-park/
LOCATION:Wagner Park
CATEGORIES:Arts & Culture
END:VEVENT
BEGIN:VEVENT
DTSTART;TZID=America/New_York:20250812T190000
DTEND;TZID=America/New_York:20250816T210000
DTSTAMP:20260420T152228
CREATED:20250731T133824Z
LAST-MODIFIED:20250731T133824Z
UID:112783-1755025200-1755378000@downtownny.com
SUMMARY:44th Annual Battery Dance Festival
DESCRIPTION:New York City’s longest-running free public dance festival returns to Rockefeller Park this summer. The Battery Dance Festival brings together spectacular international and local dance companies\, each evening ending with “Everybody Dance Now!” Please check batterydance.org for the performance schedule.
URL:https://downtownny.com/event/44th-annual-battery-dance-festival-2/
LOCATION:Rockefeller Park
CATEGORIES:Arts & Culture
END:VEVENT
BEGIN:VEVENT
DTSTART;TZID=America/New_York:20250814T130000
DTEND;TZID=America/New_York:20250814T150000
DTSTAMP:20260420T152228
CREATED:20250731T134126Z
LAST-MODIFIED:20250731T134126Z
UID:112794-1755176400-1755183600@downtownny.com
SUMMARY:Fiber Art Crafts Studio
DESCRIPTION:Join this group of fiber art crafters for a fun afternoon of creativity and camaraderie. Bring your projects\, which can include—but are not limited to—knitting\, crocheting\, embroidery and small-loom weaving.
URL:https://downtownny.com/event/fiber-art-crafts-studio-19/
CATEGORIES:Community
END:VEVENT
BEGIN:VEVENT
DTSTART;TZID=America/New_York:20250814T173000
DTEND;TZID=America/New_York:20250814T173000
DTSTAMP:20260420T152228
CREATED:20250731T134127Z
LAST-MODIFIED:20250731T134127Z
UID:112795-1755192600-1755192600@downtownny.com
SUMMARY:Zumba at Gotham Park
DESCRIPTION:Open to all—no experience needed\, just come ready to dance and have fun.
URL:https://downtownny.com/event/zumba-at-gotham-park-10/
CATEGORIES:Community
END:VEVENT
BEGIN:VEVENT
DTSTART;TZID=America/New_York:20250814T173000
DTEND;TZID=America/New_York:20250814T183000
DTSTAMP:20260420T152228
CREATED:20250731T134127Z
LAST-MODIFIED:20250731T134127Z
UID:112796-1755192600-1755196200@downtownny.com
SUMMARY:Barre Fitness
DESCRIPTION:Join Complete Body for a low-impact joint-friendly exercise and targeted muscle toning achieved through small\, controlled movements that focus on isometric holds and pulses\, suitable for various fitness levels.
URL:https://downtownny.com/event/barre-fitness-4/
CATEGORIES:Community
END:VEVENT
BEGIN:VEVENT
DTSTART;TZID=America/New_York:20250814T184500
DTEND;TZID=America/New_York:20250814T184500
DTSTAMP:20260420T152228
CREATED:20250731T134127Z
LAST-MODIFIED:20250731T134127Z
UID:112797-1755197100-1755197100@downtownny.com
SUMMARY:Whiskey Tasting
DESCRIPTION:It’s not every day that you get to indulge in a whiskey tasting aboard a historical maritime treasure: a National Register-listed 19th century sailing vessel that represents the thousands of ships that docked along New York’s waterfront. Led by Kurt Maitland\, founder of the Manhattan Whiskey Club and Deputy Editor of the Whiskey Reviewer\, the experience will include a tour of Wavertree\, uncovering stories of its global voyages\, restoration efforts\, and life aboard a 19th century cargo ship. The evening will also feature a curated tasting of five maritime-themed whiskeys\, each showcasing unique flavor profiles\, and exploration of whiskey’s ties to maritime culture—including trade routes and smuggling tales.
URL:https://downtownny.com/event/whiskey-tasting/
CATEGORIES:Arts & Culture
END:VEVENT
BEGIN:VEVENT
DTSTART;TZID=America/New_York:20250814T190000
DTEND;TZID=America/New_York:20250814T190000
DTSTAMP:20260420T152228
CREATED:20250731T134327Z
LAST-MODIFIED:20250731T134327Z
UID:112798-1755198000-1755198000@downtownny.com
SUMMARY:Fitz and The Tantrums
DESCRIPTION:Outdoor concert.
URL:https://downtownny.com/event/fitz-and-the-tantrums/
CATEGORIES:Arts & Culture
END:VEVENT
BEGIN:VEVENT
DTSTART;TZID=America/New_York:20250814T190000
DTEND;TZID=America/New_York:20250814T190000
DTSTAMP:20260420T152228
CREATED:20250731T134327Z
LAST-MODIFIED:20250731T134327Z
UID:112799-1755198000-1755198000@downtownny.com
SUMMARY:Who Is An Ex-Wife?
DESCRIPTION:How much honesty does an ‘honest’ marriage really permit a wife? And once you’re no longer a wife\, can you really start all over again? The anonymous novel of divorce and open marriage that scandalized New York when it was originally published in 1929\, Ursula Parrott’s Ex-Wife is both captivating and bleak in its portrayal of women in the Jazz Age. Iva Dixit and Joumana Khatib discuss this novel of sex\, love\, heartache and divorce\, and its relevance nearly a century later.
URL:https://downtownny.com/event/who-is-an-ex-wife/
CATEGORIES:Arts & Culture
END:VEVENT
END:VCALENDAR