BEGIN:VCALENDAR
VERSION:2.0
PRODID:-//Downtown Alliance - ECPv6.15.20//NONSGML v1.0//EN
CALSCALE:GREGORIAN
METHOD:PUBLISH
X-ORIGINAL-URL:https://downtownny.com
X-WR-CALDESC:Events for Downtown Alliance
REFRESH-INTERVAL;VALUE=DURATION:PT1H
X-Robots-Tag:noindex
X-PUBLISHED-TTL:PT1H
BEGIN:VTIMEZONE
TZID:America/New_York
BEGIN:DAYLIGHT
TZOFFSETFROM:-0500
TZOFFSETTO:-0400
TZNAME:EDT
DTSTART:20230312T070000
END:DAYLIGHT
BEGIN:STANDARD
TZOFFSETFROM:-0400
TZOFFSETTO:-0500
TZNAME:EST
DTSTART:20231105T060000
END:STANDARD
BEGIN:DAYLIGHT
TZOFFSETFROM:-0500
TZOFFSETTO:-0400
TZNAME:EDT
DTSTART:20240310T070000
END:DAYLIGHT
BEGIN:STANDARD
TZOFFSETFROM:-0400
TZOFFSETTO:-0500
TZNAME:EST
DTSTART:20241103T060000
END:STANDARD
BEGIN:DAYLIGHT
TZOFFSETFROM:-0500
TZOFFSETTO:-0400
TZNAME:EDT
DTSTART:20250309T070000
END:DAYLIGHT
BEGIN:STANDARD
TZOFFSETFROM:-0400
TZOFFSETTO:-0500
TZNAME:EST
DTSTART:20251102T060000
END:STANDARD
BEGIN:DAYLIGHT
TZOFFSETFROM:-0500
TZOFFSETTO:-0400
TZNAME:EDT
DTSTART:20260308T070000
END:DAYLIGHT
BEGIN:STANDARD
TZOFFSETFROM:-0400
TZOFFSETTO:-0500
TZNAME:EST
DTSTART:20261101T060000
END:STANDARD
BEGIN:DAYLIGHT
TZOFFSETFROM:-0500
TZOFFSETTO:-0400
TZNAME:EDT
DTSTART:20270314T070000
END:DAYLIGHT
BEGIN:STANDARD
TZOFFSETFROM:-0400
TZOFFSETTO:-0500
TZNAME:EST
DTSTART:20271107T060000
END:STANDARD
END:VTIMEZONE
BEGIN:VEVENT
DTSTART;TZID=America/New_York:20250411T000000
DTEND;TZID=America/New_York:20260516T000000
DTSTAMP:20260420T153335
CREATED:20250331T135051Z
LAST-MODIFIED:20250331T135051Z
UID:106250-1744329600-1778889600@downtownny.com
SUMMARY:The Golden Thread: New Adventures in Textile Art by Christian Viveros-Fauné
DESCRIPTION:Fiber art exhibition with multiple artists.
URL:https://downtownny.com/event/the-golden-thread-new-adventures-in-textile-art-by-christian-viveros-faune/
CATEGORIES:Arts & Culture
END:VEVENT
BEGIN:VEVENT
DTSTART;TZID=America/New_York:20250812T190000
DTEND;TZID=America/New_York:20250816T210000
DTSTAMP:20260420T153335
CREATED:20250731T133824Z
LAST-MODIFIED:20250731T133824Z
UID:112783-1755025200-1755378000@downtownny.com
SUMMARY:44th Annual Battery Dance Festival
DESCRIPTION:New York City’s longest-running free public dance festival returns to Rockefeller Park this summer. The Battery Dance Festival brings together spectacular international and local dance companies\, each evening ending with “Everybody Dance Now!” Please check batterydance.org for the performance schedule.
URL:https://downtownny.com/event/44th-annual-battery-dance-festival-2/
LOCATION:Rockefeller Park
CATEGORIES:Arts & Culture
END:VEVENT
BEGIN:VEVENT
DTSTART;TZID=America/New_York:20240405T110000
DTEND;TZID=America/New_York:20240405T180000
DTSTAMP:20260420T153335
CREATED:20240417T185956Z
LAST-MODIFIED:20240417T185956Z
UID:95953-1712314800-1712340000@downtownny.com
SUMMARY:Smorgasburg
DESCRIPTION:New York City’s favorite outdoor food market\, Smorgasburg\, is back at the World Trade Center. Starting on April 5\, on Fridays through October\, come out to Fulton Street and enjoy a variety of eats and treats from over 20 local vendors.
URL:https://downtownny.com/event/smorgasburg/
ATTACH;FMTTYPE=image/jpeg:https://downtownny.com/wp-content/uploads/2024/03/Smorg_2.jpg
END:VEVENT
BEGIN:VEVENT
DTSTART;TZID=America/New_York:20250815T160000
DTEND;TZID=America/New_York:20250815T160000
DTSTAMP:20260420T153335
CREATED:20250731T134328Z
LAST-MODIFIED:20250731T134328Z
UID:112800-1755273600-1755273600@downtownny.com
SUMMARY:Battery Park City Tour: The South Neighborh
DESCRIPTION:The South Neighborhood tour on Thursday\, August 7 at 4pm explores Battery Park City’s southern district\, which is home to the Skyscraper Museum and includes some of BPC’s earliest landscapes and infrastructure\, as well as the residential enclaves built in the 1990s that followed the 1979 Cooper Eckstut Master Plan. Starting in the Museum’s gallery to see historic views of the waterfront\, the tour will visit South Cove and the green spaces that connect to the Esplanade\, the first waterfront park in New York since the Brooklyn Heights Esplanade in 1951.
URL:https://downtownny.com/event/battery-park-city-tour-the-south-neighborh-2/
CATEGORIES:Tours
END:VEVENT
BEGIN:VEVENT
DTSTART;TZID=America/New_York:20250815T180000
DTEND;TZID=America/New_York:20250815T180000
DTSTAMP:20260420T153335
CREATED:20250731T134328Z
LAST-MODIFIED:20250731T134328Z
UID:112802-1755280800-1755280800@downtownny.com
SUMMARY:Dark Star Orchestra
DESCRIPTION:Outdoor concert.
URL:https://downtownny.com/event/dark-star-orchestra/
CATEGORIES:Arts & Culture
END:VEVENT
BEGIN:VEVENT
DTSTART;TZID=America/New_York:20250815T180000
DTEND;TZID=America/New_York:20250815T190000
DTSTAMP:20260420T153335
CREATED:20250731T134328Z
LAST-MODIFIED:20250731T134328Z
UID:112801-1755280800-1755284400@downtownny.com
SUMMARY:Stretch Sesh
DESCRIPTION:Take part in a full-body stretch routine designed to improve range of motion\, maintain flexibility\, promote better posture\, reduce joint pain\, and decrease the risk of injury.
URL:https://downtownny.com/event/stretch-sesh-13/
LOCATION:Rockefeller Park
CATEGORIES:Community
END:VEVENT
BEGIN:VEVENT
DTSTART;TZID=America/New_York:20250815T180000
DTEND;TZID=America/New_York:20250815T193000
DTSTAMP:20260420T153335
CREATED:20250731T134528Z
LAST-MODIFIED:20250731T134528Z
UID:112803-1755280800-1755286200@downtownny.com
SUMMARY:Trivia Night
DESCRIPTION:Gather your friends for an entertaining evening filled with intriguing questions covering a range of topics\, from colonial customs to fascinating insights about Fraunces Tavern itself. Embrace the spirit of friendly competition and enjoyment—this is an excellent opportunity not only to showcase your knowledge\, but also to learn something new.
URL:https://downtownny.com/event/trivia-night/
CATEGORIES:Arts & Culture
END:VEVENT
END:VCALENDAR