BEGIN:VCALENDAR
VERSION:2.0
PRODID:-//Downtown Alliance - ECPv6.15.20//NONSGML v1.0//EN
CALSCALE:GREGORIAN
METHOD:PUBLISH
X-ORIGINAL-URL:https://downtownny.com
X-WR-CALDESC:Events for Downtown Alliance
REFRESH-INTERVAL;VALUE=DURATION:PT1H
X-Robots-Tag:noindex
X-PUBLISHED-TTL:PT1H
BEGIN:VTIMEZONE
TZID:America/New_York
BEGIN:DAYLIGHT
TZOFFSETFROM:-0500
TZOFFSETTO:-0400
TZNAME:EDT
DTSTART:20240310T070000
END:DAYLIGHT
BEGIN:STANDARD
TZOFFSETFROM:-0400
TZOFFSETTO:-0500
TZNAME:EST
DTSTART:20241103T060000
END:STANDARD
BEGIN:DAYLIGHT
TZOFFSETFROM:-0500
TZOFFSETTO:-0400
TZNAME:EDT
DTSTART:20250309T070000
END:DAYLIGHT
BEGIN:STANDARD
TZOFFSETFROM:-0400
TZOFFSETTO:-0500
TZNAME:EST
DTSTART:20251102T060000
END:STANDARD
BEGIN:DAYLIGHT
TZOFFSETFROM:-0500
TZOFFSETTO:-0400
TZNAME:EDT
DTSTART:20260308T070000
END:DAYLIGHT
BEGIN:STANDARD
TZOFFSETFROM:-0400
TZOFFSETTO:-0500
TZNAME:EST
DTSTART:20261101T060000
END:STANDARD
BEGIN:DAYLIGHT
TZOFFSETFROM:-0500
TZOFFSETTO:-0400
TZNAME:EDT
DTSTART:20270314T070000
END:DAYLIGHT
BEGIN:STANDARD
TZOFFSETFROM:-0400
TZOFFSETTO:-0500
TZNAME:EST
DTSTART:20271107T060000
END:STANDARD
END:VTIMEZONE
BEGIN:VEVENT
DTSTART;TZID=America/New_York:20250411T000000
DTEND;TZID=America/New_York:20260516T000000
DTSTAMP:20260423T074020
CREATED:20250331T135051Z
LAST-MODIFIED:20250331T135051Z
UID:106250-1744329600-1778889600@downtownny.com
SUMMARY:The Golden Thread: New Adventures in Textile Art by Christian Viveros-Fauné
DESCRIPTION:Fiber art exhibition with multiple artists.
URL:https://downtownny.com/event/the-golden-thread-new-adventures-in-textile-art-by-christian-viveros-faune/
CATEGORIES:Arts & Culture
END:VEVENT
BEGIN:VEVENT
DTSTART;TZID=America/New_York:20250902T113000
DTEND;TZID=America/New_York:20250902T113000
DTSTAMP:20260423T074020
CREATED:20250903T155812Z
LAST-MODIFIED:20250903T155812Z
UID:113811-1756812600-1756812600@downtownny.com
SUMMARY:Tour of the Battery Urban Farm
DESCRIPTION:Tour of the urban vegetable farm and perennial forest farm\, led by park staff.
URL:https://downtownny.com/event/tour-of-the-battery-urban-farm-52/
CATEGORIES:Tours
END:VEVENT
BEGIN:VEVENT
DTSTART;TZID=America/New_York:20250902T140000
DTEND;TZID=America/New_York:20250902T160000
DTSTAMP:20260423T074020
CREATED:20250903T155812Z
LAST-MODIFIED:20250903T155812Z
UID:113812-1756821600-1756828800@downtownny.com
SUMMARY:Mah Jongg & More
DESCRIPTION:Join a dedicated group of adult American Mah Jongg enthusiasts for friendly and informal games\, or try your hand at other card and board games.
URL:https://downtownny.com/event/mah-jongg-more-96/
CATEGORIES:Community
END:VEVENT
BEGIN:VEVENT
DTSTART;TZID=America/New_York:20250902T153000
DTEND;TZID=America/New_York:20250902T170000
DTSTAMP:20260423T074020
CREATED:20250903T155813Z
LAST-MODIFIED:20250903T155813Z
UID:113813-1756827000-1756832400@downtownny.com
SUMMARY:Drop-In Chess
DESCRIPTION:Play the popular strategy game while getting pointers and advice from an expert. Chess improves concentration\, problem solving\, and strategic planning — plus it’s fun! For ages 5 and up.
URL:https://downtownny.com/event/drop-in-chess-106/
LOCATION:Rockefeller Park
CATEGORIES:Community
END:VEVENT
BEGIN:VEVENT
DTSTART;TZID=America/New_York:20250902T163000
DTEND;TZID=America/New_York:20250902T180000
DTSTAMP:20260423T074020
CREATED:20250903T155813Z
LAST-MODIFIED:20250903T155813Z
UID:113814-1756830600-1756836000@downtownny.com
SUMMARY:The Moth: Community Story Slam Workshop
DESCRIPTION:Prior to the Moth Community StorySLAM on Sept. 4th\,  Moth instructors will host workshops offering guidance\, techniques\, and practice on the craft of storytelling in the Pavilion Classroom. This workshop will be repeated at 6pm.
URL:https://downtownny.com/event/the-moth-community-story-slam-workshop/
LOCATION:Wagner Park
CATEGORIES:Community
END:VEVENT
BEGIN:VEVENT
DTSTART;TZID=America/New_York:20250902T173000
DTEND;TZID=America/New_York:20250902T173000
DTSTAMP:20260423T074020
CREATED:20250903T155814Z
LAST-MODIFIED:20250903T155814Z
UID:113815-1756834200-1756834200@downtownny.com
SUMMARY:Zumba at Gotham Park
DESCRIPTION:Open to all—no experience needed\, just come ready to dance and have fun.
URL:https://downtownny.com/event/zumba-at-gotham-park-11/
CATEGORIES:Community
END:VEVENT
BEGIN:VEVENT
DTSTART;TZID=America/New_York:20250902T190000
DTEND;TZID=America/New_York:20250902T190000
DTSTAMP:20260423T074020
CREATED:20250903T155816Z
LAST-MODIFIED:20250903T155816Z
UID:113816-1756839600-1756839600@downtownny.com
SUMMARY:Eat\, Pray\, Love
DESCRIPTION:Outdoor movie screening.
URL:https://downtownny.com/event/eat-pray-love/
LOCATION:Pier 17
CATEGORIES:Arts & Culture
END:VEVENT
END:VCALENDAR