BEGIN:VCALENDAR
VERSION:2.0
PRODID:-//Downtown Alliance - ECPv6.15.20//NONSGML v1.0//EN
CALSCALE:GREGORIAN
METHOD:PUBLISH
X-WR-CALNAME:Downtown Alliance
X-ORIGINAL-URL:https://downtownny.com
X-WR-CALDESC:Events for Downtown Alliance
REFRESH-INTERVAL;VALUE=DURATION:PT1H
X-Robots-Tag:noindex
X-PUBLISHED-TTL:PT1H
BEGIN:VTIMEZONE
TZID:America/New_York
BEGIN:DAYLIGHT
TZOFFSETFROM:-0500
TZOFFSETTO:-0400
TZNAME:EDT
DTSTART:20230312T070000
END:DAYLIGHT
BEGIN:STANDARD
TZOFFSETFROM:-0400
TZOFFSETTO:-0500
TZNAME:EST
DTSTART:20231105T060000
END:STANDARD
BEGIN:DAYLIGHT
TZOFFSETFROM:-0500
TZOFFSETTO:-0400
TZNAME:EDT
DTSTART:20240310T070000
END:DAYLIGHT
BEGIN:STANDARD
TZOFFSETFROM:-0400
TZOFFSETTO:-0500
TZNAME:EST
DTSTART:20241103T060000
END:STANDARD
BEGIN:DAYLIGHT
TZOFFSETFROM:-0500
TZOFFSETTO:-0400
TZNAME:EDT
DTSTART:20250309T070000
END:DAYLIGHT
BEGIN:STANDARD
TZOFFSETFROM:-0400
TZOFFSETTO:-0500
TZNAME:EST
DTSTART:20251102T060000
END:STANDARD
BEGIN:DAYLIGHT
TZOFFSETFROM:-0500
TZOFFSETTO:-0400
TZNAME:EDT
DTSTART:20260308T070000
END:DAYLIGHT
BEGIN:STANDARD
TZOFFSETFROM:-0400
TZOFFSETTO:-0500
TZNAME:EST
DTSTART:20261101T060000
END:STANDARD
BEGIN:DAYLIGHT
TZOFFSETFROM:-0500
TZOFFSETTO:-0400
TZNAME:EDT
DTSTART:20270314T070000
END:DAYLIGHT
BEGIN:STANDARD
TZOFFSETFROM:-0400
TZOFFSETTO:-0500
TZNAME:EST
DTSTART:20271107T060000
END:STANDARD
END:VTIMEZONE
BEGIN:VEVENT
DTSTART;TZID=America/New_York:20250411T000000
DTEND;TZID=America/New_York:20260516T000000
DTSTAMP:20260423T054249
CREATED:20250331T135051Z
LAST-MODIFIED:20250331T135051Z
UID:106250-1744329600-1778889600@downtownny.com
SUMMARY:The Golden Thread: New Adventures in Textile Art by Christian Viveros-Fauné
DESCRIPTION:Fiber art exhibition with multiple artists.
URL:https://downtownny.com/event/the-golden-thread-new-adventures-in-textile-art-by-christian-viveros-faune/
CATEGORIES:Arts & Culture
END:VEVENT
BEGIN:VEVENT
DTSTART;TZID=America/New_York:20250910T000000
DTEND;TZID=America/New_York:20260111T000000
DTSTAMP:20260423T054249
CREATED:20250903T163552Z
LAST-MODIFIED:20250903T163552Z
UID:113861-1757462400-1768089600@downtownny.com
SUMMARY:Metamorphosis: Chinese Imagination and Transformation
DESCRIPTION:Opening day of a new exhibition that highlights works by 28 contemporary artists of Chinese descent\, who explore themes of personal\, cultural\, historical and material metamorphosis in dynamic and innovative ways. Across painting\, sculpture\, photography\, animation and installation art\, these works by established and emerging artists of different generations and backgrounds use experimentation to draw on both Eastern and Western art-making practices and materials. Many of the works will be seen in the U.S. for the first time. Important commissions include new paintings by Sun Xun and an immersive Dream Chamber by Bingyi. The exhibition is organized very loosely around four themes: “Metamorphosis of the Body and Self”\, “Metamorphosis of the Environment and Natural World”\, “Historical and Cultural Metamorphosis”\, and “Spiritual Metamorphosis”.
URL:https://downtownny.com/event/metamorphosis-chinese-imagination-and-transformation/
CATEGORIES:Arts & Culture
END:VEVENT
BEGIN:VEVENT
DTSTART;TZID=America/New_York:20240405T110000
DTEND;TZID=America/New_York:20240405T180000
DTSTAMP:20260423T054249
CREATED:20240417T185956Z
LAST-MODIFIED:20240417T185956Z
UID:95953-1712314800-1712340000@downtownny.com
SUMMARY:Smorgasburg
DESCRIPTION:New York City’s favorite outdoor food market\, Smorgasburg\, is back at the World Trade Center. Starting on April 5\, on Fridays through October\, come out to Fulton Street and enjoy a variety of eats and treats from over 20 local vendors.
URL:https://downtownny.com/event/smorgasburg/
ATTACH;FMTTYPE=image/jpeg:https://downtownny.com/wp-content/uploads/2024/03/Smorg_2.jpg
END:VEVENT
BEGIN:VEVENT
DTSTART;TZID=America/New_York:20251003T120000
DTEND;TZID=America/New_York:20251004T000000
DTSTAMP:20260423T054249
CREATED:20250930T152054Z
LAST-MODIFIED:20250930T152054Z
UID:114656-1759492800-1759536000@downtownny.com
SUMMARY:Interventions x Crossing the Line: Delicate People
DESCRIPTION:Ruth Childs and Cécile Bouf­fard start­ed the project del­i­cate peo­ple in 2021 as a col­lab­o­ra­tion between their respec­tive dis­ci­plines: dance and sculp­ture. ​“Del­i­cate” describes both Bouffard’s illus­trat­ed fig­ures and Childs’s cre­ative process — the fine tun­ing nec­es­sary to an evolv­ing chore­o­graph­ic sto­ry. Both artists cul­ti­vate intu­ition and inde­ter­mi­na­cy\, fos­ter­ing the sus­pen­sion of judg­ment through a series of del­i­cate­ly dis­turb­ing vignettes. This piece will be per­formed by local dancer Eve­lyn Dugan\, with chore­o­graph­ic direc­tion from Ruth Childs.
URL:https://downtownny.com/event/interventions-x-crossing-the-line-delicate-people/
LOCATION:Governors Island
CATEGORIES:Arts & Culture
END:VEVENT
BEGIN:VEVENT
DTSTART;TZID=America/New_York:20251003T173000
DTEND;TZID=America/New_York:20251003T183000
DTSTAMP:20260423T054249
CREATED:20250930T152253Z
LAST-MODIFIED:20250930T152253Z
UID:114657-1759512600-1759516200@downtownny.com
SUMMARY:Outdoor Pilates
DESCRIPTION:Series of controlled movements that emphasize proper form and breathing techniques to strengthen and improve flexibility in the core\, back\, and lower body.
URL:https://downtownny.com/event/outdoor-pilates-3/
LOCATION:Wagner Park
CATEGORIES:Community
END:VEVENT
BEGIN:VEVENT
DTSTART;TZID=America/New_York:20251003T173000
DTEND;TZID=America/New_York:20251005T000000
DTSTAMP:20260423T054249
CREATED:20250930T152254Z
LAST-MODIFIED:20250930T152254Z
UID:114658-1759512600-1759622400@downtownny.com
SUMMARY:The Collective Womb
DESCRIPTION:Join Cli­mate Imag­i­nar­i­um and Earth Mat­ter for a night of myth­mak­ing\, cel­e­bra­tion\, and repro­duc­tive jus­tice on Gov­er­nor’s Island. The Col­lec­tive Womb is a matri­ar­chal cre­ation sto­ry in which abor­tion is rec­og­nized as a nat­ur­al exchange of ener­gy between the body and the earth. Staged on a large mound of soil\, the per­for­mance cel­e­brates the macro-scale cre­ative pow­er of our plan­et and the micro-scale cre­ative pow­er of each indi­vid­ual womb. This immer­sive pro­duc­tion will include pup­petry\, dance\, womb cook­ies\, earth wor­ship\, and live music. BYOBlan­kets for sit­ting in the grass!
URL:https://downtownny.com/event/the-collective-womb/
LOCATION:Governors Island
CATEGORIES:Arts & Culture
END:VEVENT
BEGIN:VEVENT
DTSTART;TZID=America/New_York:20251003T180000
DTEND;TZID=America/New_York:20251003T180000
DTSTAMP:20260423T054249
CREATED:20250930T152254Z
LAST-MODIFIED:20250930T152254Z
UID:114659-1759514400-1759514400@downtownny.com
SUMMARY:Music and Games After Hours
DESCRIPTION:Musician and songwriter Blair Lamb will be joined by a five-piece band to perform an hour-long set\, while throughout the deck of the ship you will be able to rediscover the simple fun of nostalgic games such as hopscotch\, yo-yos\, jacks\, checkers\, and duckpin bowling\, and try your hand at traditional Lenape games.
URL:https://downtownny.com/event/music-and-games-after-hours/
CATEGORIES:Arts & Culture
END:VEVENT
BEGIN:VEVENT
DTSTART;TZID=America/New_York:20251003T183000
DTEND;TZID=America/New_York:20251003T183000
DTSTAMP:20260423T054249
CREATED:20250930T152255Z
LAST-MODIFIED:20250930T152255Z
UID:114660-1759516200-1759516200@downtownny.com
SUMMARY:I Am You
DESCRIPTION:A mesmerizing historical novel\, I Am You is a meditation on gender\, an ode to artistic creation\, and an unforgettable love story that reimagines the life of renowned still life painter Maria van Oosterwijck during Dutch’s Golden Age.
URL:https://downtownny.com/event/i-am-you/
CATEGORIES:Arts & Culture
END:VEVENT
BEGIN:VEVENT
DTSTART;TZID=America/New_York:20251003T190000
DTEND;TZID=America/New_York:20251004T000000
DTSTAMP:20260423T054249
CREATED:20250930T152255Z
LAST-MODIFIED:20250930T152255Z
UID:114661-1759518000-1759536000@downtownny.com
SUMMARY:Interventions: Firebird by Touki Delphine
DESCRIPTION:Inspired by com­pos­er Igor Stravinsky’s 1919 Fire­bird Suite\, this event pays homage to his musi­cal cre­ations with a per­for­mance cen­tered around a mas­sive wall of light designed to illu­mi­nate the dance of the fire­bird. The unique sen­so­ry jour­ney allows vis­i­tors to rev­el in the glow­ing cel­e­bra­tion and hyp­not­ic dis­play that will trans­form the Parade Ground. The audi­ence expe­ri­ence begins upon arrival\, where all tick­ethold­ers will receive shim­mer­ing metal­lic capes to don once they dis­em­bark\, kick­start­ing the spec­ta­cle en route to the show. Guid­ed by the artists them­selves\, this glit­ter­ing col­lec­tive will make its way to the Parade Ground — set against the dra­mat­ic Low­er Man­hat­tan sky­line — where FIRE­BIRD bursts to life in a hyp­not­ic dance of syn­chro­nized light\, cour­tesy of 500 recy­cled car tail­lights that have been sal­vaged from scrap­yards in the North­east­ern Unit­ed States\, all set to Tou­ki Delphine’s con­tem­po­rary com­po­si­tion.
URL:https://downtownny.com/event/interventions-firebird-by-touki-delphine/
LOCATION:Governors Island
CATEGORIES:Arts & Culture
END:VEVENT
END:VCALENDAR