BEGIN:VCALENDAR
VERSION:2.0
PRODID:-//Downtown Alliance - ECPv6.15.20//NONSGML v1.0//EN
CALSCALE:GREGORIAN
METHOD:PUBLISH
X-WR-CALNAME:Downtown Alliance
X-ORIGINAL-URL:https://downtownny.com
X-WR-CALDESC:Events for Downtown Alliance
REFRESH-INTERVAL;VALUE=DURATION:PT1H
X-Robots-Tag:noindex
X-PUBLISHED-TTL:PT1H
BEGIN:VTIMEZONE
TZID:America/New_York
BEGIN:DAYLIGHT
TZOFFSETFROM:-0500
TZOFFSETTO:-0400
TZNAME:EDT
DTSTART:20240310T070000
END:DAYLIGHT
BEGIN:STANDARD
TZOFFSETFROM:-0400
TZOFFSETTO:-0500
TZNAME:EST
DTSTART:20241103T060000
END:STANDARD
BEGIN:DAYLIGHT
TZOFFSETFROM:-0500
TZOFFSETTO:-0400
TZNAME:EDT
DTSTART:20250309T070000
END:DAYLIGHT
BEGIN:STANDARD
TZOFFSETFROM:-0400
TZOFFSETTO:-0500
TZNAME:EST
DTSTART:20251102T060000
END:STANDARD
BEGIN:DAYLIGHT
TZOFFSETFROM:-0500
TZOFFSETTO:-0400
TZNAME:EDT
DTSTART:20260308T070000
END:DAYLIGHT
BEGIN:STANDARD
TZOFFSETFROM:-0400
TZOFFSETTO:-0500
TZNAME:EST
DTSTART:20261101T060000
END:STANDARD
BEGIN:DAYLIGHT
TZOFFSETFROM:-0500
TZOFFSETTO:-0400
TZNAME:EDT
DTSTART:20270314T070000
END:DAYLIGHT
BEGIN:STANDARD
TZOFFSETFROM:-0400
TZOFFSETTO:-0500
TZNAME:EST
DTSTART:20271107T060000
END:STANDARD
END:VTIMEZONE
BEGIN:VEVENT
DTSTART;TZID=America/New_York:20250411T000000
DTEND;TZID=America/New_York:20260516T000000
DTSTAMP:20260423T054238
CREATED:20250331T135051Z
LAST-MODIFIED:20250331T135051Z
UID:106250-1744329600-1778889600@downtownny.com
SUMMARY:The Golden Thread: New Adventures in Textile Art by Christian Viveros-Fauné
DESCRIPTION:Fiber art exhibition with multiple artists.
URL:https://downtownny.com/event/the-golden-thread-new-adventures-in-textile-art-by-christian-viveros-faune/
CATEGORIES:Arts & Culture
END:VEVENT
BEGIN:VEVENT
DTSTART;TZID=America/New_York:20250910T000000
DTEND;TZID=America/New_York:20260111T000000
DTSTAMP:20260423T054238
CREATED:20250903T163552Z
LAST-MODIFIED:20250903T163552Z
UID:113861-1757462400-1768089600@downtownny.com
SUMMARY:Metamorphosis: Chinese Imagination and Transformation
DESCRIPTION:Opening day of a new exhibition that highlights works by 28 contemporary artists of Chinese descent\, who explore themes of personal\, cultural\, historical and material metamorphosis in dynamic and innovative ways. Across painting\, sculpture\, photography\, animation and installation art\, these works by established and emerging artists of different generations and backgrounds use experimentation to draw on both Eastern and Western art-making practices and materials. Many of the works will be seen in the U.S. for the first time. Important commissions include new paintings by Sun Xun and an immersive Dream Chamber by Bingyi. The exhibition is organized very loosely around four themes: “Metamorphosis of the Body and Self”\, “Metamorphosis of the Environment and Natural World”\, “Historical and Cultural Metamorphosis”\, and “Spiritual Metamorphosis”.
URL:https://downtownny.com/event/metamorphosis-chinese-imagination-and-transformation/
CATEGORIES:Arts & Culture
END:VEVENT
BEGIN:VEVENT
DTSTART;TZID=America/New_York:20251012T110000
DTEND;TZID=America/New_York:20251012T110000
DTSTAMP:20260423T054238
CREATED:20250930T154830Z
LAST-MODIFIED:20250930T154830Z
UID:114724-1760266800-1760266800@downtownny.com
SUMMARY:History Tour of the Battery
DESCRIPTION:Learn about the park’s rich history\, landmarks and monuments\, SeaGlass Carousel\, beautiful perennial gardens designed by renowned Dutch garden designer Piet Oudolf\, and much more.
URL:https://downtownny.com/event/history-tour-of-the-battery-54/
CATEGORIES:Tours
END:VEVENT
BEGIN:VEVENT
DTSTART;TZID=America/New_York:20251012T120000
DTEND;TZID=America/New_York:20251012T120000
DTSTAMP:20260423T054238
CREATED:20250930T154831Z
LAST-MODIFIED:20250930T154831Z
UID:114725-1760270400-1760270400@downtownny.com
SUMMARY:Halloween Paper Crafts and Letterpress Printing
DESCRIPTION:Hands-on experience crafting halloween paper decorations\, paper chains\, and folded-paper bats. For an extra thrill\, our skilled Bowne designers will be on hand to guide you through crafting your own letterpress-printed broadside posters using a 19th century printing press from the Seaport Museum’s working collection.
URL:https://downtownny.com/event/halloween-paper-crafts-and-letterpress-printing/
CATEGORIES:Arts & Culture
END:VEVENT
BEGIN:VEVENT
DTSTART;TZID=America/New_York:20251012T170000
DTEND;TZID=America/New_York:20251012T170000
DTSTAMP:20260423T054238
CREATED:20250930T154831Z
LAST-MODIFIED:20250930T154831Z
UID:114726-1760288400-1760288400@downtownny.com
SUMMARY:An All-of-Society Approach
DESCRIPTION:This is a conversation with Yair Rosenberg and Amy Spitalnick on uprooting antisemitism. Antisemitism fuels hate-filled conspiracy theories that not only drive people to commit horrible acts of violence but also undermine the very fabric of our nation. What we are seeing is a rise in violence against Jews that crosses political ideology and spectrums\, and the normalization of rising antisemitism sets a dangerous precedent.  The story of Pittsburgh and what happened in the aftermath of the deadliest antisemitic attack in U.S. history offers our nation a way forward. Join Yair Rosenberg of The Atlantic for a conversation with Amy Spitalnick\, CEO of the Jewish Council for Public Affairs\, moderated by Carole Zawatsky\, CEO of The Tree of Life\, for a nuanced and engaging discussion.
URL:https://downtownny.com/event/an-all-of-society-approach/
CATEGORIES:Arts & Culture
END:VEVENT
END:VCALENDAR