BEGIN:VCALENDAR
VERSION:2.0
PRODID:-//Downtown Alliance - ECPv6.15.20//NONSGML v1.0//EN
CALSCALE:GREGORIAN
METHOD:PUBLISH
X-WR-CALNAME:Downtown Alliance
X-ORIGINAL-URL:https://downtownny.com
X-WR-CALDESC:Events for Downtown Alliance
REFRESH-INTERVAL;VALUE=DURATION:PT1H
X-Robots-Tag:noindex
X-PUBLISHED-TTL:PT1H
BEGIN:VTIMEZONE
TZID:America/New_York
BEGIN:DAYLIGHT
TZOFFSETFROM:-0500
TZOFFSETTO:-0400
TZNAME:EDT
DTSTART:20240310T070000
END:DAYLIGHT
BEGIN:STANDARD
TZOFFSETFROM:-0400
TZOFFSETTO:-0500
TZNAME:EST
DTSTART:20241103T060000
END:STANDARD
BEGIN:DAYLIGHT
TZOFFSETFROM:-0500
TZOFFSETTO:-0400
TZNAME:EDT
DTSTART:20250309T070000
END:DAYLIGHT
BEGIN:STANDARD
TZOFFSETFROM:-0400
TZOFFSETTO:-0500
TZNAME:EST
DTSTART:20251102T060000
END:STANDARD
BEGIN:DAYLIGHT
TZOFFSETFROM:-0500
TZOFFSETTO:-0400
TZNAME:EDT
DTSTART:20260308T070000
END:DAYLIGHT
BEGIN:STANDARD
TZOFFSETFROM:-0400
TZOFFSETTO:-0500
TZNAME:EST
DTSTART:20261101T060000
END:STANDARD
BEGIN:DAYLIGHT
TZOFFSETFROM:-0500
TZOFFSETTO:-0400
TZNAME:EDT
DTSTART:20270314T070000
END:DAYLIGHT
BEGIN:STANDARD
TZOFFSETFROM:-0400
TZOFFSETTO:-0500
TZNAME:EST
DTSTART:20271107T060000
END:STANDARD
END:VTIMEZONE
BEGIN:VEVENT
DTSTART;TZID=America/New_York:20250411T000000
DTEND;TZID=America/New_York:20260516T000000
DTSTAMP:20260423T170758
CREATED:20250331T135051Z
LAST-MODIFIED:20250331T135051Z
UID:106250-1744329600-1778889600@downtownny.com
SUMMARY:The Golden Thread: New Adventures in Textile Art by Christian Viveros-Fauné
DESCRIPTION:Fiber art exhibition with multiple artists.
URL:https://downtownny.com/event/the-golden-thread-new-adventures-in-textile-art-by-christian-viveros-faune/
CATEGORIES:Arts & Culture
END:VEVENT
BEGIN:VEVENT
DTSTART;TZID=America/New_York:20250910T000000
DTEND;TZID=America/New_York:20260111T000000
DTSTAMP:20260423T170758
CREATED:20250903T163552Z
LAST-MODIFIED:20250903T163552Z
UID:113861-1757462400-1768089600@downtownny.com
SUMMARY:Metamorphosis: Chinese Imagination and Transformation
DESCRIPTION:Opening day of a new exhibition that highlights works by 28 contemporary artists of Chinese descent\, who explore themes of personal\, cultural\, historical and material metamorphosis in dynamic and innovative ways. Across painting\, sculpture\, photography\, animation and installation art\, these works by established and emerging artists of different generations and backgrounds use experimentation to draw on both Eastern and Western art-making practices and materials. Many of the works will be seen in the U.S. for the first time. Important commissions include new paintings by Sun Xun and an immersive Dream Chamber by Bingyi. The exhibition is organized very loosely around four themes: “Metamorphosis of the Body and Self”\, “Metamorphosis of the Environment and Natural World”\, “Historical and Cultural Metamorphosis”\, and “Spiritual Metamorphosis”.
URL:https://downtownny.com/event/metamorphosis-chinese-imagination-and-transformation/
CATEGORIES:Arts & Culture
END:VEVENT
BEGIN:VEVENT
DTSTART;TZID=America/New_York:20251123T000000
DTEND;TZID=America/New_York:20260104T000000
DTSTAMP:20260423T170758
CREATED:20251030T152843Z
LAST-MODIFIED:20251030T152843Z
UID:115892-1763856000-1767484800@downtownny.com
SUMMARY:A Christmas Carol
DESCRIPTION:PAC NYC brings the acclaimed production of A Christmas Carol from London’s The Old Vic to New York in a uniquely intimate staging. Two visionary Tony Award® winners—playwright Jack Thorne (Harry Potter and the Cursed Child\, Netflix’s Adolescence)\, director Matthew Warchus (Matilda The Musical\, God of Carnage)—offer a magical interpretation of Charles Dickens’ timeless classic. Brimming with merriment\, tasty treats\, and holiday cheer\, this immersive production wraps the audience around the action\, inviting the communal holiday spirit in us all. On a bitter Christmas Eve\, a cold-hearted miser is visited by four ghosts. Transported to worlds past\, present\, and future\, Ebenezer Scrooge witnesses what a lifetime of fear and selfishness has led to and sees with fresh eyes the lonely life he has built for himself. Can Ebenezer be saved before it’s too late? Various times.
URL:https://downtownny.com/event/a-christmas-carol/
CATEGORIES:Arts & Culture
END:VEVENT
BEGIN:VEVENT
DTSTART;TZID=America/New_York:20251209T000000
DTEND;TZID=America/New_York:20260104T000000
DTSTAMP:20260423T170758
CREATED:20251202T180902Z
LAST-MODIFIED:20251202T180902Z
UID:118307-1765238400-1767484800@downtownny.com
SUMMARY:Es Devlin: Congregation
DESCRIPTION:Congregation\, a choral installation\, features large-scale chalk and charcoal portraits of 50 Londoners who have experienced forced displacement from their homelands. Presented as a projection-mapped tiered sculpture\, the work offers a luminous encounter with those who bring their gifts to a new country. The work was co-authored by the 50 portrait sitters – reflecting on their lives in London\, as well as their journeys from more than 25 countries\, including Syria\, Sudan\, Ukraine\, and Afghanistan. The accompanying soundscape is composed by Polyphonia\, with film sequences created in collaboration with filmmaker Ruth Hogben and choreographer Botis Seva.
URL:https://downtownny.com/event/es-devlin-congregation/
CATEGORIES:Arts & Culture
END:VEVENT
BEGIN:VEVENT
DTSTART;TZID=America/New_York:20251212T100000
DTEND;TZID=America/New_York:20251212T110000
DTSTAMP:20260423T170758
CREATED:20251202T180955Z
LAST-MODIFIED:20251202T180955Z
UID:118322-1765533600-1765537200@downtownny.com
SUMMARY:BPC Resiliency Drop-ins
DESCRIPTION:Stop by to meet your Community Construction Liaison and members of the Battery Park City Resiliency project team \, have a snack\, and give us your thoughts on the work underway. Light refreshments provided.
URL:https://downtownny.com/event/bpc-resiliency-drop-ins-4/
CATEGORIES:Community
END:VEVENT
BEGIN:VEVENT
DTSTART;TZID=America/New_York:20251212T170000
DTEND;TZID=America/New_York:20251212T190000
DTSTAMP:20260423T170758
CREATED:20251202T180956Z
LAST-MODIFIED:20251202T180956Z
UID:118323-1765558800-1765566000@downtownny.com
SUMMARY:Mah Jongg & More
DESCRIPTION:Join a dedicated group of adult American Mah Jongg enthusiasts for friendly and informal games\, or try your hand at other card and board games. Make friends and catch up with neighbors. Sets\, cards\, and games provided\, or bring your own.
URL:https://downtownny.com/event/mah-jongg-more-107/
CATEGORIES:Community
END:VEVENT
BEGIN:VEVENT
DTSTART;TZID=America/New_York:20251212T183000
DTEND;TZID=America/New_York:20251212T183000
DTSTAMP:20260423T170758
CREATED:20251202T180956Z
LAST-MODIFIED:20251202T180956Z
UID:118324-1765564200-1765564200@downtownny.com
SUMMARY:Type Tonight
DESCRIPTION:Join the typographically-inclined at Bowne & Co. for an evening that celebrates a shared love of type\, lettering\, and the written word. The evening will begin with a casual social mixer\, and follow with three presenters who will share works-in-progress and invite friendly\, informal critique. This welcoming\, inclusive event is open to anyone who loves type—designers\, artists\, and curious newcomers alike. Whether you’re just starting out or already established\, Type Tonight offers a space to connect\, exchange ideas\, and spark meaningful conversations.
URL:https://downtownny.com/event/type-tonight-2/
CATEGORIES:Arts & Culture
END:VEVENT
BEGIN:VEVENT
DTSTART;TZID=America/New_York:20251212T190000
DTEND;TZID=America/New_York:20251212T190000
DTSTAMP:20260423T170758
CREATED:20251202T180956Z
LAST-MODIFIED:20251202T180956Z
UID:118325-1765566000-1765566000@downtownny.com
SUMMARY:Alexia Bomtempo Featuring K Starck
DESCRIPTION:Brazilian-American singer and songwriter Alexia Bomtempo is joined by K Starck\, a 23-year-old soprano and interdisciplinary artist who grew up in Venice\, Italy.
URL:https://downtownny.com/event/alexia-bomtempo-featuring-k-starck/
CATEGORIES:Arts & Culture
END:VEVENT
BEGIN:VEVENT
DTSTART;TZID=America/New_York:20251212T190000
DTEND;TZID=America/New_York:20251212T190000
DTSTAMP:20260423T170758
CREATED:20251202T181002Z
LAST-MODIFIED:20251202T181002Z
UID:118326-1765566000-1765566000@downtownny.com
SUMMARY:Handel’s “Messiah”
DESCRIPTION:Renowned annual performance The New York Times hails as no less than the “gold standard.” Featuring the peerless Trinity Choir and Trinity Baroque Orchestra\, this “transcendent and awe-inspiring” Messiah has captivated audiences since it was first presented in 1770. Trinity’s unique\, historically informed Messiah is authentically performed on period instruments and sung in baroque style in an acoustically rich space. This year for the first time the oratorio will be split into two parts\, with performances at both Christmas and Easter\, led by Trinity’s acclaimed Director of Music\, Melissa Attebury.
URL:https://downtownny.com/event/handels-messiah-6/
LOCATION:Trinity Church
CATEGORIES:Arts & Culture
END:VEVENT
END:VCALENDAR