BEGIN:VCALENDAR
VERSION:2.0
PRODID:-//Downtown Alliance - ECPv6.15.20//NONSGML v1.0//EN
CALSCALE:GREGORIAN
METHOD:PUBLISH
X-ORIGINAL-URL:https://downtownny.com
X-WR-CALDESC:Events for Downtown Alliance
REFRESH-INTERVAL;VALUE=DURATION:PT1H
X-Robots-Tag:noindex
X-PUBLISHED-TTL:PT1H
BEGIN:VTIMEZONE
TZID:America/New_York
BEGIN:DAYLIGHT
TZOFFSETFROM:-0500
TZOFFSETTO:-0400
TZNAME:EDT
DTSTART:20240310T070000
END:DAYLIGHT
BEGIN:STANDARD
TZOFFSETFROM:-0400
TZOFFSETTO:-0500
TZNAME:EST
DTSTART:20241103T060000
END:STANDARD
BEGIN:DAYLIGHT
TZOFFSETFROM:-0500
TZOFFSETTO:-0400
TZNAME:EDT
DTSTART:20250309T070000
END:DAYLIGHT
BEGIN:STANDARD
TZOFFSETFROM:-0400
TZOFFSETTO:-0500
TZNAME:EST
DTSTART:20251102T060000
END:STANDARD
BEGIN:DAYLIGHT
TZOFFSETFROM:-0500
TZOFFSETTO:-0400
TZNAME:EDT
DTSTART:20260308T070000
END:DAYLIGHT
BEGIN:STANDARD
TZOFFSETFROM:-0400
TZOFFSETTO:-0500
TZNAME:EST
DTSTART:20261101T060000
END:STANDARD
BEGIN:DAYLIGHT
TZOFFSETFROM:-0500
TZOFFSETTO:-0400
TZNAME:EDT
DTSTART:20270314T070000
END:DAYLIGHT
BEGIN:STANDARD
TZOFFSETFROM:-0400
TZOFFSETTO:-0500
TZNAME:EST
DTSTART:20271107T060000
END:STANDARD
END:VTIMEZONE
BEGIN:VEVENT
DTSTART;TZID=America/New_York:20250411T000000
DTEND;TZID=America/New_York:20260516T000000
DTSTAMP:20260423T170125
CREATED:20250331T135051Z
LAST-MODIFIED:20250331T135051Z
UID:106250-1744329600-1778889600@downtownny.com
SUMMARY:The Golden Thread: New Adventures in Textile Art by Christian Viveros-Fauné
DESCRIPTION:Fiber art exhibition with multiple artists.
URL:https://downtownny.com/event/the-golden-thread-new-adventures-in-textile-art-by-christian-viveros-faune/
CATEGORIES:Arts & Culture
END:VEVENT
BEGIN:VEVENT
DTSTART;TZID=America/New_York:20260131T103000
DTEND;TZID=America/New_York:20260131T103000
DTSTAMP:20260423T170125
CREATED:20251231T162019Z
LAST-MODIFIED:20251231T162019Z
UID:119091-1769855400-1769855400@downtownny.com
SUMMARY:Rosie Revere\, Engineer
DESCRIPTION:Read-aloud of Andrea Beaty’s Rosie Revere\, Engineer to hear how the kid- engineer Rosie uses household objects to invent her gadgets and gizmos. Can you do the same for skyscrapers? We’ll learn about the role of engineers and then use our own creative minds to use everyday materials to build tall structures! Ages 5+.
URL:https://downtownny.com/event/rosie-revere-engineer-2/
CATEGORIES:Arts & Culture
END:VEVENT
BEGIN:VEVENT
DTSTART;TZID=America/New_York:20260131T143000
DTEND;TZID=America/New_York:20260131T143000
DTSTAMP:20260423T170125
CREATED:20251231T162019Z
LAST-MODIFIED:20251231T162019Z
UID:119092-1769869800-1769869800@downtownny.com
SUMMARY:Neptune's Fortune
DESCRIPTION:The latest book by acclaimed author and journalist Julian Sancton hits shelves on January 27\, 2026—and you’re invited to its New York launch at the South Street Seaport Museum! Sancton’s new work\, Neptune’s Fortune: The Billion-Dollar Shipwreck and the Ghosts of the Spanish Empire\, tells the riveting true story of the San José\, a legendary Spanish galleon that sank off the coast of Colombia carrying more than $1 billion in gold and silver. At the heart of the book is Roger Dooley’s decades-long\, obsessive quest to locate the wreck. Get your ticket today to hear Sancton share his research\, behind-the-scenes stories\, and a presentation featuring photos that illuminate his journey. This work also explores the history of the Spanish colonies\, naval warfare\, diving and underwater exploration technology\, Cuban-American relations\, treasure hunting\, and the ethical quandaries of excavating historic sites. In addition to learning more about his process\, the program will include readings from the book and end with a moderated discussion with the award-winning author.
URL:https://downtownny.com/event/neptunes-fortune/
CATEGORIES:Arts & Culture
END:VEVENT
BEGIN:VEVENT
DTSTART;TZID=America/New_York:20260131T190000
DTEND;TZID=America/New_York:20260131T190000
DTSTAMP:20260423T170125
CREATED:20251231T162019Z
LAST-MODIFIED:20251231T162019Z
UID:119093-1769886000-1769886000@downtownny.com
SUMMARY:Thekoiway
DESCRIPTION:Musical performance.
URL:https://downtownny.com/event/thekoiway-2/
CATEGORIES:Arts & Culture
END:VEVENT
END:VCALENDAR