BEGIN:VCALENDAR
VERSION:2.0
PRODID:-//Downtown Alliance - ECPv6.15.20//NONSGML v1.0//EN
CALSCALE:GREGORIAN
METHOD:PUBLISH
X-ORIGINAL-URL:https://downtownny.com
X-WR-CALDESC:Events for Downtown Alliance
REFRESH-INTERVAL;VALUE=DURATION:PT1H
X-Robots-Tag:noindex
X-PUBLISHED-TTL:PT1H
BEGIN:VTIMEZONE
TZID:America/New_York
BEGIN:DAYLIGHT
TZOFFSETFROM:-0500
TZOFFSETTO:-0400
TZNAME:EDT
DTSTART:20240310T070000
END:DAYLIGHT
BEGIN:STANDARD
TZOFFSETFROM:-0400
TZOFFSETTO:-0500
TZNAME:EST
DTSTART:20241103T060000
END:STANDARD
BEGIN:DAYLIGHT
TZOFFSETFROM:-0500
TZOFFSETTO:-0400
TZNAME:EDT
DTSTART:20250309T070000
END:DAYLIGHT
BEGIN:STANDARD
TZOFFSETFROM:-0400
TZOFFSETTO:-0500
TZNAME:EST
DTSTART:20251102T060000
END:STANDARD
BEGIN:DAYLIGHT
TZOFFSETFROM:-0500
TZOFFSETTO:-0400
TZNAME:EDT
DTSTART:20260308T070000
END:DAYLIGHT
BEGIN:STANDARD
TZOFFSETFROM:-0400
TZOFFSETTO:-0500
TZNAME:EST
DTSTART:20261101T060000
END:STANDARD
BEGIN:DAYLIGHT
TZOFFSETFROM:-0500
TZOFFSETTO:-0400
TZNAME:EDT
DTSTART:20270314T070000
END:DAYLIGHT
BEGIN:STANDARD
TZOFFSETFROM:-0400
TZOFFSETTO:-0500
TZNAME:EST
DTSTART:20271107T060000
END:STANDARD
END:VTIMEZONE
BEGIN:VEVENT
DTSTART;TZID=America/New_York:20250411T000000
DTEND;TZID=America/New_York:20260516T000000
DTSTAMP:20260423T154353
CREATED:20250331T135051Z
LAST-MODIFIED:20250331T135051Z
UID:106250-1744329600-1778889600@downtownny.com
SUMMARY:The Golden Thread: New Adventures in Textile Art by Christian Viveros-Fauné
DESCRIPTION:Fiber art exhibition with multiple artists.
URL:https://downtownny.com/event/the-golden-thread-new-adventures-in-textile-art-by-christian-viveros-faune/
CATEGORIES:Arts & Culture
END:VEVENT
BEGIN:VEVENT
DTSTART;TZID=America/New_York:20260222T113000
DTEND;TZID=America/New_York:20260222T113000
DTSTAMP:20260423T154353
CREATED:20260129T165259Z
LAST-MODIFIED:20260129T165259Z
UID:119893-1771759800-1771759800@downtownny.com
SUMMARY:Dinos that Drive
DESCRIPTION:Join author Suzy Levinson as she reads her story Dinos that Drive! Brontosaurus\, Triceratops\, Pterodactyl and T. rex are all here to show off their driving\, flying and diving skills in this riotous\, fully illustrated book of poems about dinosaurs and their favorite things-that-go.
URL:https://downtownny.com/event/dinos-that-drive/
CATEGORIES:Arts & Culture
END:VEVENT
BEGIN:VEVENT
DTSTART;TZID=America/New_York:20260222T140000
DTEND;TZID=America/New_York:20260222T140000
DTSTAMP:20260423T154353
CREATED:20260129T165259Z
LAST-MODIFIED:20260129T165259Z
UID:119894-1771768800-1771768800@downtownny.com
SUMMARY:Films at the Museum: “Plunderer” Screening & Talkback
DESCRIPTION:Plunderer is a feature-length documentary that focuses on the career of Bruno Lohse\, a Nazi art dealer who served as Göring’s art agent in Paris and headed the ERR\, the Nazis’ clearinghouse for confiscated art in France. Captured and interrogated by the Monuments Men after the war\, Lohse served a brief prison sentence. Following his release\, he profitably dealt in stolen art for sixty years\, selling to collectors\, galleries\, and major museums. The film includes stories of Holocaust survivors working to reclaim their families’ lost artworks and examines the continuity between the post-war era and the contemporary art world and its secretive culture.
URL:https://downtownny.com/event/films-at-the-museum-plunderer-screening-talkback/
CATEGORIES:Arts & Culture
END:VEVENT
END:VCALENDAR