BEGIN:VCALENDAR
VERSION:2.0
PRODID:-//Downtown Alliance - ECPv6.15.20//NONSGML v1.0//EN
CALSCALE:GREGORIAN
METHOD:PUBLISH
X-ORIGINAL-URL:https://downtownny.com
X-WR-CALDESC:Events for Downtown Alliance
REFRESH-INTERVAL;VALUE=DURATION:PT1H
X-Robots-Tag:noindex
X-PUBLISHED-TTL:PT1H
BEGIN:VTIMEZONE
TZID:America/New_York
BEGIN:DAYLIGHT
TZOFFSETFROM:-0500
TZOFFSETTO:-0400
TZNAME:EDT
DTSTART:20240310T070000
END:DAYLIGHT
BEGIN:STANDARD
TZOFFSETFROM:-0400
TZOFFSETTO:-0500
TZNAME:EST
DTSTART:20241103T060000
END:STANDARD
BEGIN:DAYLIGHT
TZOFFSETFROM:-0500
TZOFFSETTO:-0400
TZNAME:EDT
DTSTART:20250309T070000
END:DAYLIGHT
BEGIN:STANDARD
TZOFFSETFROM:-0400
TZOFFSETTO:-0500
TZNAME:EST
DTSTART:20251102T060000
END:STANDARD
BEGIN:DAYLIGHT
TZOFFSETFROM:-0500
TZOFFSETTO:-0400
TZNAME:EDT
DTSTART:20260308T070000
END:DAYLIGHT
BEGIN:STANDARD
TZOFFSETFROM:-0400
TZOFFSETTO:-0500
TZNAME:EST
DTSTART:20261101T060000
END:STANDARD
BEGIN:DAYLIGHT
TZOFFSETFROM:-0500
TZOFFSETTO:-0400
TZNAME:EDT
DTSTART:20270314T070000
END:DAYLIGHT
BEGIN:STANDARD
TZOFFSETFROM:-0400
TZOFFSETTO:-0500
TZNAME:EST
DTSTART:20271107T060000
END:STANDARD
END:VTIMEZONE
BEGIN:VEVENT
DTSTART;TZID=America/New_York:20250411T000000
DTEND;TZID=America/New_York:20260516T000000
DTSTAMP:20260423T170459
CREATED:20250331T135051Z
LAST-MODIFIED:20250331T135051Z
UID:106250-1744329600-1778889600@downtownny.com
SUMMARY:The Golden Thread: New Adventures in Textile Art by Christian Viveros-Fauné
DESCRIPTION:Fiber art exhibition with multiple artists.
URL:https://downtownny.com/event/the-golden-thread-new-adventures-in-textile-art-by-christian-viveros-faune/
CATEGORIES:Arts & Culture
END:VEVENT
BEGIN:VEVENT
DTSTART;TZID=America/New_York:20260307T000000
DTEND;TZID=America/New_York:20260328T000000
DTSTAMP:20260423T170459
CREATED:20260227T195818Z
LAST-MODIFIED:20260227T195818Z
UID:120793-1772841600-1774656000@downtownny.com
SUMMARY:Trash
DESCRIPTION:Tim and Jake are Deaf roommates sharing an apartment in the city—but not much else. They’re polar opposites\, each with very different views on what it means to be Deaf in a hearing world. When it comes to taking out the trash\, they spiral into a comic and insightful examination of their personal garbage and their perceptions of each other’s lives. Performed almost exclusively in ASL (American Sign Language)\, Trash employs surprising theatrical devices that allow all audiences to understand the play (and each other) in profoundly new ways.
URL:https://downtownny.com/event/trash/
CATEGORIES:Arts & Culture
END:VEVENT
BEGIN:VEVENT
DTSTART;VALUE=DATE:20260308
DTEND;VALUE=DATE:20260322
DTSTAMP:20260423T170459
CREATED:20260127T170757Z
LAST-MODIFIED:20260127T170757Z
UID:119419-1772928000-1774137599@downtownny.com
SUMMARY:Professional Women Photographers Open Call: Small Works — A Fundraiser Exhibition
DESCRIPTION:Mar 8 – Mar 21\, 2026\nProfessional Women Photographers (PWP) invites women and non-binary artists to submit cell phone photographs for Small Works\, a juried fundraiser exhibition presented in celebration of PWP’s 50th Anniversary. \nCurated by Claudia Sohrens\, Small Works embraces phoneography as an accessible and contemporary practice\, exploring how everyday acts of seeing can become forms of collective storytelling shaped by personal\, social\, political\, and environmental conditions. \nThis exhibition also serves as a fundraiser for the PWP 50th Anniversary Documentary\, a film project dedicated to preserving and amplifying the history\, impact\, and voices of women in photography. \nOpen worldwide to women and non-binary photographers\, age 18 and older. \nSubmission Fee\n$10 — PWP Members\n$10 — Student\n$20 — Non-Members \nSelected works will be exhibited in a grid format at The Breezeway at BMCC Tribeca Performing Arts Center in New York City from March 8–21\, 2026.
URL:https://downtownny.com/event/professional-women-photographers-open-call-small-works-a-fundraiser-exhibition/
LOCATION:Tribeca Perf. Arts Center
CATEGORIES:Fundraiser.
ATTACH;FMTTYPE=image/png:https://downtownny.com/wp-content/uploads/2026/01/PWP-50-Years-Face-Only_bk.png
END:VEVENT
BEGIN:VEVENT
DTSTART;TZID=America/New_York:20260310T140000
DTEND;TZID=America/New_York:20260310T160000
DTSTAMP:20260423T170459
CREATED:20260227T200219Z
LAST-MODIFIED:20260227T200219Z
UID:120804-1773151200-1773158400@downtownny.com
SUMMARY:Mah Jongg & More
DESCRIPTION:Join a dedicated group of adult American Mah Jongg enthusiasts for friendly and informal games\, or try your hand at other card and board games. Make friends and catch up with neighbors. Sets\, cards\, and games provided\, or bring your own.
URL:https://downtownny.com/event/mah-jongg-more-127/
CATEGORIES:Community
END:VEVENT
BEGIN:VEVENT
DTSTART;TZID=America/New_York:20260310T180000
DTEND;TZID=America/New_York:20260310T180000
DTSTAMP:20260423T170459
CREATED:20260227T200417Z
LAST-MODIFIED:20260227T200417Z
UID:120805-1773165600-1773165600@downtownny.com
SUMMARY:The Greenies
DESCRIPTION:Book launch. The Baby-Sitters Club meets The Breakfast Club in this fun and fresh graphic novel about a girl who reluctantly joins the Environmental Club at her new school–and finds friendship and community where she least expects it.
URL:https://downtownny.com/event/the-greenies/
CATEGORIES:Arts & Culture
END:VEVENT
BEGIN:VEVENT
DTSTART;TZID=America/New_York:20260310T180000
DTEND;TZID=America/New_York:20260310T200000
DTSTAMP:20260423T170459
CREATED:20260227T200418Z
LAST-MODIFIED:20260227T200418Z
UID:120806-1773165600-1773172800@downtownny.com
SUMMARY:The Gods of New York
DESCRIPTION:Between 1986 and 1990\, New York City seemed to be on the rebound from the fiscal collapse of the 1970s. But beneath the surface\, the city was coming apart at the seams. Racial conflict\, the AIDS epidemic\, widening inequality\, media sensationalism and political realignment were tearing at its civic fabric. Out of that turbulence\, the modern city we know today was born. Join acclaimed author and journalist Jonathan Mahler for a discussion of this pivotal era as chronicled in his latest book\, “The Gods of New York.”
URL:https://downtownny.com/event/the-gods-of-new-york/
CATEGORIES:Arts & Culture
END:VEVENT
BEGIN:VEVENT
DTSTART;TZID=America/New_York:20260310T190000
DTEND;TZID=America/New_York:20260310T190000
DTSTAMP:20260423T170459
CREATED:20260227T200418Z
LAST-MODIFIED:20260227T200418Z
UID:120808-1773169200-1773169200@downtownny.com
SUMMARY:Down Time
DESCRIPTION:Andrew Martin presents his novel Down Time\, in conversation with Halle Butler. A terribly funny and lovably louche novel about five friends growing older\, if not always up\, from the author of Early Work and Cool for America.
URL:https://downtownny.com/event/down-time/
CATEGORIES:Arts & Culture
END:VEVENT
BEGIN:VEVENT
DTSTART;TZID=America/New_York:20260310T190000
DTEND;TZID=America/New_York:20260310T203000
DTSTAMP:20260423T170459
CREATED:20260227T200418Z
LAST-MODIFIED:20260227T200418Z
UID:120807-1773169200-1773174600@downtownny.com
SUMMARY:The Moth Community Story Slam
DESCRIPTION:The Moth Community StorySLAM is a noncompetitive\, open-mic storytelling event in which anyone can put their name in a hat to share a five minute personal story on the night’s theme live without notes!
URL:https://downtownny.com/event/the-moth-community-story-slam-3/
CATEGORIES:Community
END:VEVENT
END:VCALENDAR