BEGIN:VCALENDAR
VERSION:2.0
PRODID:-//Downtown Alliance - ECPv6.15.20//NONSGML v1.0//EN
CALSCALE:GREGORIAN
METHOD:PUBLISH
X-ORIGINAL-URL:https://downtownny.com
X-WR-CALDESC:Events for Downtown Alliance
REFRESH-INTERVAL;VALUE=DURATION:PT1H
X-Robots-Tag:noindex
X-PUBLISHED-TTL:PT1H
BEGIN:VTIMEZONE
TZID:America/New_York
BEGIN:DAYLIGHT
TZOFFSETFROM:-0500
TZOFFSETTO:-0400
TZNAME:EDT
DTSTART:20230312T070000
END:DAYLIGHT
BEGIN:STANDARD
TZOFFSETFROM:-0400
TZOFFSETTO:-0500
TZNAME:EST
DTSTART:20231105T060000
END:STANDARD
BEGIN:DAYLIGHT
TZOFFSETFROM:-0500
TZOFFSETTO:-0400
TZNAME:EDT
DTSTART:20240310T070000
END:DAYLIGHT
BEGIN:STANDARD
TZOFFSETFROM:-0400
TZOFFSETTO:-0500
TZNAME:EST
DTSTART:20241103T060000
END:STANDARD
BEGIN:DAYLIGHT
TZOFFSETFROM:-0500
TZOFFSETTO:-0400
TZNAME:EDT
DTSTART:20250309T070000
END:DAYLIGHT
BEGIN:STANDARD
TZOFFSETFROM:-0400
TZOFFSETTO:-0500
TZNAME:EST
DTSTART:20251102T060000
END:STANDARD
END:VTIMEZONE
BEGIN:VEVENT
DTSTART;TZID=America/New_York:20240609T090000
DTEND;TZID=America/New_York:20240609T090000
DTSTAMP:20260424T101349
CREATED:20240531T191833Z
LAST-MODIFIED:20240531T191833Z
UID:97938-1717923600-1717923600@downtownny.com
SUMMARY:Vinyasa on a Vessel
DESCRIPTION:Anyone ages 12 and up is invited to start your Sunday with a mindful and invigorating 60-minute practice that is both accessible and challenging for all skill levels. Each session is peppered with information about the vessel itself and playlists are thoughtfully developed to reflect the serenity of the water and lively seasonal themes.
URL:https://downtownny.com/event/vinyasa-on-a-vessel-8/
CATEGORIES:Arts & Culture
END:VEVENT
BEGIN:VEVENT
DTSTART;TZID=America/New_York:20240609T103000
DTEND;TZID=America/New_York:20240609T103000
DTSTAMP:20260424T101349
CREATED:20240531T191834Z
LAST-MODIFIED:20240531T191834Z
UID:97939-1717929000-1717929000@downtownny.com
SUMMARY:Playscape Performs
DESCRIPTION:Family-oriented shows at the ShowBox\, the first improv theater in a New York City playground. Show is repeated at 12:30pm.
URL:https://downtownny.com/event/playscape-performs-23/
CATEGORIES:Arts & Culture
END:VEVENT
BEGIN:VEVENT
DTSTART;TZID=America/New_York:20240609T130000
DTEND;TZID=America/New_York:20240609T130000
DTSTAMP:20260424T101349
CREATED:20240531T191834Z
LAST-MODIFIED:20240531T191834Z
UID:97940-1717938000-1717938000@downtownny.com
SUMMARY:Member Tour of Courage to Act: Rescue in Denmark
DESCRIPTION:
URL:https://downtownny.com/event/member-tour-of-courage-to-act-rescue-in-denmark/
LOCATION:Museum of Jewish Heritage
CATEGORIES:Arts & Culture
END:VEVENT
BEGIN:VEVENT
DTSTART;TZID=America/New_York:20240609T140000
DTEND;TZID=America/New_York:20240609T140000
DTSTAMP:20260424T101349
CREATED:20240531T191835Z
LAST-MODIFIED:20240531T191835Z
UID:97941-1717941600-1717941600@downtownny.com
SUMMARY:Sunday Afternoon Music: The Life of a Black Baritone
DESCRIPTION:Jonathan R. Green\, baritone\, presents a lecture recital honoring the life and legacy of Black baritone Robert McFerrin\, featuring works by H.T. Burleigh\, Stephen Flaherty\, George Gershwin\, Charles Gounod\, Moses Hogan\, Hall Johnson\, Jerome Kern\, Gioachino Rossini\, William Grant Still\, Giuseppe Verdi\, and Andrew Lloyd Webber.
URL:https://downtownny.com/event/sunday-afternoon-music-the-life-of-a-black-baritone/
CATEGORIES:Arts & Culture
END:VEVENT
BEGIN:VEVENT
DTSTART;TZID=America/New_York:20240609T190000
DTEND;TZID=America/New_York:20240609T190000
DTSTAMP:20260424T101349
CREATED:20240531T192028Z
LAST-MODIFIED:20240531T192028Z
UID:97944-1717959600-1717959600@downtownny.com
SUMMARY:“Treasure” Film Screening
DESCRIPTION:A father-daughter road trip set in 1990s Poland\, Treasure follows Ruth (Lena Dunham)\, an American music journalist\, and her father\, Edek (Stephen Fry)\, a charmingly stubborn Holocaust survivor\, on a journey to his homeland. While Ruth is eager to make sense of her family’s past\, Edek embarks on the trip with his own agenda. This emotional\, funny culture clash of two New Yorkers exploring post-socialist Poland is a powerful example of how reconnecting with family and the past can be an unexpected treasure. Following the film there will be a short Q&A with the film’s director Julia von Heinz and Lily Brett\, author of Too Many Men\, from which the film was adapted.
URL:https://downtownny.com/event/treasure-film-screening/
CATEGORIES:Arts & Culture
END:VEVENT
BEGIN:VEVENT
DTSTART;TZID=America/New_York:20240610T140000
DTEND;TZID=America/New_York:20240610T153000
DTSTAMP:20260424T101349
CREATED:20240531T192029Z
LAST-MODIFIED:20240531T192029Z
UID:97946-1718028000-1718033400@downtownny.com
SUMMARY:Creative Writing
DESCRIPTION:Walk & writing session led by poet Jon Curley. Participants will be encouraged to use observations as a way to enhance their writing styles in any preferred mode. Registration required\, please email: registration@bpca.ny.gov.
URL:https://downtownny.com/event/creative-writing-27/
CATEGORIES:Arts & Culture
END:VEVENT
BEGIN:VEVENT
DTSTART;TZID=America/New_York:20240610T190000
DTEND;TZID=America/New_York:20240610T190000
DTSTAMP:20260424T101349
CREATED:20240531T192229Z
LAST-MODIFIED:20240531T192229Z
UID:97949-1718046000-1718046000@downtownny.com
SUMMARY:The History of Antisemitism: Henry Ford
DESCRIPTION:Antisemitism flourished in early twentieth-century America. The Great Wave of Immigration from 1881 to 1914 brought 2.2 million eastern European Jews to America\, fleeing persecution and seeking opportunity. They were often met with suspicion\, and even violence. One such person who is emblematic of the antisemitism of this time is Henry Ford\, founder of the Ford Motor Company. In 1918\, Ford purchased a newspaper\, The Dearborn Independent\, where he published antisemitic articles that would later become four volumes titled The International Jew. Based on The Protocols of the Elders of Zion\, which described an international ruling conspiracy\, the article series alleged that such a conspiracy was infiltrating America. These articles ran from 1920 to 1924\, reaching hundreds of thousands of readers and legitimizing ideas that otherwise may have remained on the fringe. Join the Museum for a panel discussion about Henry Ford’s antisemitism and its wide-ranging effects with Hasia R. Diner\, Professor Emerita in the Departments of History and the Skirball Department of Hebrew and Judaic Studies at New York University; Steven Watts\, author of The People’s Tycoon: Henry Ford and the American Century; and Victoria Woeste\, author of Henry Ford’s War on Jews and the Legal Battles Against Hate Speech. They will be in conversation with Britt Tevis\, Rene Plessner Postdoctoral Fellow in Holocaust and Antisemitism Studies at Columbia University.
URL:https://downtownny.com/event/the-history-of-antisemitism-henry-ford/
CATEGORIES:Arts & Culture
END:VEVENT
BEGIN:VEVENT
DTSTART;TZID=America/New_York:20240611T170000
DTEND;TZID=America/New_York:20240611T170000
DTSTAMP:20260424T101349
CREATED:20240531T192431Z
LAST-MODIFIED:20240531T192431Z
UID:97955-1718125200-1718125200@downtownny.com
SUMMARY:EVER UPWARD: Book Panel Discussion
DESCRIPTION:Skyscrapers today are controversial – especially in New York – but globally they are getting taller and more numerous. This evening features two authors\, an economist\, Jason M. Barr\, and a real estate reporter\, Katherine Clarke\, discussing their recent books on supertall skyscrapers. The program\, which is organized by the Council on Tall Buildings and Urban Habitat (CTBUH)\, New York Chapter\, will be moderated by Peyman Askari\, founding principal of PAN Partners and the CTBUH New York Chapter Executive/Co-Chair.
URL:https://downtownny.com/event/ever-upward-book-panel-discussion/
CATEGORIES:Arts & Culture
END:VEVENT
BEGIN:VEVENT
DTSTART;TZID=America/New_York:20240611T180000
DTEND;TZID=America/New_York:20240611T180000
DTSTAMP:20260424T101349
CREATED:20240531T192431Z
LAST-MODIFIED:20240531T192431Z
UID:97956-1718128800-1718128800@downtownny.com
SUMMARY:A Taste of California in New York: Wine Tasting at the China Institute Culinary Center
DESCRIPTION:Celebrate the Grand Opening of the China Institute Culinary Center and savor an exquisite wine tasting experience. Paired with curated ideal finger food selections\, this event features wines from five California wineries\, blending West Coast flavors seamlessly in the heart of New York City.
URL:https://downtownny.com/event/a-taste-of-california-in-new-york-wine-tasting-at-the-china-institute-culinary-center/
CATEGORIES:Arts & Culture
END:VEVENT
BEGIN:VEVENT
DTSTART;TZID=America/New_York:20240611T183000
DTEND;TZID=America/New_York:20240611T183000
DTSTAMP:20260424T101349
CREATED:20240531T192432Z
LAST-MODIFIED:20240531T192432Z
UID:97957-1718130600-1718130600@downtownny.com
SUMMARY:Anastasia Berg and Rachel Wiseman present What Are Children For?\, in conversation with Liz Bruenig
DESCRIPTION:A modern argument\, grounded in philosophy and cultural criticism\, about childbearing ambivalence and how to overcome it.
URL:https://downtownny.com/event/anastasia-berg-and-rachel-wiseman-present-what-are-children-for-in-conversation-with-liz-bruenig/
CATEGORIES:Arts & Culture
END:VEVENT
BEGIN:VEVENT
DTSTART;TZID=America/New_York:20240612T100000
DTEND;TZID=America/New_York:20240612T120000
DTSTAMP:20260424T101349
CREATED:20240531T192433Z
LAST-MODIFIED:20240531T192433Z
UID:97958-1718186400-1718193600@downtownny.com
SUMMARY:Figure al Fresco
DESCRIPTION:Observe and sketch the human figure in a park setting. Each week a model will strike short and long poses for participants to draw. An artist/ educator will offer constructive suggestions and critique. Drawing materials provided; artists are encouraged to bring their own favorite media.
URL:https://downtownny.com/event/figure-al-fresco-56/
CATEGORIES:Arts & Culture
END:VEVENT
BEGIN:VEVENT
DTSTART;TZID=America/New_York:20240612T140000
DTEND;TZID=America/New_York:20240612T160000
DTSTAMP:20260424T101349
CREATED:20240531T192631Z
LAST-MODIFIED:20240531T192631Z
UID:97959-1718200800-1718208000@downtownny.com
SUMMARY:Elements of Nature Drawing
DESCRIPTION:Join our community of artists of all skill levels as we are inspired by our surroundings to create with drawing materials\, pastels and watercolors. Embolden your artwork amidst the flower-filled and seasonally evolving palette of BPC’s verdant gardens. An artist/ educator will provide ideas and instruction. Materials provided\, and artists are encouraged to bring their own favorite media.
URL:https://downtownny.com/event/elements-of-nature-drawing-77/
CATEGORIES:Arts & Culture
END:VEVENT
BEGIN:VEVENT
DTSTART;TZID=America/New_York:20240613T000000
DTEND;TZID=America/New_York:20240714T000000
DTSTAMP:20260424T101349
CREATED:20240531T192632Z
LAST-MODIFIED:20240531T192632Z
UID:97961-1718236800-1720915200@downtownny.com
SUMMARY:CATS: The Jellicle Ball
DESCRIPTION:A radical reimagining of Andrew Lloyd Webber’s iconic musical based on T. S. Eliot’s Old Possum’s Book of Practical Cats. Inspired by the Ballroom culture that roared out of New York City over 50 years ago and still rages around the world. Staged as a spectacularly immersive competition by Zhailon Levingston (Tina: The Tina Turner Musical\, Chicken & Biscuits) and PAC NYC Artistic Director Bill Rauch (All the Way)\, with all-new Ballroom and club beats\, runway-ready choreography\, and an edgy eleganza makeover that moves the action from junkyard to catwalk. 
URL:https://downtownny.com/event/cats-the-jellicle-ball/
CATEGORIES:Arts & Culture
END:VEVENT
BEGIN:VEVENT
DTSTART;TZID=America/New_York:20240613T110000
DTEND;TZID=America/New_York:20240613T180000
DTSTAMP:20260424T101349
CREATED:20240531T192633Z
LAST-MODIFIED:20240531T192633Z
UID:97963-1718276400-1718301600@downtownny.com
SUMMARY:The New York City Poetry Festival
DESCRIPTION:Hear poetry hailing from every corner of NYC. Share your poems on our open-mic stage.
URL:https://downtownny.com/event/the-new-york-city-poetry-festival/
CATEGORIES:Arts & Culture
END:VEVENT
BEGIN:VEVENT
DTSTART;TZID=America/New_York:20240613T183000
DTEND;TZID=America/New_York:20240613T193000
DTSTAMP:20260424T101349
CREATED:20240531T192834Z
LAST-MODIFIED:20240531T192834Z
UID:97968-1718303400-1718307000@downtownny.com
SUMMARY:Interludes: Victor V. Gurbo
DESCRIPTION:Roots revivalist Victor V. Gurbo and his four-piece backing band create original folk ballads infused with an Americana spirit. This award winning band pays homage to the canon of American song and poetry with a raw\, bluesy\, foot-stomping sound that’s both classic and contemporary.
URL:https://downtownny.com/event/interludes-victor-v-gurbo/
CATEGORIES:Arts & Culture
END:VEVENT
BEGIN:VEVENT
DTSTART;TZID=America/New_York:20240614T120000
DTEND;TZID=America/New_York:20240614T170000
DTSTAMP:20260424T101349
CREATED:20240531T193738Z
LAST-MODIFIED:20240531T193738Z
UID:97970-1718366400-1718384400@downtownny.com
SUMMARY:Flag Day Parade\, Celebration\, and Open House
DESCRIPTION:This Flag Day Parade will kick off at noon from City Hall Park\, march down Broadway\, and end at the grandstand in front of Fraunces Tavern at about 12:30pm. An open house will be underway at Fraunces Tavern Museum\, where a ceremony will include student essay contest winners reading their essays on “What the American Flag Means to Me.”
URL:https://downtownny.com/event/flag-day-parade-celebration-and-open-house/
CATEGORIES:Arts & Culture
END:VEVENT
BEGIN:VEVENT
DTSTART;TZID=America/New_York:20240615T100000
DTEND;TZID=America/New_York:20240615T120000
DTSTAMP:20260424T101349
CREATED:20240531T193739Z
LAST-MODIFIED:20240531T193739Z
UID:97972-1718445600-1718452800@downtownny.com
SUMMARY:Drawing in the Park
DESCRIPTION:Paint in watercolor or use pastels and other drawing materials to capture the magical vistas of the Hudson River and the unique landscape of South Cove. An artist/educator will help participants of all levels with instruction and critique. Materials provided\, and artists are encouraged to bring their own favorite media.
URL:https://downtownny.com/event/drawing-in-the-park-65/
LOCATION:South Cove
CATEGORIES:Arts & Culture
END:VEVENT
BEGIN:VEVENT
DTSTART;TZID=America/New_York:20240615T103000
DTEND;TZID=America/New_York:20240615T103000
DTSTAMP:20260424T101349
CREATED:20240531T193740Z
LAST-MODIFIED:20240531T193740Z
UID:97973-1718447400-1718447400@downtownny.com
SUMMARY:Hard Hat Area: Introduction to Construction
DESCRIPTION:How do skyscrapers get built? How do we know what pieces go where? Kids will learn about the construction process in a reading of Susan L. Roth’s Hard Hat Area. This story follows a girl\, Kristen\, as she discovers the tools\, planning\, and teamwork needed to build TALL! After the read-aloud\, we’ll put our skills to the test and build our own skyscrapers! Teamwork\, determination\, and lots of tape will be key! Recommended for ages 3-8.
URL:https://downtownny.com/event/hard-hat-area-introduction-to-construction-2/
CATEGORIES:Arts & Culture
END:VEVENT
BEGIN:VEVENT
DTSTART;TZID=America/New_York:20240615T110000
DTEND;TZID=America/New_York:20240615T180000
DTSTAMP:20260424T101349
CREATED:20240531T193938Z
LAST-MODIFIED:20240531T193938Z
UID:97974-1718449200-1718474400@downtownny.com
SUMMARY:Porch Stomp
DESCRIPTION:Porch Stomp invites dozens of folk bands\, artists\, and per­form­ing arts orga­ni­za­tions to use the his­toric porch­es of Nolan Park as a space for per­for­mance and edu­ca­tion\, high­light­ing artistry rang­ing from tra­di­tion­al folk to old-time\, blues\, roots\, blue­grass and Americana. Porch Stomp is a free\, vol­un­teer-run music cel­e­bra­tion pro­duced in asso­ci­a­tion with Make Music New York\, a not-for-prof­it that con­nects music mak­ers\, fans and the pub­lic spaces of New York City. Porch Stomp offers unique per­for­mance and edu­ca­tion­al oppor­tu­ni­ties\, includ­ing con­certs\, work­shops and open jams. Each ​“stage” or porch is curat­ed and pro­duced by an arts orga­ni­za­tion or local venue that sup­ports tra­di­tion­al arts\, and will rep­re­sent a spe­cif­ic folk com­mu­ni­ty in New York City.
URL:https://downtownny.com/event/porch-stomp-2/
LOCATION:Governors Island
CATEGORIES:Arts & Culture
END:VEVENT
BEGIN:VEVENT
DTSTART;TZID=America/New_York:20240615T120000
DTEND;TZID=America/New_York:20240615T120000
DTSTAMP:20260424T101349
CREATED:20240531T193939Z
LAST-MODIFIED:20240531T193939Z
UID:97975-1718452800-1718452800@downtownny.com
SUMMARY:Sea Chanteys for Work at Sea
DESCRIPTION:Captivating performances in a free mini-workshop that explores the rich musical tradition of sea chanteys—songs used by old-time sailors to facilitate their work at sea. These catchy rhythms served as a unifying force during various tasks like hauling on lines and engaging in labor that required synchronized effort and heave-hos. Repeated at 1pm and 3pm.
URL:https://downtownny.com/event/sea-chanteys-for-work-at-sea/
CATEGORIES:Arts & Culture
END:VEVENT
BEGIN:VEVENT
DTSTART;TZID=America/New_York:20240615T120000
DTEND;TZID=America/New_York:20240616T170000
DTSTAMP:20260424T101349
CREATED:20240531T193939Z
LAST-MODIFIED:20240531T193939Z
UID:97976-1718452800-1718557200@downtownny.com
SUMMARY:LMCC Workspace Open Studios
DESCRIPTION:Open Studios offers a glimpse into the creative process and artistic development of LMCC’s Workspace artists-in-residence. Members of the public are invited into the studios of 11 multidisciplinary artists to learn about their practices and experience a wide range of artistic works in progress\, from theater based work to sculpture\, painting\, film\, photography\, and more. Held at the culmination of this nine-months program\, guests can engage in conversation with artists in their studios and experience live performances (readings\, screenings\, workshops and more).
URL:https://downtownny.com/event/lmcc-workspace-open-studios/
CATEGORIES:Arts & Culture
END:VEVENT
BEGIN:VEVENT
DTSTART;TZID=America/New_York:20240615T130000
DTEND;TZID=America/New_York:20240615T130000
DTSTAMP:20260424T101349
CREATED:20240531T193941Z
LAST-MODIFIED:20240531T193941Z
UID:97978-1718456400-1718456400@downtownny.com
SUMMARY:Queer Joy Poetry Picnic
DESCRIPTION:Come-as-you-are poetry writing meetup that is free and open to all ages. There will be moments to write poetry\, recite poetry\, and enjoy the summer sun with new friends. Don’t forget to bring a blanket/seat for your lounging preference! Registration is required; attendees will receive a Poets House pamphlet of writing prompts with RSVP.
URL:https://downtownny.com/event/queer-joy-poetry-picnic/
LOCATION:Rockefeller Park
CATEGORIES:Arts & Culture
END:VEVENT
BEGIN:VEVENT
DTSTART;TZID=America/New_York:20240615T173000
DTEND;TZID=America/New_York:20240615T190000
DTSTAMP:20260424T101349
CREATED:20240531T194140Z
LAST-MODIFIED:20240531T194140Z
UID:97981-1718472600-1718478000@downtownny.com
SUMMARY:Love for New York’s Waterways: Stories from the Stoop
DESCRIPTION:Inspired by the often overlooked experiences of African-American maritime workers – Love for NY’s Waterways: Stories from the Stoop is a Moth-style storytelling and open mic event that celebrates the legacy of the African-American water stewards of New York.
URL:https://downtownny.com/event/love-for-new-yorks-waterways-stories-from-the-stoop/
CATEGORIES:Arts & Culture
END:VEVENT
BEGIN:VEVENT
DTSTART;TZID=America/New_York:20240616T130000
DTEND;TZID=America/New_York:20240616T130000
DTSTAMP:20260424T101349
CREATED:20240531T194141Z
LAST-MODIFIED:20240531T194141Z
UID:97982-1718542800-1718542800@downtownny.com
SUMMARY:Cyanotype Workshop
DESCRIPTION:This work­shop series will teach basic cyan­otype print­ing on paper and fab­ric\, fea­tur­ing plants and nat­ur­al pig­ments cul­ti­vat­ed at Earth Mat­ter Soil Start Farms’ Her­itage Beds.
URL:https://downtownny.com/event/cyanotype-workshop-2/
LOCATION:Governors Island
CATEGORIES:Arts & Culture
END:VEVENT
BEGIN:VEVENT
DTSTART;TZID=America/New_York:20240616T130000
DTEND;TZID=America/New_York:20240616T130000
DTSTAMP:20260424T101349
CREATED:20240531T194141Z
LAST-MODIFIED:20240531T194141Z
UID:97983-1718542800-1718542800@downtownny.com
SUMMARY:Spirit of Triumph
DESCRIPTION:Discover history like never before as the Spirit of Triumph uses Virtual Reality (VR) technology to offer a firsthand perspective of Auschwitz. Participants will be able to explore the haunting landscapes and barracks\, fostering empathy and a deeper understanding of the Holocaust. This moving tour of the camp is accompanied by the professional\, fascinating explanation of Rabbi Yisrael Goldwasser\, an internationally acclaimed speaker on the subject of the Holocaust.
URL:https://downtownny.com/event/spirit-of-triumph/
CATEGORIES:Arts & Culture
END:VEVENT
BEGIN:VEVENT
DTSTART;TZID=America/New_York:20240616T140000
DTEND;TZID=America/New_York:20240616T140000
DTSTAMP:20260424T101349
CREATED:20240531T194340Z
LAST-MODIFIED:20240531T194340Z
UID:97984-1718546400-1718546400@downtownny.com
SUMMARY:“The Art of Diplomacy” Book Talk
DESCRIPTION:In The Art of Diplomacy: How American Negotiators Reached Historic Agreements that Changed the World\, diplomat and negotiator Stuart E. Eizenstat recounts America’s most significant and consequential negotiations over the past fifty years. Eizenstat discusses the events that led up to the negotiations\, the drama that took place around the table\, and draws lessons from successful and unsuccessful strategies and tactics. Based around interviews with over 60 key figures in American diplomacy\, including former presidents and secretaries of state\, and major political figures abroad\, he provides an intimate view of diplomacy as today’s history.
URL:https://downtownny.com/event/the-art-of-diplomacy-book-talk/
CATEGORIES:Arts & Culture
END:VEVENT
BEGIN:VEVENT
DTSTART;TZID=America/New_York:20240616T160000
DTEND;TZID=America/New_York:20240616T160000
DTSTAMP:20260424T101349
CREATED:20240531T194341Z
LAST-MODIFIED:20240531T194341Z
UID:97985-1718553600-1718553600@downtownny.com
SUMMARY:South Cove Song
DESCRIPTION:South Cove Song is a site-specific music performance\, featuring a brass ensemble\, centered on the past(s)\, present(s)\, and future(s) of Lower Manhattan. The human interaction with the natural landscape and the built environment is questioned\, reframed\, and reassembled through sonic interventions in South Cove Park.
URL:https://downtownny.com/event/south-cove-song/
LOCATION:South Cove
CATEGORIES:Arts & Culture
END:VEVENT
BEGIN:VEVENT
DTSTART;TZID=America/New_York:20240617T103000
DTEND;TZID=America/New_York:20240617T103000
DTSTAMP:20260424T101349
CREATED:20240531T194342Z
LAST-MODIFIED:20240531T194342Z
UID:97987-1718620200-1718620200@downtownny.com
SUMMARY:Playscape Performs
DESCRIPTION:Family-oriented shows at the ShowBox\, the first improv theater in a New York City playground. Show is repeated at 12:30pm.
URL:https://downtownny.com/event/playscape-performs-24/
CATEGORIES:Arts & Culture
END:VEVENT
BEGIN:VEVENT
DTSTART;TZID=America/New_York:20240617T140000
DTEND;TZID=America/New_York:20240617T153000
DTSTAMP:20260424T101349
CREATED:20240531T194342Z
LAST-MODIFIED:20240531T194342Z
UID:97988-1718632800-1718638200@downtownny.com
SUMMARY:Creative Writing
DESCRIPTION:Walk & writing session led by poet Jon Curley. Participants will be encouraged to use observations as a way to enhance their writing styles in any preferred mode. Registration required\, please email: registration@bpca.ny.gov.
URL:https://downtownny.com/event/creative-writing-28/
CATEGORIES:Arts & Culture
END:VEVENT
BEGIN:VEVENT
DTSTART;TZID=America/New_York:20240618T100000
DTEND;TZID=America/New_York:20240618T100000
DTSTAMP:20260424T101349
CREATED:20240531T194542Z
LAST-MODIFIED:20240531T194542Z
UID:97990-1718704800-1718704800@downtownny.com
SUMMARY:Workshop: Gardening for Pollinators
DESCRIPTION:Learn the practices and plants that can support our native pollinators like bees and butterflies\, at all stages of their life cycles.  RSVP is required.
URL:https://downtownny.com/event/workshop-gardening-for-pollinators-4/
CATEGORIES:Arts & Culture
END:VEVENT
END:VCALENDAR