BEGIN:VCALENDAR
VERSION:2.0
PRODID:-//Downtown Alliance - ECPv6.15.20//NONSGML v1.0//EN
CALSCALE:GREGORIAN
METHOD:PUBLISH
X-WR-CALNAME:Downtown Alliance
X-ORIGINAL-URL:https://downtownny.com
X-WR-CALDESC:Events for Downtown Alliance
REFRESH-INTERVAL;VALUE=DURATION:PT1H
X-Robots-Tag:noindex
X-PUBLISHED-TTL:PT1H
BEGIN:VTIMEZONE
TZID:America/New_York
BEGIN:DAYLIGHT
TZOFFSETFROM:-0500
TZOFFSETTO:-0400
TZNAME:EDT
DTSTART:20230312T070000
END:DAYLIGHT
BEGIN:STANDARD
TZOFFSETFROM:-0400
TZOFFSETTO:-0500
TZNAME:EST
DTSTART:20231105T060000
END:STANDARD
BEGIN:DAYLIGHT
TZOFFSETFROM:-0500
TZOFFSETTO:-0400
TZNAME:EDT
DTSTART:20240310T070000
END:DAYLIGHT
BEGIN:STANDARD
TZOFFSETFROM:-0400
TZOFFSETTO:-0500
TZNAME:EST
DTSTART:20241103T060000
END:STANDARD
BEGIN:DAYLIGHT
TZOFFSETFROM:-0500
TZOFFSETTO:-0400
TZNAME:EDT
DTSTART:20250309T070000
END:DAYLIGHT
BEGIN:STANDARD
TZOFFSETFROM:-0400
TZOFFSETTO:-0500
TZNAME:EST
DTSTART:20251102T060000
END:STANDARD
END:VTIMEZONE
BEGIN:VEVENT
DTSTART;TZID=America/New_York:20240413T120000
DTEND;TZID=America/New_York:20240413T120000
DTSTAMP:20260423T032308
CREATED:20240401T145757Z
LAST-MODIFIED:20240401T145757Z
UID:96175-1713009600-1713009600@downtownny.com
SUMMARY:Penelope's Balloons
DESCRIPTION:Picture Book Launch: Brooke Bourgeois presents Penelope’s Balloons\, in conversation with Claire Tattersefield. From a dynamic debut creator\, here is a charming and endearing story about an elephant’s quest for acceptance—destined to become a modern classic.
URL:https://downtownny.com/event/penelopes-balloons/
CATEGORIES:Arts & Culture
END:VEVENT
BEGIN:VEVENT
DTSTART;TZID=America/New_York:20240413T133000
DTEND;TZID=America/New_York:20240413T153000
DTSTAMP:20260423T032308
CREATED:20240401T145758Z
LAST-MODIFIED:20240401T145758Z
UID:96176-1713015000-1713022200@downtownny.com
SUMMARY:Urban Farming 101 Workshop: Soil & Seed Starting
DESCRIPTION:Learn to manage the health of your vegetable garden soil through a deeper understanding of its composition and biology.  Our Urban Farming 101 series is geared toward those with little to no experience.  RSVP is required.
URL:https://downtownny.com/event/urban-farming-101-workshop-soil-seed-starting-2/
CATEGORIES:Arts & Culture
END:VEVENT
BEGIN:VEVENT
DTSTART;TZID=America/New_York:20240413T140000
DTEND;TZID=America/New_York:20240413T140000
DTSTAMP:20260423T032308
CREATED:20240401T145759Z
LAST-MODIFIED:20240401T145759Z
UID:96178-1713016800-1713016800@downtownny.com
SUMMARY:How Beavers Made America
DESCRIPTION:Award-winning author Leila Philip will lead a talk focusing on her book “Beaverland: How One Weird Rodent Made America\,” which investigates the fascinating role that beavers had in the history of Manahatta and their enduring contributions to the past\, present\, and future of New York Harbor.
URL:https://downtownny.com/event/how-beavers-made-america/
CATEGORIES:Arts & Culture
END:VEVENT
BEGIN:VEVENT
DTSTART;TZID=America/New_York:20240413T200000
DTEND;TZID=America/New_York:20240413T200000
DTSTAMP:20260423T032308
CREATED:20240401T145957Z
LAST-MODIFIED:20240401T145957Z
UID:96180-1713038400-1713038400@downtownny.com
SUMMARY:Salieu Suso
DESCRIPTION:Born into a family of traditional African jalis (musician-historians)\, Salieu Suso began training on the 21-stringed kora at the age of 8 and began his professional career by the age of fifteen. He has performed widely throughout the U.S.\, Africa\, and Europe and is known for his diverse range of musical collaborations. In 2003 he ventured into an exciting exploration of African and Afro-Cuban rhythms with three master percussionists: Benny Arocho\, Olympia Ward\, and John Ward.
URL:https://downtownny.com/event/salieu-suso/
CATEGORIES:Arts & Culture
END:VEVENT
BEGIN:VEVENT
DTSTART;TZID=America/New_York:20240414T100000
DTEND;TZID=America/New_York:20240414T100000
DTSTAMP:20260423T032308
CREATED:20240401T145958Z
LAST-MODIFIED:20240401T145958Z
UID:96181-1713088800-1713088800@downtownny.com
SUMMARY:Hoppy Rabbit Playdate
DESCRIPTION:Families and children interested in exploring Chinese language and culture meet at an indoor playground space. Open to all.
URL:https://downtownny.com/event/hoppy-rabbit-playdate-6/
CATEGORIES:Arts & Culture
END:VEVENT
BEGIN:VEVENT
DTSTART;TZID=America/New_York:20240415T130000
DTEND;TZID=America/New_York:20240415T130000
DTSTAMP:20260423T032308
CREATED:20240401T145959Z
LAST-MODIFIED:20240401T145959Z
UID:96183-1713186000-1713186000@downtownny.com
SUMMARY:Jazz at One: George Cables Trio
DESCRIPTION:Weekly jazz series.
URL:https://downtownny.com/event/jazz-at-one-george-cables-trio/
CATEGORIES:Arts & Culture
END:VEVENT
BEGIN:VEVENT
DTSTART;TZID=America/New_York:20240416T130000
DTEND;TZID=America/New_York:20240416T130000
DTSTAMP:20260423T032308
CREATED:20240401T150157Z
LAST-MODIFIED:20240401T150157Z
UID:96185-1713272400-1713272400@downtownny.com
SUMMARY:Pipes at One: Samuel Gaskin
DESCRIPTION:Weekly organ music.
URL:https://downtownny.com/event/pipes-at-one-samuel-gaskin/
CATEGORIES:Arts & Culture
END:VEVENT
BEGIN:VEVENT
DTSTART;TZID=America/New_York:20240416T180000
DTEND;TZID=America/New_York:20240416T180000
DTSTAMP:20260423T032308
CREATED:20240401T150159Z
LAST-MODIFIED:20240401T150159Z
UID:96189-1713290400-1713290400@downtownny.com
SUMMARY:Fifth Avenue—Architecture and Society: History of America’s Street of Dreams
DESCRIPTION:Present on the 1807 Commissioners’ map emerging from a country road\, then in the proposed grid plan of 1811 as one of the major boulevards\, Fifth Avenue by the end of the 19th century had become synonymous with a lavish fashionable life\, grand mansions\, and services catering to the wealthy.
URL:https://downtownny.com/event/fifth-avenue-architecture-and-society-history-of-americas-street-of-dreams/
CATEGORIES:Arts & Culture
END:VEVENT
BEGIN:VEVENT
DTSTART;TZID=America/New_York:20240416T190000
DTEND;TZID=America/New_York:20240416T203000
DTSTAMP:20260423T032308
CREATED:20240401T150357Z
LAST-MODIFIED:20240401T150357Z
UID:96190-1713294000-1713299400@downtownny.com
SUMMARY:Why We Die: The New Science of Aging and the Quest for Immortality
DESCRIPTION:Join Nobel Prize-winning author Venki Ramakrishnan and Titia de Lange\, Director of the Anderson Center for Cancer Research at The Rockefeller University in a discussion that will unveil the strides science has made in understanding aging and longevity—and Ramakrishnan’s new book\, Why We Die: The New Science of Aging and the Quest for Immortality. Unraveling the universal human fear of death\, Ramakrishnan traces our historical attempts to evade its inevitability—from religious afterlife beliefs to the existential realization in childhood that all we cherish is short-lived. He guides readers through the cutting-edge research shaping our understanding of mortality and raises the tantalizing possibility of extending our lifespan exponentially. As he navigates the recent breakthroughs in altering physiology to extend life\, he contemplates life\, and the biological purpose of death\, and probes the social and ethical implications of pursuing immortality.
URL:https://downtownny.com/event/why-we-die-the-new-science-of-aging-and-the-quest-for-immortality/
CATEGORIES:Arts & Culture
END:VEVENT
BEGIN:VEVENT
DTSTART;TZID=America/New_York:20240417T130000
DTEND;TZID=America/New_York:20240417T130000
DTSTAMP:20260423T032308
CREATED:20240401T150358Z
LAST-MODIFIED:20240401T150358Z
UID:96191-1713358800-1713358800@downtownny.com
SUMMARY:Bach at One
DESCRIPTION:J. S. Bach: Gottes Zeit ist die allerbeste Zeit\, BWV 106. Nicolaus Bruhns: Paratum cor meum and Prelude in G Major. The Choir of Trinity Wall Street; Trinity Baroque Orchestra; led by Avi Stein\, organ
URL:https://downtownny.com/event/bach-at-one-18/
CATEGORIES:Arts & Culture
END:VEVENT
BEGIN:VEVENT
DTSTART;TZID=America/New_York:20240417T143000
DTEND;TZID=America/New_York:20240417T143000
DTSTAMP:20260423T032308
CREATED:20240401T150358Z
LAST-MODIFIED:20240401T150358Z
UID:96192-1713364200-1713364200@downtownny.com
SUMMARY:BMCC Live
DESCRIPTION:Borough of Manhattan Community College (BMCC/CUNY) is proud to present free performances from their music\, speech\, communication\, and theater arts departments each month on our Lobby Stage. Performances will feature the college’s extraordinarily talented students showcasing a wide variety of contemporary and original material.
URL:https://downtownny.com/event/bmcc-live/
CATEGORIES:Arts & Culture
END:VEVENT
BEGIN:VEVENT
DTSTART;TZID=America/New_York:20240417T183000
DTEND;TZID=America/New_York:20240417T183000
DTSTAMP:20260423T032308
CREATED:20240401T150359Z
LAST-MODIFIED:20240401T150359Z
UID:96193-1713378600-1713378600@downtownny.com
SUMMARY:Two Minds
DESCRIPTION:Callie Siskel presents Two Minds\, in conversation with Paul Tran. In a piercing and beautiful elegy for the poet’s father\, this debut volume investigates the enduring pain and transformative potential of grief.
URL:https://downtownny.com/event/two-minds/
CATEGORIES:Arts & Culture
END:VEVENT
BEGIN:VEVENT
DTSTART;TZID=America/New_York:20240418T180000
DTEND;TZID=America/New_York:20240418T180000
DTSTAMP:20260423T032308
CREATED:20240401T150359Z
LAST-MODIFIED:20240401T150359Z
UID:96194-1713463200-1713463200@downtownny.com
SUMMARY:Tiny Concerts
DESCRIPTION:J. S. Bach: Gottes Zeit ist die allerbeste Zeit\, BWV 106. Nicolaus Bruhns: Paratum cor meum and Prelude in G Major. The Choir of Trinity Wall Street; Trinity Baroque Orchestra; led by Avi Stein\, organ
URL:https://downtownny.com/event/tiny-concerts/
CATEGORIES:Arts & Culture
END:VEVENT
BEGIN:VEVENT
DTSTART;TZID=America/New_York:20240419T180000
DTEND;TZID=America/New_York:20240419T180000
DTSTAMP:20260423T032308
CREATED:20240401T150558Z
LAST-MODIFIED:20240401T150558Z
UID:96196-1713549600-1713549600@downtownny.com
SUMMARY:China Institute Calligraphy and Music Meetup
DESCRIPTION:Step into a world where tradition meets artistry\, and ancient culture resonates with the busy life in New York City! China Institute cordially invites you to this monthly program for a mesmerizing evening of traditional Chinese music and the enchanting world of calligraphy. Listen to the performance of the unique Chinese instruments\, and feel the charm of Chinese music combined with practicing Chinese calligraphy with a master calligrapher. Take the chance to interact with our calligrapher\, musicians and fellow cultural lovers too! No previous experience of calligraphy is required. Ink\, paper\, and brush will be provided onsite. Join like-minded friends to enjoy wine and tea\, practice calligraphy\, and listen to music. We look forward to a wonderful evening with you!
URL:https://downtownny.com/event/china-institute-calligraphy-and-music-meetup-5/
CATEGORIES:Arts & Culture
END:VEVENT
BEGIN:VEVENT
DTSTART;TZID=America/New_York:20240420T100000
DTEND;TZID=America/New_York:20240420T150000
DTSTAMP:20260423T032308
CREATED:20240401T150558Z
LAST-MODIFIED:20240401T150558Z
UID:96197-1713607200-1713625200@downtownny.com
SUMMARY:Earth Day on Governors Island
DESCRIPTION:Gov­er­nors Island’s third annu­al Earth Day cel­e­bra­tion will cel­e­brate the pow­er of native plants through free edu­ca­tion­al activ­i­ties and work­shops for all ages\, guid­ed tours through the Island’s open space\, a par­tic­i­pa­to­ry mur­al inspired by the rela­tion­ship between milk­weed and Monarch but­ter­flies\, Gov­er­nors Island Nature activ­i­ties\, and vol­un­teer stew­ard­ship projects. The fes­tiv­i­ties will also include cyan­otype print­ing activ­i­ties\, seed ball work­shops\, free bike lessons with Bike New York\, and more. No event reg­is­tra­tion required; sign-ups for vol­un­teer projects will be avail­able soon.
URL:https://downtownny.com/event/earth-day-on-governors-island-2/
LOCATION:Governors Island
CATEGORIES:Arts & Culture
END:VEVENT
BEGIN:VEVENT
DTSTART;TZID=America/New_York:20240420T103000
DTEND;TZID=America/New_York:20240420T103000
DTSTAMP:20260423T032308
CREATED:20240401T150559Z
LAST-MODIFIED:20240401T150559Z
UID:96198-1713609000-1713609000@downtownny.com
SUMMARY:Animal Icons: Ornamental Animals On NYC Skyscrapers
DESCRIPTION:Birds and beasts above! Join us to discover the animal world that decorates some of New York City skyscrapers\, from the dog’s heads and pelicans that ornament the Woolworth Building to the eagle head “gargoyles” on the Chrysler Building. After a slideshow\, we’ll design our own animal additions to some of the city’s iconic buildings! Children of all ages are welcome.
URL:https://downtownny.com/event/animal-icons-ornamental-animals-on-nyc-skyscrapers-2/
CATEGORIES:Arts & Culture
END:VEVENT
BEGIN:VEVENT
DTSTART;TZID=America/New_York:20240420T110000
DTEND;TZID=America/New_York:20240420T140000
DTSTAMP:20260423T032308
CREATED:20240401T150758Z
LAST-MODIFIED:20240401T150758Z
UID:96202-1713610800-1713621600@downtownny.com
SUMMARY:Seaport Kids x Earth Day
DESCRIPTION:Let the kids loose to build and create with recycled moving boxes and other recycled materials. Open their eyes to the wonderful world of plants. This afternoon of Earth Day-inspired crafts\, activities\, demos\, and a Magic Show will plant the seeds for environmental awareness
URL:https://downtownny.com/event/seaport-kids-x-earth-day/
CATEGORIES:Arts & Culture
END:VEVENT
BEGIN:VEVENT
DTSTART;TZID=America/New_York:20240420T110000
DTEND;TZID=America/New_York:20240420T170000
DTSTAMP:20260423T032308
CREATED:20240401T150758Z
LAST-MODIFIED:20240401T150758Z
UID:96201-1713610800-1713632400@downtownny.com
SUMMARY:Earth Day: Native Blooms
DESCRIPTION:Learn about flowering plants indigenous to the Americas\, their different uses\, and the significance behind them with Native artists Jennifer Younger (Tlingit) and Neebinnaukzhik Southall (Chippewas of Rama First Nation). Drawing inspiration from her Tlingit cultural traditions such as weaving and formline designs\, Younger crafts each of her jewelry pieces to be one-of-a-kind. Southall is committed to representing and empowering Indigenous peoples through her artwork\, which features Anishinaabe floral designs. Activities include sketching flowers\, decorating a pot\, and planting a sunflower.
URL:https://downtownny.com/event/earth-day-native-blooms/
CATEGORIES:Arts & Culture
END:VEVENT
BEGIN:VEVENT
DTSTART;TZID=America/New_York:20240420T143000
DTEND;TZID=America/New_York:20240420T143000
DTSTAMP:20260423T032308
CREATED:20240401T150759Z
LAST-MODIFIED:20240401T150759Z
UID:96204-1713623400-1713623400@downtownny.com
SUMMARY:Gabriel I Meyer
DESCRIPTION:Gabriel Meyer leads an interactive\, fun\, and playful journey for the whole family\, through song\, movement\, and story. He will be joined by guest musician\, Horacio Martinez\, for an afternoon of spontaneous community.
URL:https://downtownny.com/event/gabriel-i-meyer/
CATEGORIES:Arts & Culture
END:VEVENT
BEGIN:VEVENT
DTSTART;TZID=America/New_York:20240420T173000
DTEND;TZID=America/New_York:20240420T173000
DTSTAMP:20260423T032308
CREATED:20240401T150958Z
LAST-MODIFIED:20240401T150958Z
UID:96206-1713634200-1713634200@downtownny.com
SUMMARY:Film Screening and Conversation with Dr. Ming Wang: Sight
DESCRIPTION:The film Sight\, starring Greg Kinnear\, is based on Dr. Ming Wang’s autobiography\, From Darkness to Sight\, chronicling his journey from childhood in Hangzhou\, China\, where the dream of becoming a physician was delayed by the challenges of the Cultural Revolution.
URL:https://downtownny.com/event/film-screening-and-conversation-with-dr-ming-wang-sight/
CATEGORIES:Arts & Culture
END:VEVENT
BEGIN:VEVENT
DTSTART;TZID=America/New_York:20240420T200000
DTEND;TZID=America/New_York:20240420T200000
DTSTAMP:20260423T032308
CREATED:20240401T150958Z
LAST-MODIFIED:20240401T150958Z
UID:96207-1713643200-1713643200@downtownny.com
SUMMARY:The Power of Mythology
DESCRIPTION:The power of women in mythology has been felt since the dawn of time. Three early music singers will each embody the story of a timeless icon taken from Greek\, Jewish\, and Hindu traditions\, with corresponding music written during the medieval era\, the French Baroque period\, and the present day. Highlights include a world premiere by Reena Esmail co-commissioned by TENET Vocal Artists and NOVUS NY\, poetry and musical arrangement by Larry Rosenwald and Shira Kammen\, and projections by Camilla Tassi. Ticketed.
URL:https://downtownny.com/event/the-power-of-mythology/
CATEGORIES:Arts & Culture
END:VEVENT
BEGIN:VEVENT
DTSTART;TZID=America/New_York:20240422T130000
DTEND;TZID=America/New_York:20240422T130000
DTSTAMP:20260423T032308
CREATED:20240401T151000Z
LAST-MODIFIED:20240401T151000Z
UID:96209-1713790800-1713790800@downtownny.com
SUMMARY:Jazz at One: Billy Hart Quartet
DESCRIPTION:Weekly jazz series.
URL:https://downtownny.com/event/jazz-at-one-billy-hart-quartet/
CATEGORIES:Arts & Culture
END:VEVENT
BEGIN:VEVENT
DTSTART;TZID=America/New_York:20240422T183000
DTEND;TZID=America/New_York:20240422T183000
DTSTAMP:20260423T032308
CREATED:20240401T151157Z
LAST-MODIFIED:20240401T151157Z
UID:96210-1713810600-1713810600@downtownny.com
SUMMARY:Battles of Lexington and Concord Dinner (Featuring Fraunces Tavern® Museum Book Award Presentation)
DESCRIPTION:Sons of the Revolution℠ in the State of New York\, Inc. invite you to gather with them to commemorate the Battles of Lexington and Concord\, which took place on April 19\, 1775. At this commemoration\, they will also honor the winner of the Fraunces Tavern Museum Book Award\, presented annually to the author of the best newly published work on the American Revolutionary War that combines original scholarship\, insight\, and good writing. This year’s winner is Washington’s Marines: The Origins of the Corps and the American Revolution\, 1775-1777 by Major General Jason Q. Bohm.
URL:https://downtownny.com/event/battles-of-lexington-and-concord-dinner-featuring-fraunces-tavern-museum-book-award-presentation-2/
CATEGORIES:Arts & Culture
END:VEVENT
BEGIN:VEVENT
DTSTART;TZID=America/New_York:20240423T103000
DTEND;TZID=America/New_York:20240423T103000
DTSTAMP:20260423T032308
CREATED:20240401T151159Z
LAST-MODIFIED:20240401T151159Z
UID:96212-1713868200-1713868200@downtownny.com
SUMMARY:Skyscraper Monopoly
DESCRIPTION:Do you know your skyscrapers? Join us to play Skyscraper Monopoly and learn about the buildings in our exhibition. We’ll challenge teams of young learners on their knowledge of some of NYC’s most famous skyscrapers so kids can earn points towards building the tallest tower! Recommended for ages 6+.
URL:https://downtownny.com/event/skyscraper-monopoly-2/
CATEGORIES:Arts & Culture
END:VEVENT
BEGIN:VEVENT
DTSTART;TZID=America/New_York:20240423T130000
DTEND;TZID=America/New_York:20240423T130000
DTSTAMP:20260423T032308
CREATED:20240401T151159Z
LAST-MODIFIED:20240401T151159Z
UID:96213-1713877200-1713877200@downtownny.com
SUMMARY:Pipes at One: Meg Cutting
DESCRIPTION:Weekly organ music.
URL:https://downtownny.com/event/pipes-at-one-meg-cutting/
CATEGORIES:Arts & Culture
END:VEVENT
BEGIN:VEVENT
DTSTART;TZID=America/New_York:20240424T130000
DTEND;TZID=America/New_York:20240424T130000
DTSTAMP:20260423T032308
CREATED:20240401T151359Z
LAST-MODIFIED:20240401T151359Z
UID:96218-1713963600-1713963600@downtownny.com
SUMMARY:Bach at One
DESCRIPTION:Ich steh mit einem Fuß im Grabe\, BWV 156. Sehet\, wir geh’n hinauf gen Jerusalem\, BWV 159. The Choir of Trinity Wall Street; Trinity Baroque Orchestra; led by Avi Stein\, organ.
URL:https://downtownny.com/event/bach-at-one-19/
CATEGORIES:Arts & Culture
END:VEVENT
BEGIN:VEVENT
DTSTART;TZID=America/New_York:20240424T190000
DTEND;TZID=America/New_York:20240424T190000
DTSTAMP:20260423T032308
CREATED:20240401T151359Z
LAST-MODIFIED:20240401T151359Z
UID:96219-1713985200-1713985200@downtownny.com
SUMMARY:Sol Liebeskind
DESCRIPTION:Argentinean born artist Sol Liebeskind started her musical journey in 2009. She remains one of the most influential artists in the Jazz/ Soul scene in Buenos Aires and has participated multiple times in the Buenos Aires International Jazz Festival (2011\, 2014\, 2015).
URL:https://downtownny.com/event/sol-liebeskind/
CATEGORIES:Arts & Culture
END:VEVENT
BEGIN:VEVENT
DTSTART;TZID=America/New_York:20240425T190000
DTEND;TZID=America/New_York:20240425T190000
DTSTAMP:20260423T032308
CREATED:20240401T151558Z
LAST-MODIFIED:20240401T151558Z
UID:96221-1714071600-1714071600@downtownny.com
SUMMARY:Conversations: David Letterman with Alex Honnold
DESCRIPTION:Late Night legend David Letterman brings his trademark dry humor\, irreverence\, and sincere curiosity to PAC NYC for an unforgettable evening of conversation with rock climbing phenom\, Alex Honnold.
URL:https://downtownny.com/event/conversations-david-letterman-with-alex-honnold/
CATEGORIES:Arts & Culture
END:VEVENT
BEGIN:VEVENT
DTSTART;TZID=America/New_York:20240426T174500
DTEND;TZID=America/New_York:20240426T174500
DTSTAMP:20260423T032308
CREATED:20240401T151558Z
LAST-MODIFIED:20240401T151558Z
UID:96222-1714153500-1714153500@downtownny.com
SUMMARY:Monika Linkyte
DESCRIPTION:Monika Linkyte is one of the most popular Lithuanian singers. Her hit “Po Dangum” and the album Walk with Me showcase her emotional and powerful music style.
URL:https://downtownny.com/event/monika-linkyte/
CATEGORIES:Arts & Culture
END:VEVENT
BEGIN:VEVENT
DTSTART;TZID=America/New_York:20240426T190000
DTEND;TZID=America/New_York:20240426T210000
DTSTAMP:20260423T032308
CREATED:20240401T151559Z
LAST-MODIFIED:20240401T151559Z
UID:96223-1714158000-1714165200@downtownny.com
SUMMARY:At the Movies: Hey Viktor!
DESCRIPTION:Twenty years removed from childhood fame as Little Viktor in 1998’s indie hit Smoke Signals\, Cody Lightning (Cree) has been forced to move home to his reserve in northern Alberta. He still believes himself to be famous\, even though the only parts he gets these days are dubious. When Cody learns his wife and kids are leaving him for a younger\, more successful actor\, he decides it’s time to quit messing around and make his masterpiece: writing\, directing\, and starring in Smoke Signals 2: Still Smoking. A documentary crew follows Cody on his journey to realize his vision by trying to reunite the original cast\, steal Adam Beach’s wig\, and borrow money from an arms dealer\, only to recognize that his grand vision was complete nonsense. (Director: Cody Lightning (Cree); Canada\, 2023\, 102 min.) For mature audiences: Contains nudity\, alcohol use\, and coarse language. Director Cody Lightning\, and Jacob Floyd (Muscogee (Creek)/Cherokee) and Andrew Okpeaha MacLean (Iñupiaq) in attendance for a post-screening Q&A.
URL:https://downtownny.com/event/at-the-movies-hey-viktor/
CATEGORIES:Arts & Culture
END:VEVENT
END:VCALENDAR