BEGIN:VCALENDAR
VERSION:2.0
PRODID:-//Downtown Alliance - ECPv6.15.20//NONSGML v1.0//EN
CALSCALE:GREGORIAN
METHOD:PUBLISH
X-ORIGINAL-URL:https://downtownny.com
X-WR-CALDESC:Events for Downtown Alliance
REFRESH-INTERVAL;VALUE=DURATION:PT1H
X-Robots-Tag:noindex
X-PUBLISHED-TTL:PT1H
BEGIN:VTIMEZONE
TZID:America/New_York
BEGIN:DAYLIGHT
TZOFFSETFROM:-0500
TZOFFSETTO:-0400
TZNAME:EDT
DTSTART:20250309T070000
END:DAYLIGHT
BEGIN:STANDARD
TZOFFSETFROM:-0400
TZOFFSETTO:-0500
TZNAME:EST
DTSTART:20251102T060000
END:STANDARD
BEGIN:DAYLIGHT
TZOFFSETFROM:-0500
TZOFFSETTO:-0400
TZNAME:EDT
DTSTART:20260308T070000
END:DAYLIGHT
BEGIN:STANDARD
TZOFFSETFROM:-0400
TZOFFSETTO:-0500
TZNAME:EST
DTSTART:20261101T060000
END:STANDARD
BEGIN:DAYLIGHT
TZOFFSETFROM:-0500
TZOFFSETTO:-0400
TZNAME:EDT
DTSTART:20270314T070000
END:DAYLIGHT
BEGIN:STANDARD
TZOFFSETFROM:-0400
TZOFFSETTO:-0500
TZNAME:EST
DTSTART:20271107T060000
END:STANDARD
END:VTIMEZONE
BEGIN:VEVENT
DTSTART;TZID=America/New_York:20260427T190000
DTEND;TZID=America/New_York:20260427T190000
DTSTAMP:20260421T151220
CREATED:20260331T175957Z
LAST-MODIFIED:20260331T175957Z
UID:136467-1777316400-1777316400@downtownny.com
SUMMARY:Infinite Jest Fest
DESCRIPTION:EIghth meeting of the Infinite Jest Monthly Read-Along Bash group. Read pages 717-808 (plus relevant endnotes) for this month’s gathering.
URL:https://downtownny.com/event/infinite-jest-fest-6/
CATEGORIES:Arts & Culture
END:VEVENT
BEGIN:VEVENT
DTSTART;TZID=America/New_York:20260428T190000
DTEND;TZID=America/New_York:20260428T190000
DTSTAMP:20260421T151220
CREATED:20260331T175958Z
LAST-MODIFIED:20260331T175958Z
UID:136469-1777402800-1777402800@downtownny.com
SUMMARY:From Life Itself
DESCRIPTION:Suzy Hansen presents From Life Itself\, in conversation with Lydia Polgreen. From the author of the acclaimed Pulitzer Prize finalist Notes on a Foreign Country\, From Life Itself is a story for a world out of joint. An absorbing account of one neighborhood in Istanbul that has seen profound change\, it offers lessons for all of us who feel the pressure of the disorienting global forces remaking our lives.
URL:https://downtownny.com/event/from-life-itself/
CATEGORIES:Arts & Culture
END:VEVENT
BEGIN:VEVENT
DTSTART;TZID=America/New_York:20260429T130000
DTEND;TZID=America/New_York:20260429T130000
DTSTAMP:20260421T151220
CREATED:20260331T175959Z
LAST-MODIFIED:20260331T175959Z
UID:136471-1777467600-1777467600@downtownny.com
SUMMARY:Downtown Beats Chorus
DESCRIPTION:Directed by the Church Street School of Music\, the Downtown Beats adult chorus is open to all who love to sing. Learn contemporary and classic songs\, and perform at community events throughout the year.
URL:https://downtownny.com/event/downtown-beats-chorus-56/
CATEGORIES:Arts & Culture
END:VEVENT
BEGIN:VEVENT
DTSTART;TZID=America/New_York:20260429T130000
DTEND;TZID=America/New_York:20260429T130000
DTSTAMP:20260421T151220
CREATED:20260331T180158Z
LAST-MODIFIED:20260331T180158Z
UID:136472-1777467600-1777467600@downtownny.com
SUMMARY:Bach at One
DESCRIPTION:Trinity organist Avi Stein will transport audiences into the musical milieu from which Johann Sebastian Bach emerged. As a member of a distinguished family of composers and instrumentalists\, Bach was keenly aware of his place in the lineage\, and his vast collection of manuscripts — by relatives\, predecessors\, and contemporaries — reveals that wide repertoire of inspiration. Along with soprano soloist Elisse Albian and musicians from the Trinity Baroque Orchestra\, Stein will perform intensely passionate pieces from two of Bach’s influential 17th-century predecessors: Dieterich Buxtehude (Trio Sonata in A Minor and Herr\, wenn ich nur Dich hab) and Christoph Bernhard (Aus der Tieffen).   
URL:https://downtownny.com/event/bach-at-one-30/
CATEGORIES:Arts & Culture
END:VEVENT
BEGIN:VEVENT
DTSTART;TZID=America/New_York:20260429T190000
DTEND;TZID=America/New_York:20260429T190000
DTSTAMP:20260421T151220
CREATED:20260331T180159Z
LAST-MODIFIED:20260331T180159Z
UID:136473-1777489200-1777489200@downtownny.com
SUMMARY:Beyond Inheritance
DESCRIPTION:Roxanne Khamsi presents Beyond Inheritance\, in conversation with Apoorva Mandavilli. A captivating exploration of the remarkable ways our DNA mutates over the course of our lives\, with radical implications for the future of medicine.
URL:https://downtownny.com/event/beyond-inheritance/
CATEGORIES:Arts & Culture
END:VEVENT
BEGIN:VEVENT
DTSTART;TZID=America/New_York:20260430T173000
DTEND;TZID=America/New_York:20260430T173000
DTSTAMP:20260421T151220
CREATED:20260331T180200Z
LAST-MODIFIED:20260331T180200Z
UID:136476-1777570200-1777570200@downtownny.com
SUMMARY:Tiny Concerts: Bach’s Playlist
DESCRIPTION:Trinity organist Avi Stein will transport audiences to the sound-world from which Johann Sebastian Bach sprang forth. As a member of a distinguished family of composers and instrumentalists\, Bach was fueled by a wide repertoire of inspiration. Leading from the intimate chapel’s handcrafted pipe organ built principally to present music of the period\, Stein\, along with soprano soloist Elisse Albian and musicians from the Trinity Baroque Orchestra\, will perform intensely passionate pieces from two of Bach’s influential 17th-century predecessors: Dieterich Buxtehude (Trio Sonata in A Minor and Herr\, wenn ich nur Dich hab) and Christoph Bernhard (Aus der Tieffen).  Concert repeated at 6:30pm.
URL:https://downtownny.com/event/tiny-concerts-bachs-playlist/
CATEGORIES:Arts & Culture
END:VEVENT
BEGIN:VEVENT
DTSTART;TZID=America/New_York:20260430T183000
DTEND;TZID=America/New_York:20260430T183000
DTSTAMP:20260421T151220
CREATED:20260331T180359Z
LAST-MODIFIED:20260331T180359Z
UID:136479-1777573800-1777573800@downtownny.com
SUMMARY:China Institute Centennial Celebration: Guzheng Tianxia Concert
DESCRIPTION:Special evening honoring the beauty\, history\, and global resonance of Chinese music through the artistry of the guzheng. This unique concert brings together two distinguished masters in a rare shared performance.
URL:https://downtownny.com/event/china-institute-centennial-celebration-guzheng-tianxia-concert/
CATEGORIES:Arts & Culture
END:VEVENT
BEGIN:VEVENT
DTSTART;TZID=America/New_York:20260430T190000
DTEND;TZID=America/New_York:20260430T190000
DTSTAMP:20260421T151220
CREATED:20260331T180400Z
LAST-MODIFIED:20260331T180400Z
UID:136480-1777575600-1777575600@downtownny.com
SUMMARY:Among Neighbors
DESCRIPTION:Film screening. Combining magical realism and evocative hand-drawn animation with revelatory interviews and verité footage\, Among Neighbors examines the story of a small\, rural town where Jews and Polish Catholics lived side by side for centuries before World War II. The film brings the Polish response to the Holocaust to life through the last living eyewitnesses\, revealing both love and betrayal as it zeroes in on one of the last living Holocaust survivors from the town\, and an aging eyewitness who saw Jews murdered there – not by Nazis\, but by her own Polish neighbors. Produced and directed by award-winning filmmaker Yoav Potash (Crime After Crime\, Sundance Film Festival). This screening will feature a special edition of the film\, which includes a recorded introduction by filmmaker Yoav Potash and an in-depth post-film Q&A compilation that reveals the fascinating making-of stories behind this critically-acclaimed film.
URL:https://downtownny.com/event/among-neighbors/
CATEGORIES:Arts & Culture
END:VEVENT
BEGIN:VEVENT
DTSTART;TZID=America/New_York:20260430T190000
DTEND;TZID=America/New_York:20260430T190000
DTSTAMP:20260421T151220
CREATED:20260331T180401Z
LAST-MODIFIED:20260331T180401Z
UID:136481-1777575600-1777575600@downtownny.com
SUMMARY:She Shaped the Seaport: Secrets and Lies
DESCRIPTION:Join the Seaport Museum and Double or Nothing Media for a deep dive into the feminine force of the New York City seaport as we explore the lives of the women who held power in the harbor’s most clandestine corners.
URL:https://downtownny.com/event/she-shaped-the-seaport-secrets-and-lies/
CATEGORIES:Arts & Culture
END:VEVENT
END:VCALENDAR