BEGIN:VCALENDAR
VERSION:2.0
PRODID:-//Downtown Alliance - ECPv6.15.20//NONSGML v1.0//EN
CALSCALE:GREGORIAN
METHOD:PUBLISH
X-ORIGINAL-URL:https://downtownny.com
X-WR-CALDESC:Events for Downtown Alliance
REFRESH-INTERVAL;VALUE=DURATION:PT1H
X-Robots-Tag:noindex
X-PUBLISHED-TTL:PT1H
BEGIN:VTIMEZONE
TZID:America/New_York
BEGIN:DAYLIGHT
TZOFFSETFROM:-0500
TZOFFSETTO:-0400
TZNAME:EDT
DTSTART:20230312T070000
END:DAYLIGHT
BEGIN:STANDARD
TZOFFSETFROM:-0400
TZOFFSETTO:-0500
TZNAME:EST
DTSTART:20231105T060000
END:STANDARD
BEGIN:DAYLIGHT
TZOFFSETFROM:-0500
TZOFFSETTO:-0400
TZNAME:EDT
DTSTART:20240310T070000
END:DAYLIGHT
BEGIN:STANDARD
TZOFFSETFROM:-0400
TZOFFSETTO:-0500
TZNAME:EST
DTSTART:20241103T060000
END:STANDARD
BEGIN:DAYLIGHT
TZOFFSETFROM:-0500
TZOFFSETTO:-0400
TZNAME:EDT
DTSTART:20250309T070000
END:DAYLIGHT
BEGIN:STANDARD
TZOFFSETFROM:-0400
TZOFFSETTO:-0500
TZNAME:EST
DTSTART:20251102T060000
END:STANDARD
END:VTIMEZONE
BEGIN:VEVENT
DTSTART;TZID=America/New_York:20240522T100000
DTEND;TZID=America/New_York:20240522T120000
DTSTAMP:20260423T091556
CREATED:20240430T195730Z
LAST-MODIFIED:20240430T195730Z
UID:97041-1716372000-1716379200@downtownny.com
SUMMARY:Figure al Fresco
DESCRIPTION:Observe and sketch the human figure in a park setting. Each week a model will strike short and long poses for participants to draw. An artist/ educator will offer constructive suggestions and critique. Drawing materials provided; artists are encouraged to bring their own favorite media.
URL:https://downtownny.com/event/figure-al-fresco-53/
CATEGORIES:Arts & Culture
END:VEVENT
BEGIN:VEVENT
DTSTART;TZID=America/New_York:20240522T140000
DTEND;TZID=America/New_York:20240522T160000
DTSTAMP:20260423T091556
CREATED:20240430T195731Z
LAST-MODIFIED:20240430T195731Z
UID:97042-1716386400-1716393600@downtownny.com
SUMMARY:Elements of Nature Drawing
DESCRIPTION:Join our community of artists of all skill levels as we are inspired by our surroundings to create with drawing materials\, pastels and watercolors. Embolden your artwork amidst the flower-filled and seasonally evolving palette of BPC’s verdant gardens. An artist/ educator will provide ideas and instruction. Materials provided\, and artists are encouraged to bring their own favorite media.
URL:https://downtownny.com/event/elements-of-nature-drawing-74/
CATEGORIES:Arts & Culture
END:VEVENT
BEGIN:VEVENT
DTSTART;TZID=America/New_York:20240523T173000
DTEND;TZID=America/New_York:20240523T173000
DTSTAMP:20260423T091556
CREATED:20240430T195735Z
LAST-MODIFIED:20240430T195735Z
UID:97047-1716485400-1716485400@downtownny.com
SUMMARY:B Hills
DESCRIPTION:B Hills – A Queens native whose diverse music selections reflect his eclectic upbringing in NYC. Selections for the evening will be a hypnotic blend of deep\, jazzy\, and soulful sounds.
URL:https://downtownny.com/event/b-hills/
CATEGORIES:Arts & Culture
END:VEVENT
BEGIN:VEVENT
DTSTART;TZID=America/New_York:20240523T183000
DTEND;TZID=America/New_York:20240523T183000
DTSTAMP:20260423T091556
CREATED:20240430T195741Z
LAST-MODIFIED:20240430T195741Z
UID:97049-1716489000-1716489000@downtownny.com
SUMMARY:I Was a Desert: Songs of the Matriarchs
DESCRIPTION:Don’t miss this dynamic East Coast premiere of choral songs about Biblical women! Alicia Jo Rabins – a musician\, composer and Torah teacher whose work the Atlantic calls “a blessing” – joins sonic forces with 95 singers from the award-winning Camas High School Choir (Washington State)\, plus a top-tier rock musicians and a string trio\, in a powerful concert integrating Biblical women’s stories with song. I Was a Desert: Songs of the Matriarchs is a gorgeous\, richly textured multimedia performance that builds upon Rabins’ long-running Girls in Trouble song cycle to celebrate the stories of women in Jewish myth and the hidden places where their lives overlap with ours today.
URL:https://downtownny.com/event/i-was-a-desert-songs-of-the-matriarchs/
LOCATION:Museum of Jewish Heritage
CATEGORIES:Arts & Culture
END:VEVENT
BEGIN:VEVENT
DTSTART;TZID=America/New_York:20240523T183000
DTEND;TZID=America/New_York:20240523T183000
DTSTAMP:20260423T091556
CREATED:20240430T195744Z
LAST-MODIFIED:20240430T195744Z
UID:97054-1716489000-1716489000@downtownny.com
SUMMARY:I Was a Desert: Songs of the Matriarchs
DESCRIPTION:Don’t miss this dynamic East Coast premiere of choral songs about Biblical women! Alicia Jo Rabins – a musician\, composer and Torah teacher whose work the Atlantic calls “a blessing” – joins sonic forces with 95 singers from the award-winning Camas High School Choir (Washington State)\, plus a top-tier rock musicians and a string trio\, in a powerful concert integrating Biblical women’s stories with song. I Was a Desert: Songs of the Matriarchs is a gorgeous\, richly textured multimedia performance that builds upon Rabins’ long-running Girls in Trouble song cycle to celebrate the stories of women in Jewish myth and the hidden places where their lives overlap with ours today.
URL:https://downtownny.com/event/i-was-a-desert-songs-of-the-matriarchs-2/
LOCATION:Museum of Jewish Heritage
CATEGORIES:Arts & Culture
END:VEVENT
BEGIN:VEVENT
DTSTART;TZID=America/New_York:20240523T183000
DTEND;TZID=America/New_York:20240523T193000
DTSTAMP:20260423T091556
CREATED:20240430T195736Z
LAST-MODIFIED:20240430T195736Z
UID:97048-1716489000-1716492600@downtownny.com
SUMMARY:Strings-On-Hudson: Latin Sounds
DESCRIPTION:Special evening featuring Latin Grammy Award-winning cuatro player Jorge Glem.  Accompanied by Grammy-nominated Sofia Rei and César Orozco the trio will blend  Latin American traditions and futurism into a graceful\, elegant\, and ever-evolving sound.
URL:https://downtownny.com/event/strings-on-hudson-latin-sounds/
CATEGORIES:Arts & Culture
END:VEVENT
BEGIN:VEVENT
DTSTART;TZID=America/New_York:20240525T103000
DTEND;TZID=America/New_York:20240525T103000
DTSTAMP:20260423T091556
CREATED:20240430T195742Z
LAST-MODIFIED:20240430T195742Z
UID:97051-1716633000-1716633000@downtownny.com
SUMMARY:Next Stop\, New York City! Subway by Christoph Niemann
DESCRIPTION:How do you get around your neighborhood? Young learners will be introduced to the many different modes of transportation available in large cities today\, including trains\, buses\, ferries\, and bikes. Through a read-aloud of Christopher Niemann’s picture book Subway\, kids will learn about one special form of New York City transit\, the subway! Afterwards\, we will talk about our favorite way to get around the city and make drawings of subway art. All ages welcome.
URL:https://downtownny.com/event/next-stop-new-york-city-subway-by-christoph-niemann/
CATEGORIES:Arts & Culture
END:VEVENT
BEGIN:VEVENT
DTSTART;TZID=America/New_York:20240525T130000
DTEND;TZID=America/New_York:20240527T000000
DTSTAMP:20260423T091556
CREATED:20240430T195743Z
LAST-MODIFIED:20240430T195743Z
UID:97052-1716642000-1716768000@downtownny.com
SUMMARY:Lenora Lee Dance: Convergent Waves
DESCRIPTION:Lenora Lee Dance\, in collaboration with the South Street Seaport Museum\, presents the immersive\, site-responsive\, multimedia dance performances\, “Convergent Waves: NYC.” Come aboard the 1885 tall ship Wavertree\, where the contemporary dance performance will unfold against the backdrop of this historic vessel. Choreographed by award-winning dancer-artistic director Lenora Lee and the talented performers\, this slate of dance vignettes has been inspired by and created specifically for Wavertree to artfully showcase an interactive journey through different areas of the ship\, while delving into the rich history of this international cargo vessel—the last of its kind. Dance will take place in the massive cargo hold\, the forecastle where the crew ate and slept\, the captain’s saloon\, and more. The piece will provide insight into the unseen lives of the laborers who helped to build New York City into the global hub it is today and the unexpected role of the sea as a site for freedom from the racial and gender barriers of the era.  The audience will not be seated during the one-hour event and will actively move throughout the ship to witness this site-specific performance to experience intimate and engaging moments with performers that include video projection\, recorded original music\, and text. Repeated at 3:30pm
URL:https://downtownny.com/event/lenora-lee-dance-convergent-waves/
CATEGORIES:Arts & Culture
END:VEVENT
BEGIN:VEVENT
DTSTART;TZID=America/New_York:20240525T130000
DTEND;TZID=America/New_York:20240527T000000
DTSTAMP:20260423T091556
CREATED:20240430T195745Z
LAST-MODIFIED:20240430T195745Z
UID:97057-1716642000-1716768000@downtownny.com
SUMMARY:Lenora Lee Dance: Convergent Waves
DESCRIPTION:Lenora Lee Dance\, in collaboration with the South Street Seaport Museum\, presents the immersive\, site-responsive\, multimedia dance performances\, “Convergent Waves: NYC.” Come aboard the 1885 tall ship Wavertree\, where the contemporary dance performance will unfold against the backdrop of this historic vessel. Choreographed by award-winning dancer-artistic director Lenora Lee and the talented performers\, this slate of dance vignettes has been inspired by and created specifically for Wavertree to artfully showcase an interactive journey through different areas of the ship\, while delving into the rich history of this international cargo vessel—the last of its kind. Dance will take place in the massive cargo hold\, the forecastle where the crew ate and slept\, the captain’s saloon\, and more. The piece will provide insight into the unseen lives of the laborers who helped to build New York City into the global hub it is today and the unexpected role of the sea as a site for freedom from the racial and gender barriers of the era.  The audience will not be seated during the one-hour event and will actively move throughout the ship to witness this site-specific performance to experience intimate and engaging moments with performers that include video projection\, recorded original music\, and text. Repeated at 3:30pm
URL:https://downtownny.com/event/lenora-lee-dance-convergent-waves-2/
CATEGORIES:Arts & Culture
END:VEVENT
BEGIN:VEVENT
DTSTART;TZID=America/New_York:20240526T103000
DTEND;TZID=America/New_York:20240526T103000
DTSTAMP:20260423T091556
CREATED:20240430T195750Z
LAST-MODIFIED:20240430T195750Z
UID:97059-1716719400-1716719400@downtownny.com
SUMMARY:Playscape Performs
DESCRIPTION:Family-oriented shows at the ShowBox\, the first improv theater in a New York City playground. Show is repeated at 12:30pm.
URL:https://downtownny.com/event/playscape-performs-21/
CATEGORIES:Arts & Culture
END:VEVENT
BEGIN:VEVENT
DTSTART;TZID=America/New_York:20240528T130000
DTEND;TZID=America/New_York:20240528T130000
DTSTAMP:20260423T091556
CREATED:20240430T195752Z
LAST-MODIFIED:20240430T195752Z
UID:97062-1716901200-1716901200@downtownny.com
SUMMARY:iNaturalist + Spotted Lantern Flies: Community Science in Action
DESCRIPTION:Join researcher Katherine Poulos\, who uses crowd-sourced photos submitted to iNaturalist to explore the relationships between the invasive Spotted Lanternfly and plants in New York City. Learn about her study and venture into the parks to see how you can contribute to this valuable resource.
URL:https://downtownny.com/event/inaturalist-spotted-lantern-flies-community-science-in-action/
CATEGORIES:Arts & Culture
END:VEVENT
BEGIN:VEVENT
DTSTART;TZID=America/New_York:20240528T183000
DTEND;TZID=America/New_York:20240528T183000
DTSTAMP:20260423T091556
CREATED:20240430T195755Z
LAST-MODIFIED:20240430T195755Z
UID:97065-1716921000-1716921000@downtownny.com
SUMMARY:The Blue Period: Black Writing in the Early Cold War
DESCRIPTION:Jesse McCarthy presents The Blue Period: Black Writing in the Early Cold War\, in conversation with Vinson Cunningham. From the author of Who Will Pay Reparations on My Soul?\, a new book addressing the political and aesthetic evolution of African American literature and its authors during the Cold War\, an era McCarthy calls “the Blue Period.”
URL:https://downtownny.com/event/the-blue-period-black-writing-in-the-early-cold-war/
CATEGORIES:Arts & Culture
END:VEVENT
BEGIN:VEVENT
DTSTART;TZID=America/New_York:20240528T190000
DTEND;TZID=America/New_York:20240528T190000
DTSTAMP:20260423T091556
CREATED:20240430T195756Z
LAST-MODIFIED:20240430T195756Z
UID:97066-1716922800-1716922800@downtownny.com
SUMMARY:“Jewish Life in Medieval Spain” Book Talk
DESCRIPTION:In Jewish Life in Medieval Spain\, Jonathan Ray explores the Jewish experience in medieval Spain from the dawn of Sephardic society in the ninth century to the expulsion of 1492. An important contribution of the book is the integration of the rise and fall of Jewish life in Muslim al-Andalus into the history of the Jews in medieval Christian Spain. It traces the collapse of Jewish life in Muslim Spain\, the emigration of Andalusi Jewry to the lands of Christian Iberia\, and the long and difficult confluence of these two distinct Jewish subcultures.
URL:https://downtownny.com/event/jewish-life-in-medieval-spain-book-talk/
CATEGORIES:Arts & Culture
END:VEVENT
BEGIN:VEVENT
DTSTART;TZID=America/New_York:20240529T100000
DTEND;TZID=America/New_York:20240529T120000
DTSTAMP:20260423T091556
CREATED:20240430T195756Z
LAST-MODIFIED:20240430T195756Z
UID:97067-1716976800-1716984000@downtownny.com
SUMMARY:Figure al Fresco
DESCRIPTION:Observe and sketch the human figure in a park setting. Each week a model will strike short and long poses for participants to draw. An artist/ educator will offer constructive suggestions and critique. Drawing materials provided; artists are encouraged to bring their own favorite media.
URL:https://downtownny.com/event/figure-al-fresco-54/
CATEGORIES:Arts & Culture
END:VEVENT
BEGIN:VEVENT
DTSTART;TZID=America/New_York:20240529T140000
DTEND;TZID=America/New_York:20240529T160000
DTSTAMP:20260423T091556
CREATED:20240430T195757Z
LAST-MODIFIED:20240430T195757Z
UID:97068-1716991200-1716998400@downtownny.com
SUMMARY:Elements of Nature Drawing
DESCRIPTION:Join our community of artists of all skill levels as we are inspired by our surroundings to create with drawing materials\, pastels and watercolors. Embolden your artwork amidst the flower-filled and seasonally evolving palette of BPC’s verdant gardens. An artist/ educator will provide ideas and instruction. Materials provided\, and artists are encouraged to bring their own favorite media.
URL:https://downtownny.com/event/elements-of-nature-drawing-75/
CATEGORIES:Arts & Culture
END:VEVENT
BEGIN:VEVENT
DTSTART;TZID=America/New_York:20240529T143000
DTEND;TZID=America/New_York:20240529T143000
DTSTAMP:20260423T091556
CREATED:20240430T195758Z
LAST-MODIFIED:20240430T195758Z
UID:97069-1716993000-1716993000@downtownny.com
SUMMARY:City School of the Arts\, Joyful Performances and Presentations!
DESCRIPTION:City School of the Arts is Manhattan’s only public charter middle school for the arts. Student presentations.
URL:https://downtownny.com/event/city-school-of-the-arts-joyful-performances-and-presentations/
CATEGORIES:Arts & Culture
END:VEVENT
BEGIN:VEVENT
DTSTART;TZID=America/New_York:20240529T190000
DTEND;TZID=America/New_York:20240529T190000
DTSTAMP:20260423T091556
CREATED:20240430T195759Z
LAST-MODIFIED:20240430T195759Z
UID:97071-1717009200-1717009200@downtownny.com
SUMMARY:“Walkers in the City” Book Talk
DESCRIPTION:In the middle of the twentieth century\, good cameras became smaller and lighter\, enabling street photographers to roam alleyways\, ride elevated trains and subways\, and stroll beaches in the summertime to capture daily life with urgency and intimacy. Deborah Dash Moore’s book Walkers in the City showcases the distinct urban vision that working-class Jewish photographers produced with these new cameras on New York City’s streets and in public spaces.
URL:https://downtownny.com/event/walkers-in-the-city-book-talk/
CATEGORIES:Arts & Culture
END:VEVENT
BEGIN:VEVENT
DTSTART;TZID=America/New_York:20240529T190000
DTEND;TZID=America/New_York:20240529T190000
DTSTAMP:20260423T091556
CREATED:20240430T195800Z
LAST-MODIFIED:20240430T195800Z
UID:97072-1717009200-1717009200@downtownny.com
SUMMARY:NOVUS Renewal: Malhaar
DESCRIPTION:NOVUS NY and Downtown Voices present the New York premiere of Reena Esmail’s Malhaar: A Requiem for Water\, paired with Garth Neustadter’s Memory of Water\, which will be performed by The Choir of Trinity Wall Street. A malhar is an Indian raga designed to beckon the rain; Esmail’s A Requiem for Water captures musically the beauty and awe of water while contemplating the fear and despair that surround its loss. As water exists beyond all beginnings and ends\, Memory of Water considers the consciousness of water and how it carries in its memory both the splendor and devastation of our world.
URL:https://downtownny.com/event/novus-renewal-malhaar/
CATEGORIES:Arts & Culture
END:VEVENT
BEGIN:VEVENT
DTSTART;TZID=America/New_York:20240530T173000
DTEND;TZID=America/New_York:20240530T173000
DTSTAMP:20260423T091556
CREATED:20240430T195804Z
LAST-MODIFIED:20240430T195804Z
UID:97077-1717090200-1717090200@downtownny.com
SUMMARY:Arjun
DESCRIPTION:Arjun is a vinyl DJ who spins rare and eclectic records from around the world.
URL:https://downtownny.com/event/arjun/
CATEGORIES:Arts & Culture
END:VEVENT
BEGIN:VEVENT
DTSTART;TZID=America/New_York:20240530T183000
DTEND;TZID=America/New_York:20240530T193000
DTSTAMP:20260423T091556
CREATED:20240430T195812Z
LAST-MODIFIED:20240430T195812Z
UID:97079-1717093800-1717097400@downtownny.com
SUMMARY:Interludes: Studio 245
DESCRIPTION:In celebration of Asian American and Pacific Island Heritage Month\, join a celebration of Asian culture with Studio 245 who will show and teach the latest pop dance moves taking the world by storm!
URL:https://downtownny.com/event/interludes-studio-245/
CATEGORIES:Arts & Culture
END:VEVENT
BEGIN:VEVENT
DTSTART;TZID=America/New_York:20240531T174500
DTEND;TZID=America/New_York:20240531T174500
DTSTAMP:20260423T091556
CREATED:20240430T195814Z
LAST-MODIFIED:20240430T195814Z
UID:97082-1717177500-1717177500@downtownny.com
SUMMARY:Claire DeJean
DESCRIPTION:Claire DeJean is a New York City based actor\, songwriter\, and musician.
URL:https://downtownny.com/event/claire-dejean/
CATEGORIES:Arts & Culture
END:VEVENT
BEGIN:VEVENT
DTSTART;TZID=America/New_York:20240531T190000
DTEND;TZID=America/New_York:20240531T190000
DTSTAMP:20260423T091556
CREATED:20240430T195821Z
LAST-MODIFIED:20240430T195821Z
UID:97085-1717182000-1717182000@downtownny.com
SUMMARY:McNally Jackson After Hours: The Talented Mr. Ripley
DESCRIPTION:Do you regret not talking to the hot person on the train reading a book you like? Did your last Hinge date reveal that they haven’t read a book since high school?  In lieu of a traditional sit-down discussion\, mix and mingle at the McNally Jackson Seaport beer and wine bar and discuss books. Tonight’s discussion is about The Talented Mr. Ripley\, the first volume of Patricia Highsmith’s five-book Ripley series\, an American classic and the inspiration for the new Netflix series.
URL:https://downtownny.com/event/mcnally-jackson-after-hours-the-talented-mr-ripley/
CATEGORIES:Arts & Culture
END:VEVENT
BEGIN:VEVENT
DTSTART;TZID=America/New_York:20240531T190000
DTEND;TZID=America/New_York:20240531T220000
DTSTAMP:20260423T091556
CREATED:20240430T195820Z
LAST-MODIFIED:20240430T195820Z
UID:97084-1717182000-1717192800@downtownny.com
SUMMARY:Silent Disco Pride Party
DESCRIPTION:On the eve of Pride Month\, kick things off with a silent disco dance party featuring Gotham Cheer and DJs from QuietEvents as we dance to the hottest beats pumped through light-up headphones. Headphones are free; ID is required.
URL:https://downtownny.com/event/silent-disco-pride-party/
LOCATION:Teardrop Park
CATEGORIES:Arts & Culture
END:VEVENT
BEGIN:VEVENT
DTSTART;TZID=America/New_York:20240601T130000
DTEND;TZID=America/New_York:20240601T130000
DTSTAMP:20260423T091556
CREATED:20240531T190328Z
LAST-MODIFIED:20240531T190328Z
UID:97890-1717246800-1717246800@downtownny.com
SUMMARY:Forging Maritime Metals
DESCRIPTION:Drop-in metalworking demonstrations that delve into the crucial role of blacksmiths during the Age of Sail\, both on land and aboard ships at sea. These events will spark interest into the maritime blacksmithing trade and provide visitors with insight into the construction and maintenance of historic vessels\, like the 1885 tall ship Wavertree.
URL:https://downtownny.com/event/forging-maritime-metals-4/
LOCATION:Pier 16
CATEGORIES:Arts & Culture
END:VEVENT
BEGIN:VEVENT
DTSTART;TZID=America/New_York:20240602T103000
DTEND;TZID=America/New_York:20240602T103000
DTSTAMP:20260423T091556
CREATED:20240531T190332Z
LAST-MODIFIED:20240531T190332Z
UID:97893-1717324200-1717324200@downtownny.com
SUMMARY:Playscape Performs
DESCRIPTION:Family-oriented shows at the ShowBox\, the first improv theater in a New York City playground. Show is repeated at 12:30pm.
URL:https://downtownny.com/event/playscape-performs-22/
CATEGORIES:Arts & Culture
END:VEVENT
BEGIN:VEVENT
DTSTART;TZID=America/New_York:20240603T140000
DTEND;TZID=America/New_York:20240603T140000
DTSTAMP:20260423T091556
CREATED:20240531T190334Z
LAST-MODIFIED:20240531T190334Z
UID:97896-1717423200-1717423200@downtownny.com
SUMMARY:Hybrid Sea Chanteys and Maritime Music
DESCRIPTION:Join the lively chantey experience either in-person at the Seaport Museum’s introduction galleries or virtually via Zoom\, allowing you to join from anywhere. Each sing will be hosted by a local artist who will lead the sea-song sing-along\, featuring a variety of traditional maritime work songs and ballads. Attendees are encouraged to sing along with the chorus or just sit back and enjoy their performance. Throughout the event\, both in-person and virtual attendees are welcome to take the stage for this round-robin where you can sing and share the chantey of your choice.
URL:https://downtownny.com/event/hybrid-sea-chanteys-and-maritime-music-7/
CATEGORIES:Arts & Culture
END:VEVENT
BEGIN:VEVENT
DTSTART;TZID=America/New_York:20240603T140000
DTEND;TZID=America/New_York:20240603T153000
DTSTAMP:20260423T091556
CREATED:20240531T190333Z
LAST-MODIFIED:20240531T190333Z
UID:97895-1717423200-1717428600@downtownny.com
SUMMARY:Creative Writing
DESCRIPTION:Walk & writing session led by poet Jon Curley. Participants will be encouraged to use observations as a way to enhance their writing styles in any preferred mode. Registration required\, please email: registration@bpca.ny.gov.
URL:https://downtownny.com/event/creative-writing-26/
CATEGORIES:Arts & Culture
END:VEVENT
BEGIN:VEVENT
DTSTART;TZID=America/New_York:20240603T180000
DTEND;TZID=America/New_York:20240603T180000
DTSTAMP:20260423T091556
CREATED:20240531T190533Z
LAST-MODIFIED:20240531T190533Z
UID:97898-1717437600-1717437600@downtownny.com
SUMMARY:Poetry Walk Across the Brooklyn Bridge
DESCRIPTION:26th annual fundraiser for Poets House.
URL:https://downtownny.com/event/poetry-walk-across-the-brooklyn-bridge/
CATEGORIES:Arts & Culture
END:VEVENT
BEGIN:VEVENT
DTSTART;TZID=America/New_York:20240603T183000
DTEND;TZID=America/New_York:20240603T183000
DTSTAMP:20260423T091556
CREATED:20240531T190534Z
LAST-MODIFIED:20240531T190534Z
UID:97900-1717439400-1717439400@downtownny.com
SUMMARY:On the Couch: Writers Analyze Sigmund Freud with André Aciman\, Sheila Kohler\, Casey Schwartz\, and Daphne Merkin
DESCRIPTION:Filled with insights\, provocation\, and humor\, On the Couch offers an original and nuanced portrait of Freud as a complex figure who\, for all his flaws\, forever changed how we see ourselves and the world.
URL:https://downtownny.com/event/on-the-couch-writers-analyze-sigmund-freud-with-andre-aciman-sheila-kohler-casey-schwartz-and-daphne-merkin/
CATEGORIES:Arts & Culture
END:VEVENT
BEGIN:VEVENT
DTSTART;TZID=America/New_York:20240604T180000
DTEND;TZID=America/New_York:20240604T180000
DTSTAMP:20260423T091556
CREATED:20240531T190736Z
LAST-MODIFIED:20240531T190736Z
UID:97906-1717524000-1717524000@downtownny.com
SUMMARY:Mass Timber by Code and at Scale
DESCRIPTION:Based in Seattle\, architect Susan Jones is a national leader in the Mass Timber community. Established in 2003\, her firm\, atelierjones\, completed four of the earliest mass timber buildings permitted in the United States and her recently completed project “Heartwood” marks a first of its kind in the US – eight stories of Mass Timber workforce housing. Developed by local nonprofit-housing operator Community Roots Housing on the site of a former parking lot in Seattle’s Capitol Hill neighborhood\, Heartwood offers 126 units\, of which roughly one-third are income-restricted. It is also a prototype for tall timber affordable housing at scale.
URL:https://downtownny.com/event/mass-timber-by-code-and-at-scale/
CATEGORIES:Arts & Culture
END:VEVENT
END:VCALENDAR