BEGIN:VCALENDAR
VERSION:2.0
PRODID:-//Downtown Alliance - ECPv6.15.20//NONSGML v1.0//EN
CALSCALE:GREGORIAN
METHOD:PUBLISH
X-ORIGINAL-URL:https://downtownny.com
X-WR-CALDESC:Events for Downtown Alliance
REFRESH-INTERVAL;VALUE=DURATION:PT1H
X-Robots-Tag:noindex
X-PUBLISHED-TTL:PT1H
BEGIN:VTIMEZONE
TZID:America/New_York
BEGIN:DAYLIGHT
TZOFFSETFROM:-0500
TZOFFSETTO:-0400
TZNAME:EDT
DTSTART:20230312T070000
END:DAYLIGHT
BEGIN:STANDARD
TZOFFSETFROM:-0400
TZOFFSETTO:-0500
TZNAME:EST
DTSTART:20231105T060000
END:STANDARD
BEGIN:DAYLIGHT
TZOFFSETFROM:-0500
TZOFFSETTO:-0400
TZNAME:EDT
DTSTART:20240310T070000
END:DAYLIGHT
BEGIN:STANDARD
TZOFFSETFROM:-0400
TZOFFSETTO:-0500
TZNAME:EST
DTSTART:20241103T060000
END:STANDARD
BEGIN:DAYLIGHT
TZOFFSETFROM:-0500
TZOFFSETTO:-0400
TZNAME:EDT
DTSTART:20250309T070000
END:DAYLIGHT
BEGIN:STANDARD
TZOFFSETFROM:-0400
TZOFFSETTO:-0500
TZNAME:EST
DTSTART:20251102T060000
END:STANDARD
END:VTIMEZONE
BEGIN:VEVENT
DTSTART;TZID=America/New_York:20240602T103000
DTEND;TZID=America/New_York:20240602T103000
DTSTAMP:20260424T130405
CREATED:20240531T190332Z
LAST-MODIFIED:20240531T190332Z
UID:97893-1717324200-1717324200@downtownny.com
SUMMARY:Playscape Performs
DESCRIPTION:Family-oriented shows at the ShowBox\, the first improv theater in a New York City playground. Show is repeated at 12:30pm.
URL:https://downtownny.com/event/playscape-performs-22/
CATEGORIES:Arts & Culture
END:VEVENT
BEGIN:VEVENT
DTSTART;TZID=America/New_York:20240603T140000
DTEND;TZID=America/New_York:20240603T140000
DTSTAMP:20260424T130405
CREATED:20240531T190334Z
LAST-MODIFIED:20240531T190334Z
UID:97896-1717423200-1717423200@downtownny.com
SUMMARY:Hybrid Sea Chanteys and Maritime Music
DESCRIPTION:Join the lively chantey experience either in-person at the Seaport Museum’s introduction galleries or virtually via Zoom\, allowing you to join from anywhere. Each sing will be hosted by a local artist who will lead the sea-song sing-along\, featuring a variety of traditional maritime work songs and ballads. Attendees are encouraged to sing along with the chorus or just sit back and enjoy their performance. Throughout the event\, both in-person and virtual attendees are welcome to take the stage for this round-robin where you can sing and share the chantey of your choice.
URL:https://downtownny.com/event/hybrid-sea-chanteys-and-maritime-music-7/
CATEGORIES:Arts & Culture
END:VEVENT
BEGIN:VEVENT
DTSTART;TZID=America/New_York:20240603T140000
DTEND;TZID=America/New_York:20240603T153000
DTSTAMP:20260424T130405
CREATED:20240531T190333Z
LAST-MODIFIED:20240531T190333Z
UID:97895-1717423200-1717428600@downtownny.com
SUMMARY:Creative Writing
DESCRIPTION:Walk & writing session led by poet Jon Curley. Participants will be encouraged to use observations as a way to enhance their writing styles in any preferred mode. Registration required\, please email: registration@bpca.ny.gov.
URL:https://downtownny.com/event/creative-writing-26/
CATEGORIES:Arts & Culture
END:VEVENT
BEGIN:VEVENT
DTSTART;TZID=America/New_York:20240603T180000
DTEND;TZID=America/New_York:20240603T180000
DTSTAMP:20260424T130405
CREATED:20240531T190533Z
LAST-MODIFIED:20240531T190533Z
UID:97898-1717437600-1717437600@downtownny.com
SUMMARY:Poetry Walk Across the Brooklyn Bridge
DESCRIPTION:26th annual fundraiser for Poets House.
URL:https://downtownny.com/event/poetry-walk-across-the-brooklyn-bridge/
CATEGORIES:Arts & Culture
END:VEVENT
BEGIN:VEVENT
DTSTART;TZID=America/New_York:20240603T183000
DTEND;TZID=America/New_York:20240603T183000
DTSTAMP:20260424T130405
CREATED:20240531T190534Z
LAST-MODIFIED:20240531T190534Z
UID:97900-1717439400-1717439400@downtownny.com
SUMMARY:On the Couch: Writers Analyze Sigmund Freud with André Aciman\, Sheila Kohler\, Casey Schwartz\, and Daphne Merkin
DESCRIPTION:Filled with insights\, provocation\, and humor\, On the Couch offers an original and nuanced portrait of Freud as a complex figure who\, for all his flaws\, forever changed how we see ourselves and the world.
URL:https://downtownny.com/event/on-the-couch-writers-analyze-sigmund-freud-with-andre-aciman-sheila-kohler-casey-schwartz-and-daphne-merkin/
CATEGORIES:Arts & Culture
END:VEVENT
BEGIN:VEVENT
DTSTART;TZID=America/New_York:20240604T180000
DTEND;TZID=America/New_York:20240604T180000
DTSTAMP:20260424T130405
CREATED:20240531T190736Z
LAST-MODIFIED:20240531T190736Z
UID:97906-1717524000-1717524000@downtownny.com
SUMMARY:Mass Timber by Code and at Scale
DESCRIPTION:Based in Seattle\, architect Susan Jones is a national leader in the Mass Timber community. Established in 2003\, her firm\, atelierjones\, completed four of the earliest mass timber buildings permitted in the United States and her recently completed project “Heartwood” marks a first of its kind in the US – eight stories of Mass Timber workforce housing. Developed by local nonprofit-housing operator Community Roots Housing on the site of a former parking lot in Seattle’s Capitol Hill neighborhood\, Heartwood offers 126 units\, of which roughly one-third are income-restricted. It is also a prototype for tall timber affordable housing at scale.
URL:https://downtownny.com/event/mass-timber-by-code-and-at-scale/
CATEGORIES:Arts & Culture
END:VEVENT
BEGIN:VEVENT
DTSTART;TZID=America/New_York:20240604T180000
DTEND;TZID=America/New_York:20240604T183000
DTSTAMP:20260424T130405
CREATED:20240531T190735Z
LAST-MODIFIED:20240531T190735Z
UID:97905-1717524000-1717525800@downtownny.com
SUMMARY:Art Talks: Justice Reflected
DESCRIPTION:Drop-in public art tours for all ages of Justice Reflected. Take home coloring pages designed by the artist. Repeated 6:30pm-7pm.
URL:https://downtownny.com/event/art-talks-justice-reflected-3/
CATEGORIES:Arts & Culture
END:VEVENT
BEGIN:VEVENT
DTSTART;TZID=America/New_York:20240604T183000
DTEND;TZID=America/New_York:20240604T183000
DTSTAMP:20260424T130405
CREATED:20240531T190835Z
LAST-MODIFIED:20240531T190835Z
UID:97908-1717525800-1717525800@downtownny.com
SUMMARY:Gabriel Smith presents Brat\, in conversation with Kiara Barrow
DESCRIPTION:From a provocative new literary talent\, a hilarious and haunted novel featuring an unlikable protagonist grappling with grief\, inheritance\, and the ghosts of his past.
URL:https://downtownny.com/event/gabriel-smith-presents-brat-in-conversation-with-kiara-barrow/
CATEGORIES:Arts & Culture
END:VEVENT
BEGIN:VEVENT
DTSTART;TZID=America/New_York:20240604T190000
DTEND;TZID=America/New_York:20240604T190000
DTSTAMP:20260424T130405
CREATED:20240531T190836Z
LAST-MODIFIED:20240531T190836Z
UID:97909-1717527600-1717527600@downtownny.com
SUMMARY:Solidarity and Persecution: Lesbian Experiences in Nazi Germany
DESCRIPTION:The fates of lesbian women in Nazi Germany have long been contested. When the Memorial to Homosexuals Persecuted Under Nazism opened in Berlin in 2008 it was an occasion for protest. Lesbian activists were frustrated that the monument focused exclusively on the fates of gay men\, insinuating that women had not also faced persecution. This talk by Samuel Clowes Huneke\, assistant professor of history at George Mason University\, recounts several life stories of lesbians who experienced the Nazi dictatorship\, highlighting the many trajectories that queer women followed in those twelve years. It argues that lesbians did\, in fact\, face persecution\, ranging from everyday harassment and surveillance all the way to imprisonment in concentration camps. At the same time\, the talk recovers these women’s agency\, contending that many of them resisted fascism with solidarity that cut across lines of class\, race\, and gender.
URL:https://downtownny.com/event/solidarity-and-persecution-lesbian-experiences-in-nazi-germany/
CATEGORIES:Arts & Culture
END:VEVENT
BEGIN:VEVENT
DTSTART;TZID=America/New_York:20240605T100000
DTEND;TZID=America/New_York:20240605T120000
DTSTAMP:20260424T130405
CREATED:20240531T190836Z
LAST-MODIFIED:20240531T190836Z
UID:97910-1717581600-1717588800@downtownny.com
SUMMARY:Figure Al Fresco
DESCRIPTION:Observe and sketch the human figure in a park setting. Each week a model will strike short and long poses for participants to draw. An artist/ educator will offer constructive suggestions and critique. Drawing materials provided; artists are encouraged to bring their own favorite media.
URL:https://downtownny.com/event/figure-al-fresco-55/
CATEGORIES:Arts & Culture
END:VEVENT
BEGIN:VEVENT
DTSTART;TZID=America/New_York:20240605T140000
DTEND;TZID=America/New_York:20240605T160000
DTSTAMP:20260424T130405
CREATED:20240531T190837Z
LAST-MODIFIED:20240531T190837Z
UID:97912-1717596000-1717603200@downtownny.com
SUMMARY:Elements of Nature Drawing
DESCRIPTION:Join our community of artists of all skill levels as we are inspired by our surroundings to create with drawing materials\, pastels and watercolors. Embolden your artwork amidst the flower-filled and seasonally evolving palette of BPC’s verdant gardens. An artist/ educator will provide ideas and instruction. Materials provided\, and artists are encouraged to bring their own favorite media.
URL:https://downtownny.com/event/elements-of-nature-drawing-76/
CATEGORIES:Arts & Culture
END:VEVENT
BEGIN:VEVENT
DTSTART;TZID=America/New_York:20240606T000000
DTEND;TZID=America/New_York:20240608T000000
DTSTAMP:20260424T130405
CREATED:20240531T191037Z
LAST-MODIFIED:20240531T191037Z
UID:97914-1717632000-1717804800@downtownny.com
SUMMARY:Fresh Prints
DESCRIPTION:Open house will feature a breadth of printing equipment that you will be invited to use. You’ll get to see how the designers at Bowne lock up limited edition designs that showcase some of the more eccentric parts from the Seaport Museum’s printing and graphic arts collection. Established in 1775\, the original Bowne & Co.\, Inc. was one of New York’s oldest printing firms. The Bowne & Co. that you can experience today at the Seaport Museum is an offshoot of the original and continues the age-old tradition of job (or small batch) printing. Advanced registration is encouraged for this free open house but walkups will be accommodated as possible. Anyone ages 12 and up is welcome.
URL:https://downtownny.com/event/fresh-prints-12/
CATEGORIES:Arts & Culture
END:VEVENT
BEGIN:VEVENT
DTSTART;TZID=America/New_York:20240606T180000
DTEND;TZID=America/New_York:20240606T180000
DTSTAMP:20260424T130405
CREATED:20240531T191038Z
LAST-MODIFIED:20240531T191038Z
UID:97917-1717696800-1717696800@downtownny.com
SUMMARY:China’s Risk Reboot: Unveiling Economic Turbulence with MIT’s Yasheng Huang and Investor Isaac Souede
DESCRIPTION:This program will delve into the challenges confronting China’s economy\, examining how the nation is confronting risks associated with trade\, technology\, and geopolitical tensions. We’ll analyze the implications of these strategies on both domestic and international fronts\, focusing on China’s economic difficulties and forecasting its future trajectory.
URL:https://downtownny.com/event/chinas-risk-reboot-unveiling-economic-turbulence-with-mits-yasheng-huang-and-investor-isaac-souede/
CATEGORIES:Arts & Culture
END:VEVENT
BEGIN:VEVENT
DTSTART;TZID=America/New_York:20240606T183000
DTEND;TZID=America/New_York:20240606T183000
DTSTAMP:20260424T130405
CREATED:20240531T191237Z
LAST-MODIFIED:20240531T191237Z
UID:97918-1717698600-1717698600@downtownny.com
SUMMARY:Interludes: Ishmael Levy & the Chzn Phew
DESCRIPTION:In celebration of Caribbean-American Heritage Month\, Ishmael Levi & The Chzn Phew are powerful performers specializing in reggae and roots music. They play with love and soul\, and a collective  booming\, and devastatingly beautiful voice.
URL:https://downtownny.com/event/interludes-ishmael-levy-the-chzn-phew/
CATEGORIES:Arts & Culture
END:VEVENT
BEGIN:VEVENT
DTSTART;TZID=America/New_York:20240606T190000
DTEND;TZID=America/New_York:20240606T190000
DTSTAMP:20260424T130405
CREATED:20240531T191238Z
LAST-MODIFIED:20240531T191238Z
UID:97919-1717700400-1717700400@downtownny.com
SUMMARY:Good Jew
DESCRIPTION:Welcome to Henry Altman’s St. Louis den\, 1986\, where he reveals extraordinary adventures of survival during the WWII Holocaust. He navigated the Warsaw ghetto\, escaped Treblinka death-camps twice\, joined the Resistance\, blew up trains\, and played cat-and-mouse with the SS. Fearing these stories would die with Henry\, his son\, Murray Changar\, along with partner and performer Frank Blocker\, created this touching\, verbatim solo play directed by Jamibeth Margolis\, herself a granddaughter of survivors. It offers hope and humor\, and a much-needed historical perspective\, while keeping audiences on the edge of their seats.
URL:https://downtownny.com/event/good-jew/
CATEGORIES:Arts & Culture
END:VEVENT
BEGIN:VEVENT
DTSTART;TZID=America/New_York:20240607T170000
DTEND;TZID=America/New_York:20240607T170000
DTSTAMP:20260424T130405
CREATED:20240531T191240Z
LAST-MODIFIED:20240531T191240Z
UID:97922-1717779600-1717779600@downtownny.com
SUMMARY:The Power of the Bounce
DESCRIPTION:Miguel Gutierrez presents an interactive\, high-energy dance performance complete with group choreography\, aerobics\, and costumes. Come in costume and learn the famous “Aerobicon” dance that Miguel created to Le Tigre’s “Deceptacon” in 2000. Way before TikTok\, this dance was a viral hit in the early days of YouTube that was then recreated by people all over the world in duos\, small groups\, and giant crowds. Miguel will revive this dance and create a powerful public spectacle.
URL:https://downtownny.com/event/the-power-of-the-bounce/
CATEGORIES:Arts & Culture
END:VEVENT
BEGIN:VEVENT
DTSTART;TZID=America/New_York:20240607T183000
DTEND;TZID=America/New_York:20240608T000000
DTSTAMP:20260424T130405
CREATED:20240531T191438Z
LAST-MODIFIED:20240531T191438Z
UID:97923-1717785000-1717804800@downtownny.com
SUMMARY:You Look Like a Fun Guy
DESCRIPTION:Out­door per­for­mance event inspired by John Cage’s inter­est in mycol­o­gy and his meth­ods of com­pos­ing music. Broad­cast­ing and height­en­ing the nat­ur­al son­ic envi­ron­ment live\, Omar Zubair’s audio instal­la­tion plays with the audience’s per­cep­tion of real­i­ty and is paired with orig­i­nal music com­posed by Col­in Jacob­son\, with cos­tumes by Maile Oka­mu­ra. Direct­ed and chore­o­graphed by John Hegin­both­am\, You Look Like a Fun Guy cel­e­brates Cage’s rig­or­ous and play­ful con­cerns as well as the aston­ish­ing nature and behav­ior of fun­gi. Shaped and informed by its sur­round­ings\, this unique per­for­mance event responds to the nat­ur­al envi­ron­ment it inhabits.
URL:https://downtownny.com/event/you-look-like-a-fun-guy/
CATEGORIES:Arts & Culture
END:VEVENT
BEGIN:VEVENT
DTSTART;TZID=America/New_York:20240608T100000
DTEND;TZID=America/New_York:20240608T120000
DTSTAMP:20260424T130405
CREATED:20240531T191639Z
LAST-MODIFIED:20240531T191639Z
UID:97928-1717840800-1717848000@downtownny.com
SUMMARY:Drawing in the Park
DESCRIPTION:Paint in watercolor or use pastels and other drawing materials to capture the magical vistas of the Hudson River and the unique landscape of South Cove. An artist/educator will help participants of all levels with instruction and critique. Materials provided\, and artists are encouraged to bring their own favorite media.
URL:https://downtownny.com/event/drawing-in-the-park-64/
LOCATION:South Cove
CATEGORIES:Arts & Culture
END:VEVENT
BEGIN:VEVENT
DTSTART;TZID=America/New_York:20240608T103000
DTEND;TZID=America/New_York:20240608T103000
DTSTAMP:20260424T130405
CREATED:20240531T191640Z
LAST-MODIFIED:20240531T191640Z
UID:97930-1717842600-1717842600@downtownny.com
SUMMARY:Returning to Our Roots — A Violin Concert!
DESCRIPTION:Violin duo Miolina presents “Returning to Our Roots\,” a half-hour children’s concert inspired by the trees that make-up our homes and schools.
URL:https://downtownny.com/event/returning-to-our-roots-a-violin-concert/
CATEGORIES:Arts & Culture
END:VEVENT
BEGIN:VEVENT
DTSTART;TZID=America/New_York:20240608T110000
DTEND;TZID=America/New_York:20240609T170000
DTSTAMP:20260424T130405
CREATED:20240531T191641Z
LAST-MODIFIED:20240531T191641Z
UID:97931-1717844400-1717952400@downtownny.com
SUMMARY:Jazz Age Lawn Party
DESCRIPTION:Break out your best flap­per dress­es\, linen jack­ets\, straw hats and spats\, and 100-year-old Gats­by-inspired attire! The Jazz Age Lawn Par­ty on Gov­er­nors Island fea­tures live music\, retro cock­tails\, and ​’20s Pro­hi­bi­tion era enter­tain­ment.
URL:https://downtownny.com/event/jazz-age-lawn-party-6/
LOCATION:Governors Island
CATEGORIES:Arts & Culture
END:VEVENT
BEGIN:VEVENT
DTSTART;TZID=America/New_York:20240608T110000
DTEND;TZID=America/New_York:20240609T170000
DTSTAMP:20260424T130405
CREATED:20240531T191641Z
LAST-MODIFIED:20240531T191641Z
UID:97932-1717844400-1717952400@downtownny.com
SUMMARY:NYC Lavender Festival
DESCRIPTION:Tours\, demon­stra­tions\, mak­er work­shops\, har­vest­ing oppor­tu­ni­ties and fun fam­i­ly activ­i­ties at the Laven­der Field on Gov­er­nors Island — a heal­ing space for com­mu­ni­ty\, bees and the earth\, and the only laven­der field in New York City!
URL:https://downtownny.com/event/nyc-lavender-festival/
LOCATION:Governors Island
CATEGORIES:Arts & Culture
END:VEVENT
BEGIN:VEVENT
DTSTART;TZID=America/New_York:20240608T130000
DTEND;TZID=America/New_York:20240608T130000
DTSTAMP:20260424T130405
CREATED:20240531T191828Z
LAST-MODIFIED:20240531T191828Z
UID:97933-1717851600-1717851600@downtownny.com
SUMMARY:Whole body in my ear
DESCRIPTION:Whole body in my ear is a performance in which sound and body emerge as one fluid and dynamic textural form. The work sees performers splice and patch text\, movement\, and sound scores in creating new languages and porous realities. This endurance-based auditory fantasy pushes toward dissonance\, using it as a means to explore and amplify otherness. The scores build\, heighten\, and erode an ouroboric circuit—with patterns repeating\, leaking\, and breaking apart throughout a shifting sculptural landscape.
URL:https://downtownny.com/event/whole-body-in-my-ear/
CATEGORIES:Arts & Culture
END:VEVENT
BEGIN:VEVENT
DTSTART;TZID=America/New_York:20240608T190000
DTEND;TZID=America/New_York:20240609T000000
DTSTAMP:20260424T130405
CREATED:20240531T191830Z
LAST-MODIFIED:20240531T191830Z
UID:97936-1717873200-1717891200@downtownny.com
SUMMARY:Fallacies
DESCRIPTION:Fallacies blurs the lines between original source and personal interpretation\, constructing dance from a dancer’s perspective. Distorting referential choreography to reveal new patterns and physical possibilities\, the piece materializes as a Rorschach test of dance. When the movement is stripped down\, what do you see? By rendering movement through the lens of its performers\, Fallacies makes invisible embodied histories visible. In addition to performances June 8 and 9\, audiences are invited to join a workshop with Nattie Trogdon + Hollis Bartlett at 5pm on Sunday\, June 9 to learn movement from Fallacies\, gaining insight into the piece’s various original sources before seeing the performance that evening.
URL:https://downtownny.com/event/fallacies/
LOCATION:Rockefeller Park
CATEGORIES:Arts & Culture
END:VEVENT
BEGIN:VEVENT
DTSTART;TZID=America/New_York:20240608T200000
DTEND;TZID=America/New_York:20240608T200000
DTSTAMP:20260424T130405
CREATED:20240531T191830Z
LAST-MODIFIED:20240531T191830Z
UID:97937-1717876800-1717876800@downtownny.com
SUMMARY:Yung Wing: The First Modern Intellectual of China
DESCRIPTION:Yung Wing (1828–1912) was a transformative figure in China’s modernization. Often hailed as the first Chinese graduate of an American university\, his life and work transcended this singular achievement. While Yung Wing is rightfully recognized as the “Father of Chinese Students Studying Abroad\,” his impact extended far beyond education. China’s modern history was a period of intense social and political upheaval. While other prominent figures dominated specific eras\, Yung Wing’s influence spanned the entire period. His contributions were multifaceted\, shaping not just educational reform but also China’s broader development. To mark the 170th anniversary of Yung Wing’s graduation from Yale University\, the Renwen Society presents a special lecture by Prof. Lei Yi\, a leading Yung Wing scholar. Prof. Lei will delve into Yung Wing’s historical context\, the qualities that made him a pioneer and driving force for modernization\, his evolving views on reform within the Qing Dynasty\, and his intellectual characteristics – rationality\, independence\, and a forward-looking vision.
URL:https://downtownny.com/event/yung-wing-the-first-modern-intellectual-of-china/
CATEGORIES:Arts & Culture
END:VEVENT
BEGIN:VEVENT
DTSTART;TZID=America/New_York:20240609T090000
DTEND;TZID=America/New_York:20240609T090000
DTSTAMP:20260424T130405
CREATED:20240531T191833Z
LAST-MODIFIED:20240531T191833Z
UID:97938-1717923600-1717923600@downtownny.com
SUMMARY:Vinyasa on a Vessel
DESCRIPTION:Anyone ages 12 and up is invited to start your Sunday with a mindful and invigorating 60-minute practice that is both accessible and challenging for all skill levels. Each session is peppered with information about the vessel itself and playlists are thoughtfully developed to reflect the serenity of the water and lively seasonal themes.
URL:https://downtownny.com/event/vinyasa-on-a-vessel-8/
CATEGORIES:Arts & Culture
END:VEVENT
BEGIN:VEVENT
DTSTART;TZID=America/New_York:20240609T103000
DTEND;TZID=America/New_York:20240609T103000
DTSTAMP:20260424T130405
CREATED:20240531T191834Z
LAST-MODIFIED:20240531T191834Z
UID:97939-1717929000-1717929000@downtownny.com
SUMMARY:Playscape Performs
DESCRIPTION:Family-oriented shows at the ShowBox\, the first improv theater in a New York City playground. Show is repeated at 12:30pm.
URL:https://downtownny.com/event/playscape-performs-23/
CATEGORIES:Arts & Culture
END:VEVENT
BEGIN:VEVENT
DTSTART;TZID=America/New_York:20240609T130000
DTEND;TZID=America/New_York:20240609T130000
DTSTAMP:20260424T130405
CREATED:20240531T191834Z
LAST-MODIFIED:20240531T191834Z
UID:97940-1717938000-1717938000@downtownny.com
SUMMARY:Member Tour of Courage to Act: Rescue in Denmark
DESCRIPTION:
URL:https://downtownny.com/event/member-tour-of-courage-to-act-rescue-in-denmark/
LOCATION:Museum of Jewish Heritage
CATEGORIES:Arts & Culture
END:VEVENT
BEGIN:VEVENT
DTSTART;TZID=America/New_York:20240609T140000
DTEND;TZID=America/New_York:20240609T140000
DTSTAMP:20260424T130405
CREATED:20240531T191835Z
LAST-MODIFIED:20240531T191835Z
UID:97941-1717941600-1717941600@downtownny.com
SUMMARY:Sunday Afternoon Music: The Life of a Black Baritone
DESCRIPTION:Jonathan R. Green\, baritone\, presents a lecture recital honoring the life and legacy of Black baritone Robert McFerrin\, featuring works by H.T. Burleigh\, Stephen Flaherty\, George Gershwin\, Charles Gounod\, Moses Hogan\, Hall Johnson\, Jerome Kern\, Gioachino Rossini\, William Grant Still\, Giuseppe Verdi\, and Andrew Lloyd Webber.
URL:https://downtownny.com/event/sunday-afternoon-music-the-life-of-a-black-baritone/
CATEGORIES:Arts & Culture
END:VEVENT
BEGIN:VEVENT
DTSTART;TZID=America/New_York:20240609T190000
DTEND;TZID=America/New_York:20240609T190000
DTSTAMP:20260424T130405
CREATED:20240531T192028Z
LAST-MODIFIED:20240531T192028Z
UID:97944-1717959600-1717959600@downtownny.com
SUMMARY:“Treasure” Film Screening
DESCRIPTION:A father-daughter road trip set in 1990s Poland\, Treasure follows Ruth (Lena Dunham)\, an American music journalist\, and her father\, Edek (Stephen Fry)\, a charmingly stubborn Holocaust survivor\, on a journey to his homeland. While Ruth is eager to make sense of her family’s past\, Edek embarks on the trip with his own agenda. This emotional\, funny culture clash of two New Yorkers exploring post-socialist Poland is a powerful example of how reconnecting with family and the past can be an unexpected treasure. Following the film there will be a short Q&A with the film’s director Julia von Heinz and Lily Brett\, author of Too Many Men\, from which the film was adapted.
URL:https://downtownny.com/event/treasure-film-screening/
CATEGORIES:Arts & Culture
END:VEVENT
BEGIN:VEVENT
DTSTART;TZID=America/New_York:20240610T140000
DTEND;TZID=America/New_York:20240610T153000
DTSTAMP:20260424T130405
CREATED:20240531T192029Z
LAST-MODIFIED:20240531T192029Z
UID:97946-1718028000-1718033400@downtownny.com
SUMMARY:Creative Writing
DESCRIPTION:Walk & writing session led by poet Jon Curley. Participants will be encouraged to use observations as a way to enhance their writing styles in any preferred mode. Registration required\, please email: registration@bpca.ny.gov.
URL:https://downtownny.com/event/creative-writing-27/
CATEGORIES:Arts & Culture
END:VEVENT
END:VCALENDAR