BEGIN:VCALENDAR
VERSION:2.0
PRODID:-//Downtown Alliance - ECPv6.15.20//NONSGML v1.0//EN
CALSCALE:GREGORIAN
METHOD:PUBLISH
X-WR-CALNAME:Downtown Alliance
X-ORIGINAL-URL:https://downtownny.com
X-WR-CALDESC:Events for Downtown Alliance
REFRESH-INTERVAL;VALUE=DURATION:PT1H
X-Robots-Tag:noindex
X-PUBLISHED-TTL:PT1H
BEGIN:VTIMEZONE
TZID:America/New_York
BEGIN:DAYLIGHT
TZOFFSETFROM:-0500
TZOFFSETTO:-0400
TZNAME:EDT
DTSTART:20240310T070000
END:DAYLIGHT
BEGIN:STANDARD
TZOFFSETFROM:-0400
TZOFFSETTO:-0500
TZNAME:EST
DTSTART:20241103T060000
END:STANDARD
BEGIN:DAYLIGHT
TZOFFSETFROM:-0500
TZOFFSETTO:-0400
TZNAME:EDT
DTSTART:20250309T070000
END:DAYLIGHT
BEGIN:STANDARD
TZOFFSETFROM:-0400
TZOFFSETTO:-0500
TZNAME:EST
DTSTART:20251102T060000
END:STANDARD
BEGIN:DAYLIGHT
TZOFFSETFROM:-0500
TZOFFSETTO:-0400
TZNAME:EDT
DTSTART:20260308T070000
END:DAYLIGHT
BEGIN:STANDARD
TZOFFSETFROM:-0400
TZOFFSETTO:-0500
TZNAME:EST
DTSTART:20261101T060000
END:STANDARD
BEGIN:DAYLIGHT
TZOFFSETFROM:-0500
TZOFFSETTO:-0400
TZNAME:EDT
DTSTART:20270314T070000
END:DAYLIGHT
BEGIN:STANDARD
TZOFFSETFROM:-0400
TZOFFSETTO:-0500
TZNAME:EST
DTSTART:20271107T060000
END:STANDARD
END:VTIMEZONE
BEGIN:VEVENT
DTSTART;TZID=America/New_York:20250411T000000
DTEND;TZID=America/New_York:20260516T000000
DTSTAMP:20260421T233659
CREATED:20250331T135051Z
LAST-MODIFIED:20250331T135051Z
UID:106250-1744329600-1778889600@downtownny.com
SUMMARY:The Golden Thread: New Adventures in Textile Art by Christian Viveros-Fauné
DESCRIPTION:Fiber art exhibition with multiple artists.
URL:https://downtownny.com/event/the-golden-thread-new-adventures-in-textile-art-by-christian-viveros-faune/
CATEGORIES:Arts & Culture
END:VEVENT
BEGIN:VEVENT
DTSTART;TZID=America/New_York:20260421T180000
DTEND;TZID=America/New_York:20260421T180000
DTSTAMP:20260421T233659
CREATED:20260331T174752Z
LAST-MODIFIED:20260331T174752Z
UID:136440-1776794400-1776794400@downtownny.com
SUMMARY:To the End of Reckoning
DESCRIPTION:Book reading and signing by author Joseph Moldover.
URL:https://downtownny.com/event/to-the-end-of-reckoning/
CATEGORIES:Arts & Culture
END:VEVENT
BEGIN:VEVENT
DTSTART;TZID=America/New_York:20260421T180000
DTEND;TZID=America/New_York:20260421T180000
DTSTAMP:20260421T233659
CREATED:20260331T174753Z
LAST-MODIFIED:20260331T174753Z
UID:136441-1776794400-1776794400@downtownny.com
SUMMARY:Alex Leonardi Organ Recital
DESCRIPTION:Trinity Church’s acclaimed organ scholar brings virtuosity and innovation to the console in a recital that showcases the full expressive power of Trinity’s new pipe organ. The free recital includes a wide variety of music\, ranging from masterworks to underrepresented gems\, and the premiere of a new work composed by the performer\, a master’s student at The Julliard School. Leonardi’s artistry invites listeners into a sound world where tradition and imagination meet\, revealing the organ as both a monumental and deeply expressive instrument.
URL:https://downtownny.com/event/alex-leonardi-organ-recital/
LOCATION:Trinity Church
CATEGORIES:Arts & Culture
END:VEVENT
BEGIN:VEVENT
DTSTART;TZID=America/New_York:20260421T180000
DTEND;TZID=America/New_York:20260421T180000
DTSTAMP:20260421T233659
CREATED:20260331T174952Z
LAST-MODIFIED:20260331T174952Z
UID:136442-1776794400-1776794400@downtownny.com
SUMMARY:25 Years Later: Extremism on Digital Frontlines
DESCRIPTION:Former FBI Deputy Director Paul Abbate\, Polarization & Extremism Research & Innovation Lab Director of Research Michael Jensen\, and NYPD Intelligence & Counterterrorism Bureau Deputy Commissioner Rebecca Weiner join 9/11 Memorial & Museum President & CEO Beth Hillman to discuss how social media\, AI\, and emerging technologies have amplified extremism and are reshaping today’s threat landscape.
URL:https://downtownny.com/event/25-years-later-extremism-on-digital-frontlines/
LOCATION:9/11 Museum
CATEGORIES:Arts & Culture
END:VEVENT
END:VCALENDAR