BEGIN:VCALENDAR
VERSION:2.0
PRODID:-//Downtown Alliance - ECPv6.15.20//NONSGML v1.0//EN
CALSCALE:GREGORIAN
METHOD:PUBLISH
X-WR-CALNAME:Downtown Alliance
X-ORIGINAL-URL:https://downtownny.com
X-WR-CALDESC:Events for Downtown Alliance
REFRESH-INTERVAL;VALUE=DURATION:PT1H
X-Robots-Tag:noindex
X-PUBLISHED-TTL:PT1H
BEGIN:VTIMEZONE
TZID:America/New_York
BEGIN:DAYLIGHT
TZOFFSETFROM:-0500
TZOFFSETTO:-0400
TZNAME:EDT
DTSTART:20250309T070000
END:DAYLIGHT
BEGIN:STANDARD
TZOFFSETFROM:-0400
TZOFFSETTO:-0500
TZNAME:EST
DTSTART:20251102T060000
END:STANDARD
BEGIN:DAYLIGHT
TZOFFSETFROM:-0500
TZOFFSETTO:-0400
TZNAME:EDT
DTSTART:20260308T070000
END:DAYLIGHT
BEGIN:STANDARD
TZOFFSETFROM:-0400
TZOFFSETTO:-0500
TZNAME:EST
DTSTART:20261101T060000
END:STANDARD
BEGIN:DAYLIGHT
TZOFFSETFROM:-0500
TZOFFSETTO:-0400
TZNAME:EDT
DTSTART:20270314T070000
END:DAYLIGHT
BEGIN:STANDARD
TZOFFSETFROM:-0400
TZOFFSETTO:-0500
TZNAME:EST
DTSTART:20271107T060000
END:STANDARD
END:VTIMEZONE
BEGIN:VEVENT
DTSTART;TZID=America/New_York:20260201T130000
DTEND;TZID=America/New_York:20260201T150000
DTSTAMP:20260421T181036
CREATED:20260129T160653Z
LAST-MODIFIED:20260129T160653Z
UID:119828-1769950800-1769958000@downtownny.com
SUMMARY:Battery Park City Art Exhibition Opening Day
DESCRIPTION:See the work created by participants at BPCA’s art programs. Meet fellow artists and the artists/educators who lead these programs\, and learn about upcoming art events in Battery Park City. Refreshments will be served.
URL:https://downtownny.com/event/battery-park-city-art-exhibition-opening-day/
CATEGORIES:Community
END:VEVENT
BEGIN:VEVENT
DTSTART;TZID=America/New_York:20260203T140000
DTEND;TZID=America/New_York:20260203T160000
DTSTAMP:20260421T181036
CREATED:20260129T160658Z
LAST-MODIFIED:20260129T160658Z
UID:119834-1770127200-1770134400@downtownny.com
SUMMARY:Mah Jongg & More
DESCRIPTION:Join a dedicated group of adult American Mah Jongg enthusiasts for friendly and informal games\, or try your hand at other card and board games. Make friends and catch up with neighbors. Sets\, cards\, and games provided\, or bring your own.
URL:https://downtownny.com/event/mah-jongg-more-118/
CATEGORIES:Community
END:VEVENT
BEGIN:VEVENT
DTSTART;TZID=America/New_York:20260204T140000
DTEND;TZID=America/New_York:20260204T160000
DTSTAMP:20260421T181036
CREATED:20260129T160659Z
LAST-MODIFIED:20260129T160659Z
UID:119837-1770213600-1770220800@downtownny.com
SUMMARY:Figure Drawing
DESCRIPTION:Challenge your artistic skills by drawing the human figure. Each week a model will strike short and long poses for participants to draw. Artists/ educators will offer constructive suggestions and critique. Materials provided\, and artists are encouraged to bring their own favorite media. Free program\, space is limited\, registration required.
URL:https://downtownny.com/event/figure-drawing-25/
CATEGORIES:Community
END:VEVENT
BEGIN:VEVENT
DTSTART;TZID=America/New_York:20260205T100000
DTEND;TZID=America/New_York:20260205T120000
DTSTAMP:20260421T181036
CREATED:20260129T160800Z
LAST-MODIFIED:20260129T160800Z
UID:119841-1770285600-1770292800@downtownny.com
SUMMARY:Mah Jongg Lessons
DESCRIPTION:Learn the rules and mechanics of American Mah-Jongg. Join a two hour group lesson with instructor Susan Richards. Sets and a few cards provided\, but you are encouraged to bring your own card. Registration required. For information and registration please email: registration@bpca.ny.gov.
URL:https://downtownny.com/event/mah-jongg-lessons-8/
CATEGORIES:Community
END:VEVENT
BEGIN:VEVENT
DTSTART;TZID=America/New_York:20260205T130000
DTEND;TZID=America/New_York:20260205T150000
DTSTAMP:20260421T181036
CREATED:20260129T160801Z
LAST-MODIFIED:20260129T160801Z
UID:119842-1770296400-1770303600@downtownny.com
SUMMARY:Fiber Art Crafts Studio
DESCRIPTION:Join this group of fiber art crafters for a fun afternoon of creativity and camaraderie. Bring your projects\, which can include—but are not limited to—knitting\, crocheting\, embroidery and small-loom weaving.
URL:https://downtownny.com/event/fiber-art-crafts-studio-33/
CATEGORIES:Community
END:VEVENT
BEGIN:VEVENT
DTSTART;TZID=America/New_York:20260206T170000
DTEND;TZID=America/New_York:20260206T190000
DTSTAMP:20260421T181036
CREATED:20260129T160959Z
LAST-MODIFIED:20260129T160959Z
UID:119846-1770397200-1770404400@downtownny.com
SUMMARY:Mah Jongg & More
DESCRIPTION:Join a dedicated group of adult American Mah Jongg enthusiasts for friendly and informal games\, or try your hand at other card and board games. Make friends and catch up with neighbors. Sets\, cards\, and games provided\, or bring your own.
URL:https://downtownny.com/event/mah-jongg-more-119/
CATEGORIES:Community
END:VEVENT
BEGIN:VEVENT
DTSTART;TZID=America/New_York:20260208T103000
DTEND;TZID=America/New_York:20260208T120000
DTSTAMP:20260421T181036
CREATED:20260129T161227Z
LAST-MODIFIED:20260129T161227Z
UID:119853-1770546600-1770552000@downtownny.com
SUMMARY:Valentine Making Workshop
DESCRIPTION:Take part in this time-honored annual Battery Park City tradition\, where participants are invited to make handmade cards for their loved ones! Cut\, paste\, and decorate with provided materials and don’t forget to seal it with a kiss! Art projects are designed for ages 4 and up.
URL:https://downtownny.com/event/valentine-making-workshop-4/
CATEGORIES:Community
END:VEVENT
BEGIN:VEVENT
DTSTART;TZID=America/New_York:20260210T140000
DTEND;TZID=America/New_York:20260210T160000
DTSTAMP:20260421T181036
CREATED:20260129T161428Z
LAST-MODIFIED:20260129T161428Z
UID:119860-1770732000-1770739200@downtownny.com
SUMMARY:Mah Jongg & More
DESCRIPTION:Join a dedicated group of adult American Mah Jongg enthusiasts for friendly and informal games\, or try your hand at other card and board games. Make friends and catch up with neighbors. Sets\, cards\, and games provided\, or bring your own.
URL:https://downtownny.com/event/mah-jongg-more-120/
CATEGORIES:Community
END:VEVENT
BEGIN:VEVENT
DTSTART;TZID=America/New_York:20260211T140000
DTEND;TZID=America/New_York:20260211T160000
DTSTAMP:20260421T181036
CREATED:20260129T161628Z
LAST-MODIFIED:20260129T161628Z
UID:119866-1770818400-1770825600@downtownny.com
SUMMARY:Figure Drawing
DESCRIPTION:Challenge your artistic skills by drawing the human figure. Each week a model will strike short and long poses for participants to draw. Artists/ educators will offer constructive suggestions and critique. Materials provided\, and artists are encouraged to bring their own favorite media. Free program\, space is limited\, registration required.
URL:https://downtownny.com/event/figure-drawing-26/
CATEGORIES:Community
END:VEVENT
BEGIN:VEVENT
DTSTART;TZID=America/New_York:20260212T100000
DTEND;TZID=America/New_York:20260212T120000
DTSTAMP:20260421T181036
CREATED:20260129T161827Z
LAST-MODIFIED:20260129T161827Z
UID:119869-1770890400-1770897600@downtownny.com
SUMMARY:Mah Jongg Lessons
DESCRIPTION:Learn the rules and mechanics of American Mah-Jongg. Join a two hour group lesson with instructor Susan Richards. Sets and a few cards provided\, but you are encouraged to bring your own card. Registration required. For information and registration please email: registration@bpca.ny.gov.
URL:https://downtownny.com/event/mah-jongg-lessons-9/
CATEGORIES:Community
END:VEVENT
BEGIN:VEVENT
DTSTART;TZID=America/New_York:20260212T130000
DTEND;TZID=America/New_York:20260212T150000
DTSTAMP:20260421T181036
CREATED:20260129T161828Z
LAST-MODIFIED:20260129T161828Z
UID:119870-1770901200-1770908400@downtownny.com
SUMMARY:Fiber Art Crafts Studio
DESCRIPTION:Join this group of fiber art crafters for a fun afternoon of creativity and camaraderie. Bring your projects\, which can include—but are not limited to—knitting\, crocheting\, embroidery and small-loom weaving.
URL:https://downtownny.com/event/fiber-art-crafts-studio-34/
CATEGORIES:Community
END:VEVENT
BEGIN:VEVENT
DTSTART;TZID=America/New_York:20260217T140000
DTEND;TZID=America/New_York:20260217T160000
DTSTAMP:20260421T181036
CREATED:20260129T164757Z
LAST-MODIFIED:20260129T164757Z
UID:119879-1771336800-1771344000@downtownny.com
SUMMARY:Mah Jongg & More
DESCRIPTION:Join a dedicated group of adult American Mah Jongg enthusiasts for friendly and informal games\, or try your hand at other card and board games. Make friends and catch up with neighbors. Sets\, cards\, and games provided\, or bring your own.
URL:https://downtownny.com/event/mah-jongg-more-121/
CATEGORIES:Community
END:VEVENT
BEGIN:VEVENT
DTSTART;TZID=America/New_York:20260218T140000
DTEND;TZID=America/New_York:20260218T160000
DTSTAMP:20260421T181036
CREATED:20260129T164757Z
LAST-MODIFIED:20260129T164757Z
UID:119881-1771423200-1771430400@downtownny.com
SUMMARY:Figure Drawing
DESCRIPTION:Challenge your artistic skills by drawing the human figure. Each week a model will strike short and long poses for participants to draw. Artists/ educators will offer constructive suggestions and critique. Materials provided\, and artists are encouraged to bring their own favorite media. Free program\, space is limited\, registration required.
URL:https://downtownny.com/event/figure-drawing-27/
CATEGORIES:Community
END:VEVENT
BEGIN:VEVENT
DTSTART;TZID=America/New_York:20260219T130000
DTEND;TZID=America/New_York:20260219T150000
DTSTAMP:20260421T181036
CREATED:20260129T164857Z
LAST-MODIFIED:20260129T164857Z
UID:119883-1771506000-1771513200@downtownny.com
SUMMARY:Fiber Art Crafts Studio
DESCRIPTION:Join this group of fiber art crafters for a fun afternoon of creativity and camaraderie. Bring your projects\, which can include—but are not limited to—knitting\, crocheting\, embroidery and small-loom weaving.
URL:https://downtownny.com/event/fiber-art-crafts-studio-35/
CATEGORIES:Community
END:VEVENT
BEGIN:VEVENT
DTSTART;TZID=America/New_York:20260219T183000
DTEND;TZID=America/New_York:20260219T203000
DTSTAMP:20260421T181036
CREATED:20260129T164858Z
LAST-MODIFIED:20260129T164858Z
UID:119885-1771525800-1771533000@downtownny.com
SUMMARY:Immigrant Stories Film Series: Pressure
DESCRIPTION:Immigrant Stories is a collection of films that illustrate the immigrant experience as it progresses along the generations. Free popcorn will be served\, and a discussion will follow the screenings. Pressure (Horace Ové\,1976\, 136 minutes) is a film about Tony\, a second-generation British-born Black teenager of Trinidadian descent\, who struggles to find his place in 1970s London. Caught between his parents’ desire for assimilation and his brother’s Black Power activism\, his growing frustration with institutional racism and unemployment leads him towards radicalization\, exploring the identity crisis of a generation caught between two cultures. Pressure was the first British feature to be written and directed by a Black filmmaker and the first to focus on the perspective of Black characters. The Guardian said\, “Pressure is vigorous and rough-hewn and Ové lays down the broad brushstrokes with compulsive energy. It has the punchy quality of a 21st-century graphic novel\, eagerly tackling Black Power and social realism\, mixing comedy\, tragedy and irony.”
URL:https://downtownny.com/event/immigrant-stories-film-series-pressure/
CATEGORIES:Community
END:VEVENT
BEGIN:VEVENT
DTSTART;TZID=America/New_York:20260220T170000
DTEND;TZID=America/New_York:20260220T190000
DTSTAMP:20260421T181036
CREATED:20260129T164859Z
LAST-MODIFIED:20260129T164859Z
UID:119887-1771606800-1771614000@downtownny.com
SUMMARY:Mah Jongg & More
DESCRIPTION:Join a dedicated group of adult American Mah Jongg enthusiasts for friendly and informal games\, or try your hand at other card and board games. Make friends and catch up with neighbors. Sets\, cards\, and games provided\, or bring your own.
URL:https://downtownny.com/event/mah-jongg-more-122/
CATEGORIES:Community
END:VEVENT
BEGIN:VEVENT
DTSTART;TZID=America/New_York:20260224T130000
DTEND;TZID=America/New_York:20260224T140000
DTSTAMP:20260421T181036
CREATED:20260129T165300Z
LAST-MODIFIED:20260129T165300Z
UID:119896-1771938000-1771941600@downtownny.com
SUMMARY:BPC Book Club
DESCRIPTION:Join fellow readers for lively discussion and thoughtful socializing. Today’s discussion will be about Colored Television by Danzy Senna.
URL:https://downtownny.com/event/bpc-book-club-19/
CATEGORIES:Community
END:VEVENT
BEGIN:VEVENT
DTSTART;TZID=America/New_York:20260224T140000
DTEND;TZID=America/New_York:20260224T160000
DTSTAMP:20260421T181036
CREATED:20260129T165301Z
LAST-MODIFIED:20260129T165301Z
UID:119897-1771941600-1771948800@downtownny.com
SUMMARY:Mah Jongg & More
DESCRIPTION:Join a dedicated group of adult American Mah Jongg enthusiasts for friendly and informal games\, or try your hand at other card and board games. Make friends and catch up with neighbors. Sets\, cards\, and games provided\, or bring your own.
URL:https://downtownny.com/event/mah-jongg-more-123/
CATEGORIES:Community
END:VEVENT
BEGIN:VEVENT
DTSTART;TZID=America/New_York:20260225T140000
DTEND;TZID=America/New_York:20260225T160000
DTSTAMP:20260421T181036
CREATED:20260129T165502Z
LAST-MODIFIED:20260129T165502Z
UID:119901-1772028000-1772035200@downtownny.com
SUMMARY:Figure Drawing
DESCRIPTION:Challenge your artistic skills by drawing the human figure. Each week a model will strike short and long poses for participants to draw. Artists/ educators will offer constructive suggestions and critique. Materials provided\, and artists are encouraged to bring their own favorite media. Free program\, space is limited\, registration required.
URL:https://downtownny.com/event/figure-drawing-28/
CATEGORIES:Community
END:VEVENT
BEGIN:VEVENT
DTSTART;TZID=America/New_York:20260226T130000
DTEND;TZID=America/New_York:20260226T150000
DTSTAMP:20260421T181036
CREATED:20260129T165701Z
LAST-MODIFIED:20260129T165701Z
UID:119903-1772110800-1772118000@downtownny.com
SUMMARY:Fiber Art Crafts Studio
DESCRIPTION:Join this group of fiber art crafters for a fun afternoon of creativity and camaraderie. Bring your projects\, which can include—but are not limited to—knitting\, crocheting\, embroidery and small-loom weaving.
URL:https://downtownny.com/event/fiber-art-crafts-studio-36/
CATEGORIES:Community
END:VEVENT
BEGIN:VEVENT
DTSTART;TZID=America/New_York:20260226T193000
DTEND;TZID=America/New_York:20260226T210000
DTSTAMP:20260421T181036
CREATED:20260129T165701Z
LAST-MODIFIED:20260129T165701Z
UID:119904-1772134200-1772139600@downtownny.com
SUMMARY:NY Laughs
DESCRIPTION:Stand-up comedy. Some content may not be appropriate for young children. Recommended for teens and adults.
URL:https://downtownny.com/event/ny-laughs-4/
CATEGORIES:Community
END:VEVENT
BEGIN:VEVENT
DTSTART;TZID=America/New_York:20260227T170000
DTEND;TZID=America/New_York:20260227T190000
DTSTAMP:20260421T181036
CREATED:20260129T165702Z
LAST-MODIFIED:20260129T165702Z
UID:119905-1772211600-1772218800@downtownny.com
SUMMARY:Mah Jongg & More
DESCRIPTION:Join a dedicated group of adult American Mah Jongg enthusiasts for friendly and informal games\, or try your hand at other card and board games. Make friends and catch up with neighbors. Sets\, cards\, and games provided\, or bring your own.
URL:https://downtownny.com/event/mah-jongg-more-124/
CATEGORIES:Community
END:VEVENT
END:VCALENDAR