BEGIN:VCALENDAR
VERSION:2.0
PRODID:-//Downtown Alliance - ECPv6.15.20//NONSGML v1.0//EN
CALSCALE:GREGORIAN
METHOD:PUBLISH
X-ORIGINAL-URL:https://downtownny.com
X-WR-CALDESC:Events for Downtown Alliance
REFRESH-INTERVAL;VALUE=DURATION:PT1H
X-Robots-Tag:noindex
X-PUBLISHED-TTL:PT1H
BEGIN:VTIMEZONE
TZID:America/New_York
BEGIN:DAYLIGHT
TZOFFSETFROM:-0500
TZOFFSETTO:-0400
TZNAME:EDT
DTSTART:20230312T070000
END:DAYLIGHT
BEGIN:STANDARD
TZOFFSETFROM:-0400
TZOFFSETTO:-0500
TZNAME:EST
DTSTART:20231105T060000
END:STANDARD
BEGIN:DAYLIGHT
TZOFFSETFROM:-0500
TZOFFSETTO:-0400
TZNAME:EDT
DTSTART:20240310T070000
END:DAYLIGHT
BEGIN:STANDARD
TZOFFSETFROM:-0400
TZOFFSETTO:-0500
TZNAME:EST
DTSTART:20241103T060000
END:STANDARD
BEGIN:DAYLIGHT
TZOFFSETFROM:-0500
TZOFFSETTO:-0400
TZNAME:EDT
DTSTART:20250309T070000
END:DAYLIGHT
BEGIN:STANDARD
TZOFFSETFROM:-0400
TZOFFSETTO:-0500
TZNAME:EST
DTSTART:20251102T060000
END:STANDARD
END:VTIMEZONE
BEGIN:VEVENT
DTSTART;TZID=America/New_York:20241112T180000
DTEND;TZID=America/New_York:20241122T190000
DTSTAMP:20260422T090842
CREATED:20241031T170133Z
LAST-MODIFIED:20241031T170133Z
UID:102108-1731434400-1732302000@downtownny.com
SUMMARY:Holiday Chef Talk:Institute of Culinary Education
DESCRIPTION:Institute of Culinary Education Pastry & Baking Arts chef-instructor Kierin Baldwin is returning this year to share ideas to elevate your holiday cookies. She’ll demonstrate a few base recipes and provide tips for how to easily create variations using each dough.
URL:https://downtownny.com/event/holiday-chef-talkinstitute-of-culinary-education/
CATEGORIES:Community
END:VEVENT
BEGIN:VEVENT
DTSTART;TZID=America/New_York:20241114T110000
DTEND;TZID=America/New_York:20241114T120000
DTSTAMP:20260422T090842
CREATED:20241031T170335Z
LAST-MODIFIED:20241031T170335Z
UID:102115-1731582000-1731585600@downtownny.com
SUMMARY:Meet Me in the Kitchen: Making Healthy Choices
DESCRIPTION:Nutritionist Lauren C. Kelly offers creative twists on classic recipes\, food prep and cooking trends. From appetizers\, to entrees\, to dessert\, learn how to design menus using helpful tips and current research findings for better health and eating. Registration required.
URL:https://downtownny.com/event/meet-me-in-the-kitchen-making-healthy-choices-13/
LOCATION:Asphalt Green
CATEGORIES:Community
END:VEVENT
BEGIN:VEVENT
DTSTART;TZID=America/New_York:20241114T130000
DTEND;TZID=America/New_York:20241114T150000
DTSTAMP:20260422T090842
CREATED:20241031T170336Z
LAST-MODIFIED:20241031T170336Z
UID:102116-1731589200-1731596400@downtownny.com
SUMMARY:Craft Studio
DESCRIPTION:Our open ‘studio’ craft sessions are a great opportunity for seniors to be creative\, learn new skills\, and socialize with others through group activities and individual projects.
URL:https://downtownny.com/event/craft-studio-23/
CATEGORIES:Community
END:VEVENT
BEGIN:VEVENT
DTSTART;TZID=America/New_York:20241114T183000
DTEND;TZID=America/New_York:20241114T203000
DTSTAMP:20260422T090842
CREATED:20241031T170536Z
LAST-MODIFIED:20241031T170536Z
UID:102119-1731609000-1731616200@downtownny.com
SUMMARY:Noirvember Movie Night: Too Late for Tears
DESCRIPTION:Each November\, movie fans celebrate the hallmark antiheroes\, femme fatales\, moral complexities\, and the stunning black & white cinematography of film noir. Free popcorn will be served\, and a discussion will follow each screening. Tonight\, see Don’t Bother to Knock (1949) When a woman stumbles upon a suitcase filled with $60\,000 of stolen money\, her greed drives her to keep the cash by any means necessary.
URL:https://downtownny.com/event/noirvember-movie-night-too-late-for-tears/
CATEGORIES:Community
END:VEVENT
END:VCALENDAR