BEGIN:VCALENDAR
VERSION:2.0
PRODID:-//Downtown Alliance - ECPv6.15.20//NONSGML v1.0//EN
CALSCALE:GREGORIAN
METHOD:PUBLISH
X-WR-CALNAME:Downtown Alliance
X-ORIGINAL-URL:https://downtownny.com
X-WR-CALDESC:Events for Downtown Alliance
REFRESH-INTERVAL;VALUE=DURATION:PT1H
X-Robots-Tag:noindex
X-PUBLISHED-TTL:PT1H
BEGIN:VTIMEZONE
TZID:America/New_York
BEGIN:DAYLIGHT
TZOFFSETFROM:-0500
TZOFFSETTO:-0400
TZNAME:EDT
DTSTART:20230312T070000
END:DAYLIGHT
BEGIN:STANDARD
TZOFFSETFROM:-0400
TZOFFSETTO:-0500
TZNAME:EST
DTSTART:20231105T060000
END:STANDARD
BEGIN:DAYLIGHT
TZOFFSETFROM:-0500
TZOFFSETTO:-0400
TZNAME:EDT
DTSTART:20240310T070000
END:DAYLIGHT
BEGIN:STANDARD
TZOFFSETFROM:-0400
TZOFFSETTO:-0500
TZNAME:EST
DTSTART:20241103T060000
END:STANDARD
BEGIN:DAYLIGHT
TZOFFSETFROM:-0500
TZOFFSETTO:-0400
TZNAME:EDT
DTSTART:20250309T070000
END:DAYLIGHT
BEGIN:STANDARD
TZOFFSETFROM:-0400
TZOFFSETTO:-0500
TZNAME:EST
DTSTART:20251102T060000
END:STANDARD
END:VTIMEZONE
BEGIN:VEVENT
DTSTART;TZID=America/New_York:20241112T180000
DTEND;TZID=America/New_York:20241122T190000
DTSTAMP:20260424T041202
CREATED:20241031T170133Z
LAST-MODIFIED:20241031T170133Z
UID:102108-1731434400-1732302000@downtownny.com
SUMMARY:Holiday Chef Talk:Institute of Culinary Education
DESCRIPTION:Institute of Culinary Education Pastry & Baking Arts chef-instructor Kierin Baldwin is returning this year to share ideas to elevate your holiday cookies. She’ll demonstrate a few base recipes and provide tips for how to easily create variations using each dough.
URL:https://downtownny.com/event/holiday-chef-talkinstitute-of-culinary-education/
CATEGORIES:Community
END:VEVENT
BEGIN:VEVENT
DTSTART;TZID=America/New_York:20241121T130000
DTEND;TZID=America/New_York:20241121T150000
DTSTAMP:20260424T041202
CREATED:20241031T171541Z
LAST-MODIFIED:20241031T171541Z
UID:102148-1732194000-1732201200@downtownny.com
SUMMARY:Craft Studio
DESCRIPTION:Our open ‘studio’ craft sessions are a great opportunity for seniors to be creative\, learn new skills\, and socialize with others through group activities and individual projects.
URL:https://downtownny.com/event/craft-studio-24/
CATEGORIES:Community
END:VEVENT
BEGIN:VEVENT
DTSTART;TZID=America/New_York:20241121T183000
DTEND;TZID=America/New_York:20241121T203000
DTSTAMP:20260424T041202
CREATED:20241031T171542Z
LAST-MODIFIED:20241031T171542Z
UID:102150-1732213800-1732221000@downtownny.com
SUMMARY:Noirvember Movie Night: The Naked Kiss
DESCRIPTION:Each November\, movie fans celebrate the hallmark antiheroes\, femme fatales\, moral complexities\, and the stunning black & white cinematography of film noir. Free popcorn will be served\, and a discussion will follow each screening. Tonight\, see Don’t Bother to Knock (1964) A former prostitute relocates to a buttoned-down suburb\, determined to fit in with mainstream society. But perverse secrets simmer beneath the wholesome surface of the town.
URL:https://downtownny.com/event/noirvember-movie-night-the-naked-kiss/
CATEGORIES:Community
END:VEVENT
END:VCALENDAR