BEGIN:VCALENDAR
VERSION:2.0
PRODID:-//Downtown Alliance - ECPv6.15.20//NONSGML v1.0//EN
CALSCALE:GREGORIAN
METHOD:PUBLISH
X-ORIGINAL-URL:https://downtownny.com
X-WR-CALDESC:Events for Downtown Alliance
REFRESH-INTERVAL;VALUE=DURATION:PT1H
X-Robots-Tag:noindex
X-PUBLISHED-TTL:PT1H
BEGIN:VTIMEZONE
TZID:America/New_York
BEGIN:DAYLIGHT
TZOFFSETFROM:-0500
TZOFFSETTO:-0400
TZNAME:EDT
DTSTART:20240310T070000
END:DAYLIGHT
BEGIN:STANDARD
TZOFFSETFROM:-0400
TZOFFSETTO:-0500
TZNAME:EST
DTSTART:20241103T060000
END:STANDARD
BEGIN:DAYLIGHT
TZOFFSETFROM:-0500
TZOFFSETTO:-0400
TZNAME:EDT
DTSTART:20250309T070000
END:DAYLIGHT
BEGIN:STANDARD
TZOFFSETFROM:-0400
TZOFFSETTO:-0500
TZNAME:EST
DTSTART:20251102T060000
END:STANDARD
BEGIN:DAYLIGHT
TZOFFSETFROM:-0500
TZOFFSETTO:-0400
TZNAME:EDT
DTSTART:20260308T070000
END:DAYLIGHT
BEGIN:STANDARD
TZOFFSETFROM:-0400
TZOFFSETTO:-0500
TZNAME:EST
DTSTART:20261101T060000
END:STANDARD
END:VTIMEZONE
BEGIN:VEVENT
DTSTART;TZID=America/New_York:20250323T120000
DTEND;TZID=America/New_York:20250323T170000
DTSTAMP:20260423T200219
CREATED:20250305T200904Z
LAST-MODIFIED:20250305T200904Z
UID:105581-1742731200-1742749200@downtownny.com
SUMMARY:Spring Equinox Festival at the Museum of Jewish Heritage
DESCRIPTION:Join the Museum of Jewish Heritage for a celebration of Persian heritage and culture during Nowruz! This day-long festival will feature: children’s activities to learn about Nowruz; a Persian dance performance and dance party; authentic Persian food at our Persian Tea House; Backgammon lessons with the US Backgammon Federation; and music by Abram Pengas and the Nova Group. Museum admission will be free all day.
URL:https://downtownny.com/event/spring-equinox-festival-at-the-museum-of-jewish-heritage/
LOCATION:Museum of Jewish Heritage
CATEGORIES:Community,Concert.,dance,history
ATTACH;FMTTYPE=image/jpeg:https://downtownny.com/wp-content/uploads/2025/03/Nowruz-Square-1080x1080-2-1-scaled.jpg
END:VEVENT
END:VCALENDAR