BEGIN:VCALENDAR
VERSION:2.0
PRODID:-//Downtown Alliance - ECPv6.15.20//NONSGML v1.0//EN
CALSCALE:GREGORIAN
METHOD:PUBLISH
X-WR-CALNAME:Downtown Alliance
X-ORIGINAL-URL:https://downtownny.com
X-WR-CALDESC:Events for Downtown Alliance
REFRESH-INTERVAL;VALUE=DURATION:PT1H
X-Robots-Tag:noindex
X-PUBLISHED-TTL:PT1H
BEGIN:VTIMEZONE
TZID:America/New_York
BEGIN:DAYLIGHT
TZOFFSETFROM:-0500
TZOFFSETTO:-0400
TZNAME:EDT
DTSTART:20250309T070000
END:DAYLIGHT
BEGIN:STANDARD
TZOFFSETFROM:-0400
TZOFFSETTO:-0500
TZNAME:EST
DTSTART:20251102T060000
END:STANDARD
BEGIN:DAYLIGHT
TZOFFSETFROM:-0500
TZOFFSETTO:-0400
TZNAME:EDT
DTSTART:20260308T070000
END:DAYLIGHT
BEGIN:STANDARD
TZOFFSETFROM:-0400
TZOFFSETTO:-0500
TZNAME:EST
DTSTART:20261101T060000
END:STANDARD
BEGIN:DAYLIGHT
TZOFFSETFROM:-0500
TZOFFSETTO:-0400
TZNAME:EDT
DTSTART:20270314T070000
END:DAYLIGHT
BEGIN:STANDARD
TZOFFSETFROM:-0400
TZOFFSETTO:-0500
TZNAME:EST
DTSTART:20271107T060000
END:STANDARD
END:VTIMEZONE
BEGIN:VEVENT
DTSTART;TZID=America/New_York:20260219T130000
DTEND;TZID=America/New_York:20260219T150000
DTSTAMP:20260421T170115
CREATED:20260129T164857Z
LAST-MODIFIED:20260129T164857Z
UID:119883-1771506000-1771513200@downtownny.com
SUMMARY:Fiber Art Crafts Studio
DESCRIPTION:Join this group of fiber art crafters for a fun afternoon of creativity and camaraderie. Bring your projects\, which can include—but are not limited to—knitting\, crocheting\, embroidery and small-loom weaving.
URL:https://downtownny.com/event/fiber-art-crafts-studio-35/
CATEGORIES:Community
END:VEVENT
BEGIN:VEVENT
DTSTART;TZID=America/New_York:20260219T183000
DTEND;TZID=America/New_York:20260219T203000
DTSTAMP:20260421T170115
CREATED:20260129T164858Z
LAST-MODIFIED:20260129T164858Z
UID:119885-1771525800-1771533000@downtownny.com
SUMMARY:Immigrant Stories Film Series: Pressure
DESCRIPTION:Immigrant Stories is a collection of films that illustrate the immigrant experience as it progresses along the generations. Free popcorn will be served\, and a discussion will follow the screenings. Pressure (Horace Ové\,1976\, 136 minutes) is a film about Tony\, a second-generation British-born Black teenager of Trinidadian descent\, who struggles to find his place in 1970s London. Caught between his parents’ desire for assimilation and his brother’s Black Power activism\, his growing frustration with institutional racism and unemployment leads him towards radicalization\, exploring the identity crisis of a generation caught between two cultures. Pressure was the first British feature to be written and directed by a Black filmmaker and the first to focus on the perspective of Black characters. The Guardian said\, “Pressure is vigorous and rough-hewn and Ové lays down the broad brushstrokes with compulsive energy. It has the punchy quality of a 21st-century graphic novel\, eagerly tackling Black Power and social realism\, mixing comedy\, tragedy and irony.”
URL:https://downtownny.com/event/immigrant-stories-film-series-pressure/
CATEGORIES:Community
END:VEVENT
END:VCALENDAR