BEGIN:VCALENDAR
VERSION:2.0
PRODID:-//Downtown Alliance - ECPv6.15.20//NONSGML v1.0//EN
CALSCALE:GREGORIAN
METHOD:PUBLISH
X-ORIGINAL-URL:https://downtownny.com
X-WR-CALDESC:Events for Downtown Alliance
REFRESH-INTERVAL;VALUE=DURATION:PT1H
X-Robots-Tag:noindex
X-PUBLISHED-TTL:PT1H
BEGIN:VTIMEZONE
TZID:America/New_York
BEGIN:DAYLIGHT
TZOFFSETFROM:-0500
TZOFFSETTO:-0400
TZNAME:EDT
DTSTART:20250309T070000
END:DAYLIGHT
BEGIN:STANDARD
TZOFFSETFROM:-0400
TZOFFSETTO:-0500
TZNAME:EST
DTSTART:20251102T060000
END:STANDARD
BEGIN:DAYLIGHT
TZOFFSETFROM:-0500
TZOFFSETTO:-0400
TZNAME:EDT
DTSTART:20260308T070000
END:DAYLIGHT
BEGIN:STANDARD
TZOFFSETFROM:-0400
TZOFFSETTO:-0500
TZNAME:EST
DTSTART:20261101T060000
END:STANDARD
BEGIN:DAYLIGHT
TZOFFSETFROM:-0500
TZOFFSETTO:-0400
TZNAME:EDT
DTSTART:20270314T070000
END:DAYLIGHT
BEGIN:STANDARD
TZOFFSETFROM:-0400
TZOFFSETTO:-0500
TZNAME:EST
DTSTART:20271107T060000
END:STANDARD
END:VTIMEZONE
BEGIN:VEVENT
DTSTART;TZID=America/New_York:20260402T100000
DTEND;TZID=America/New_York:20260402T120000
DTSTAMP:20260421T014105
CREATED:20260331T172335Z
LAST-MODIFIED:20260331T172335Z
UID:136371-1775124000-1775131200@downtownny.com
SUMMARY:Mah Jongg Lessons
DESCRIPTION:Learn the rules and mechanics of American Mah-Jongg.
URL:https://downtownny.com/event/mah-jongg-lessons-10/
CATEGORIES:Community
END:VEVENT
BEGIN:VEVENT
DTSTART;TZID=America/New_York:20260402T130000
DTEND;TZID=America/New_York:20260402T150000
DTSTAMP:20260421T014105
CREATED:20260331T172337Z
LAST-MODIFIED:20260331T172337Z
UID:136372-1775134800-1775142000@downtownny.com
SUMMARY:Fiber Art Crafts Studio
DESCRIPTION:Join this group of fiber art crafters for a fun afternoon of creativity and camaraderie. Bring your projects\, which can include—but are not limited to—knitting\, crocheting\, embroidery and small-loom weaving.
URL:https://downtownny.com/event/fiber-art-crafts-studio-41/
CATEGORIES:Community
END:VEVENT
END:VCALENDAR