BEGIN:VCALENDAR
VERSION:2.0
PRODID:-//Downtown Alliance - ECPv6.15.20//NONSGML v1.0//EN
CALSCALE:GREGORIAN
METHOD:PUBLISH
X-WR-CALNAME:Downtown Alliance
X-ORIGINAL-URL:https://downtownny.com
X-WR-CALDESC:Events for Downtown Alliance
REFRESH-INTERVAL;VALUE=DURATION:PT1H
X-Robots-Tag:noindex
X-PUBLISHED-TTL:PT1H
BEGIN:VTIMEZONE
TZID:America/New_York
BEGIN:DAYLIGHT
TZOFFSETFROM:-0500
TZOFFSETTO:-0400
TZNAME:EDT
DTSTART:20250309T070000
END:DAYLIGHT
BEGIN:STANDARD
TZOFFSETFROM:-0400
TZOFFSETTO:-0500
TZNAME:EST
DTSTART:20251102T060000
END:STANDARD
BEGIN:DAYLIGHT
TZOFFSETFROM:-0500
TZOFFSETTO:-0400
TZNAME:EDT
DTSTART:20260308T070000
END:DAYLIGHT
BEGIN:STANDARD
TZOFFSETFROM:-0400
TZOFFSETTO:-0500
TZNAME:EST
DTSTART:20261101T060000
END:STANDARD
BEGIN:DAYLIGHT
TZOFFSETFROM:-0500
TZOFFSETTO:-0400
TZNAME:EDT
DTSTART:20270314T070000
END:DAYLIGHT
BEGIN:STANDARD
TZOFFSETFROM:-0400
TZOFFSETTO:-0500
TZNAME:EST
DTSTART:20271107T060000
END:STANDARD
END:VTIMEZONE
BEGIN:VEVENT
DTSTART;TZID=America/New_York:20260415T100000
DTEND;TZID=America/New_York:20260415T120000
DTSTAMP:20260420T210648
CREATED:20260331T173747Z
LAST-MODIFIED:20260331T173747Z
UID:136414-1776247200-1776254400@downtownny.com
SUMMARY:No-Press Printmaking
DESCRIPTION:Explore fun and simple printmaking techniques- such as screen printing\, monographs\, and collagraphs- with the guidance of an artist/ educator. All materials provided. All skill levels welcome. Registration required.
URL:https://downtownny.com/event/no-press-printmaking-3/
CATEGORIES:Community
END:VEVENT
BEGIN:VEVENT
DTSTART;TZID=America/New_York:20260415T133000
DTEND;TZID=America/New_York:20260415T143000
DTSTAMP:20260420T210648
CREATED:20260331T173948Z
LAST-MODIFIED:20260331T173948Z
UID:136417-1776259800-1776263400@downtownny.com
SUMMARY:Meet the Beekeeper
DESCRIPTION:Join a presentation and talk led by Alveole beekeepers at the Battery Park City hive located at the Chambers St. entrance to Rockefeller Park. Learn about the importance of urban beekeeping and its benefit to sustainability efforts in BPC and throughout the city.
URL:https://downtownny.com/event/meet-the-beekeeper-4/
LOCATION:Rockefeller Park
CATEGORIES:Community
END:VEVENT
END:VCALENDAR