BEGIN:VCALENDAR
VERSION:2.0
PRODID:-//Downtown Alliance - ECPv6.15.20//NONSGML v1.0//EN
CALSCALE:GREGORIAN
METHOD:PUBLISH
X-ORIGINAL-URL:https://downtownny.com
X-WR-CALDESC:Events for Downtown Alliance
REFRESH-INTERVAL;VALUE=DURATION:PT1H
X-Robots-Tag:noindex
X-PUBLISHED-TTL:PT1H
BEGIN:VTIMEZONE
TZID:America/New_York
BEGIN:DAYLIGHT
TZOFFSETFROM:-0500
TZOFFSETTO:-0400
TZNAME:EDT
DTSTART:20250309T070000
END:DAYLIGHT
BEGIN:STANDARD
TZOFFSETFROM:-0400
TZOFFSETTO:-0500
TZNAME:EST
DTSTART:20251102T060000
END:STANDARD
BEGIN:DAYLIGHT
TZOFFSETFROM:-0500
TZOFFSETTO:-0400
TZNAME:EDT
DTSTART:20260308T070000
END:DAYLIGHT
BEGIN:STANDARD
TZOFFSETFROM:-0400
TZOFFSETTO:-0500
TZNAME:EST
DTSTART:20261101T060000
END:STANDARD
BEGIN:DAYLIGHT
TZOFFSETFROM:-0500
TZOFFSETTO:-0400
TZNAME:EDT
DTSTART:20270314T070000
END:DAYLIGHT
BEGIN:STANDARD
TZOFFSETFROM:-0400
TZOFFSETTO:-0500
TZNAME:EST
DTSTART:20271107T060000
END:STANDARD
END:VTIMEZONE
BEGIN:VEVENT
DTSTART;TZID=America/New_York:20260420T093000
DTEND;TZID=America/New_York:20260420T103000
DTSTAMP:20260421T062015
CREATED:20260331T174751Z
LAST-MODIFIED:20260331T174751Z
UID:136437-1776677400-1776681000@downtownny.com
SUMMARY:Birding BPC
DESCRIPTION:Join BPCA naturalists to explore the parks of BPC\, and see what makes this spot a hang-out for urban birds and marvelous migrators! Binoculars and field guides provided\, or bring your own.
URL:https://downtownny.com/event/birding-bpc-3/
CATEGORIES:Community
END:VEVENT
BEGIN:VEVENT
DTSTART;TZID=America/New_York:20260418T100000
DTEND;TZID=America/New_York:20260418T120000
DTSTAMP:20260421T062015
CREATED:20260331T174350Z
LAST-MODIFIED:20260331T174350Z
UID:136430-1776506400-1776513600@downtownny.com
SUMMARY:Stewardship Saturday: Garden & Clean Up
DESCRIPTION:Pick up litter and tend to pollinator-friendly gardens. Tools and materials provided. No experience needed. All ages and abilities welcome.
URL:https://downtownny.com/event/stewardship-saturday-garden-clean-up-6/
CATEGORIES:Community
END:VEVENT
BEGIN:VEVENT
DTSTART;TZID=America/New_York:20260416T130000
DTEND;TZID=America/New_York:20260416T150000
DTSTAMP:20260421T062015
CREATED:20260331T174149Z
LAST-MODIFIED:20260331T174149Z
UID:136423-1776344400-1776351600@downtownny.com
SUMMARY:Fiber Art Crafts Studio
DESCRIPTION:Join this group of fiber art crafters for a fun afternoon of creativity and camaraderie. Bring your projects\, which can include—but are not limited to—knitting\, crocheting\, embroidery and small-loom weaving.
URL:https://downtownny.com/event/fiber-art-crafts-studio-43/
CATEGORIES:Community
END:VEVENT
BEGIN:VEVENT
DTSTART;TZID=America/New_York:20260416T103000
DTEND;TZID=America/New_York:20260416T113000
DTSTAMP:20260421T062015
CREATED:20260331T174148Z
LAST-MODIFIED:20260331T174148Z
UID:136422-1776335400-1776339000@downtownny.com
SUMMARY:Earth Month Nature Walk
DESCRIPTION:Take a stroll with outdoor educator Marieke Bender through Rockefeller Park and explore our connection to the great outdoors! See what makes our parks an important refuge for humans\, animals\, and plants\, and search for signs of Spring along the Hudson River.
URL:https://downtownny.com/event/earth-month-nature-walk-3/
LOCATION:Rockefeller Park
CATEGORIES:Community
END:VEVENT
BEGIN:VEVENT
DTSTART;TZID=America/New_York:20260416T100000
DTEND;TZID=America/New_York:20260416T120000
DTSTAMP:20260421T062015
CREATED:20260331T173949Z
LAST-MODIFIED:20260331T173949Z
UID:136421-1776333600-1776340800@downtownny.com
SUMMARY:Mah Jongg Lessons
DESCRIPTION:Learn the rules and mechanics of American Mah-Jongg.
URL:https://downtownny.com/event/mah-jongg-lessons-12/
CATEGORIES:Community
END:VEVENT
BEGIN:VEVENT
DTSTART;TZID=America/New_York:20260415T133000
DTEND;TZID=America/New_York:20260415T143000
DTSTAMP:20260421T062015
CREATED:20260331T173948Z
LAST-MODIFIED:20260331T173948Z
UID:136417-1776259800-1776263400@downtownny.com
SUMMARY:Meet the Beekeeper
DESCRIPTION:Join a presentation and talk led by Alveole beekeepers at the Battery Park City hive located at the Chambers St. entrance to Rockefeller Park. Learn about the importance of urban beekeeping and its benefit to sustainability efforts in BPC and throughout the city.
URL:https://downtownny.com/event/meet-the-beekeeper-4/
LOCATION:Rockefeller Park
CATEGORIES:Community
END:VEVENT
BEGIN:VEVENT
DTSTART;TZID=America/New_York:20260415T100000
DTEND;TZID=America/New_York:20260415T120000
DTSTAMP:20260421T062015
CREATED:20260331T173747Z
LAST-MODIFIED:20260331T173747Z
UID:136414-1776247200-1776254400@downtownny.com
SUMMARY:No-Press Printmaking
DESCRIPTION:Explore fun and simple printmaking techniques- such as screen printing\, monographs\, and collagraphs- with the guidance of an artist/ educator. All materials provided. All skill levels welcome. Registration required.
URL:https://downtownny.com/event/no-press-printmaking-3/
CATEGORIES:Community
END:VEVENT
BEGIN:VEVENT
DTSTART;TZID=America/New_York:20260414T161500
DTEND;TZID=America/New_York:20260414T171500
DTSTAMP:20260421T062015
CREATED:20260331T173615Z
LAST-MODIFIED:20260331T173615Z
UID:136411-1776183300-1776186900@downtownny.com
SUMMARY:Earth Month Compost Tour
DESCRIPTION:Get a behind-the-scenes look at how BPCA processes the hundreds of pounds of food waste collected each day\, that is then turned into compost that goes back out into the gardens to support soil health. Registration recommended.
URL:https://downtownny.com/event/earth-month-compost-tour-2/
CATEGORIES:Community
END:VEVENT
BEGIN:VEVENT
DTSTART;TZID=America/New_York:20260414T140000
DTEND;TZID=America/New_York:20260414T160000
DTSTAMP:20260421T062015
CREATED:20260331T173614Z
LAST-MODIFIED:20260331T173614Z
UID:136410-1776175200-1776182400@downtownny.com
SUMMARY:Mah Jongg & More
DESCRIPTION:Join a dedicated group of adult American Mah Jongg enthusiasts for friendly and informal games\, or try your hand at other card and board games. Make friends and catch up with neighbors. Sets\, cards\, and games provided\, or bring your own.
URL:https://downtownny.com/event/mah-jongg-more-135/
CATEGORIES:Community
END:VEVENT
BEGIN:VEVENT
DTSTART;TZID=America/New_York:20260414T110000
DTEND;TZID=America/New_York:20260414T120000
DTSTAMP:20260421T062015
CREATED:20260331T173614Z
LAST-MODIFIED:20260331T173614Z
UID:136409-1776164400-1776168000@downtownny.com
SUMMARY:Earth Day: Family Birding
DESCRIPTION:What birds live in your backyard? Join us to learn the basics of bird watching in this fun outing for beginners\, hobbyists\, and lifelong birders alike. Together\, we will explore the parks of BPC\, and see what makes this spot a hang-out for resident urban birds and marvelous migrators! Binoculars and field guides provided\, or bring your own.
URL:https://downtownny.com/event/earth-day-family-birding-3/
CATEGORIES:Community
END:VEVENT
BEGIN:VEVENT
DTSTART;TZID=America/New_York:20260413T093000
DTEND;TZID=America/New_York:20260413T103000
DTSTAMP:20260421T062015
CREATED:20260331T173613Z
LAST-MODIFIED:20260331T173613Z
UID:136407-1776072600-1776076200@downtownny.com
SUMMARY:Birding BPC
DESCRIPTION:Join BPCA naturalists to explore the parks of BPC\, and see what makes this spot a hang-out for urban birds and marvelous migrators! Binoculars and field guides provided\, or bring your own.
URL:https://downtownny.com/event/birding-bpc-2/
CATEGORIES:Community
END:VEVENT
BEGIN:VEVENT
DTSTART;TZID=America/New_York:20260411T100000
DTEND;TZID=America/New_York:20260411T120000
DTSTAMP:20260421T062015
CREATED:20260331T173545Z
LAST-MODIFIED:20260331T173545Z
UID:136402-1775901600-1775908800@downtownny.com
SUMMARY:Stewardship Saturday: Garden & Clean Up
DESCRIPTION:Pick up litter and tend to pollinator-friendly gardens. Tools and materials provided. No experience needed. All ages and abilities welcome.
URL:https://downtownny.com/event/stewardship-saturday-garden-clean-up-5/
CATEGORIES:Community
END:VEVENT
BEGIN:VEVENT
DTSTART;TZID=America/New_York:20260409T130000
DTEND;TZID=America/New_York:20260409T150000
DTSTAMP:20260421T062015
CREATED:20260331T173344Z
LAST-MODIFIED:20260331T173344Z
UID:136397-1775739600-1775746800@downtownny.com
SUMMARY:Fiber Art Crafts Studio
DESCRIPTION:Join this group of fiber art crafters for a fun afternoon of creativity and camaraderie. Bring your projects\, which can include—but are not limited to—knitting\, crocheting\, embroidery and small-loom weaving.
URL:https://downtownny.com/event/fiber-art-crafts-studio-42/
CATEGORIES:Community
END:VEVENT
BEGIN:VEVENT
DTSTART;TZID=America/New_York:20260409T100000
DTEND;TZID=America/New_York:20260409T120000
DTSTAMP:20260421T062015
CREATED:20260331T173145Z
LAST-MODIFIED:20260331T173145Z
UID:136396-1775728800-1775736000@downtownny.com
SUMMARY:Mah Jongg Lessons
DESCRIPTION:Learn the rules and mechanics of American Mah-Jongg.
URL:https://downtownny.com/event/mah-jongg-lessons-11/
CATEGORIES:Community
END:VEVENT
BEGIN:VEVENT
DTSTART;TZID=America/New_York:20260408T100000
DTEND;TZID=America/New_York:20260408T120000
DTSTAMP:20260421T062015
CREATED:20260331T173143Z
LAST-MODIFIED:20260331T173143Z
UID:136392-1775642400-1775649600@downtownny.com
SUMMARY:No-Press Printmaking
DESCRIPTION:Explore fun and simple printmaking techniques- such as screen printing\, monographs\, and collagraphs- with the guidance of an artist/ educator. All materials provided. All skill levels welcome. Registration required.
URL:https://downtownny.com/event/no-press-printmaking-2/
CATEGORIES:Community
END:VEVENT
BEGIN:VEVENT
DTSTART;TZID=America/New_York:20260407T140000
DTEND;TZID=America/New_York:20260407T160000
DTSTAMP:20260421T062015
CREATED:20260331T172943Z
LAST-MODIFIED:20260331T172943Z
UID:136389-1775570400-1775577600@downtownny.com
SUMMARY:Mah Jongg & More
DESCRIPTION:Join a dedicated group of adult American Mah Jongg enthusiasts for friendly and informal games\, or try your hand at other card and board games. Make friends and catch up with neighbors. Sets\, cards\, and games provided\, or bring your own.
URL:https://downtownny.com/event/mah-jongg-more-134/
CATEGORIES:Community
END:VEVENT
BEGIN:VEVENT
DTSTART;TZID=America/New_York:20260406T093000
DTEND;TZID=America/New_York:20260406T103000
DTSTAMP:20260421T062015
CREATED:20260331T172942Z
LAST-MODIFIED:20260331T172942Z
UID:136387-1775467800-1775471400@downtownny.com
SUMMARY:Birding BPC
DESCRIPTION:Join BPCA naturalists to explore the parks of BPC\, and see what makes this spot a hang-out for urban birds and marvelous migrators! Binoculars and field guides provided\, or bring your own.
URL:https://downtownny.com/event/birding-bpc/
CATEGORIES:Community
END:VEVENT
BEGIN:VEVENT
DTSTART;TZID=America/New_York:20260404T100000
DTEND;TZID=America/New_York:20260404T120000
DTSTAMP:20260421T062015
CREATED:20260331T172542Z
LAST-MODIFIED:20260331T172542Z
UID:136381-1775296800-1775304000@downtownny.com
SUMMARY:Stewardship Saturday: Garden & Clean Up
DESCRIPTION:Pick up litter and tend to pollinator-friendly gardens. Tools and materials provided. No experience needed. All ages and abilities welcome.
URL:https://downtownny.com/event/stewardship-saturday-garden-clean-up-4/
CATEGORIES:Community
END:VEVENT
BEGIN:VEVENT
DTSTART;TZID=America/New_York:20260402T130000
DTEND;TZID=America/New_York:20260402T150000
DTSTAMP:20260421T062015
CREATED:20260331T172337Z
LAST-MODIFIED:20260331T172337Z
UID:136372-1775134800-1775142000@downtownny.com
SUMMARY:Fiber Art Crafts Studio
DESCRIPTION:Join this group of fiber art crafters for a fun afternoon of creativity and camaraderie. Bring your projects\, which can include—but are not limited to—knitting\, crocheting\, embroidery and small-loom weaving.
URL:https://downtownny.com/event/fiber-art-crafts-studio-41/
CATEGORIES:Community
END:VEVENT
BEGIN:VEVENT
DTSTART;TZID=America/New_York:20260402T100000
DTEND;TZID=America/New_York:20260402T120000
DTSTAMP:20260421T062015
CREATED:20260331T172335Z
LAST-MODIFIED:20260331T172335Z
UID:136371-1775124000-1775131200@downtownny.com
SUMMARY:Mah Jongg Lessons
DESCRIPTION:Learn the rules and mechanics of American Mah-Jongg.
URL:https://downtownny.com/event/mah-jongg-lessons-10/
CATEGORIES:Community
END:VEVENT
BEGIN:VEVENT
DTSTART;TZID=America/New_York:20260401T100000
DTEND;TZID=America/New_York:20260401T120000
DTSTAMP:20260421T062015
CREATED:20260331T172333Z
LAST-MODIFIED:20260331T172333Z
UID:136367-1775037600-1775044800@downtownny.com
SUMMARY:No-Press Printmaking
DESCRIPTION:Explore fun and simple printmaking techniques- such as screen printing\, monographs\, and collagraphs- with the guidance of an artist/ educator. All materials provided. All skill levels welcome. Registration required.
URL:https://downtownny.com/event/no-press-printmaking/
CATEGORIES:Community
END:VEVENT
BEGIN:VEVENT
DTSTART;TZID=America/New_York:20260331T140000
DTEND;TZID=America/New_York:20260331T160000
DTSTAMP:20260421T062015
CREATED:20260227T200736Z
LAST-MODIFIED:20260227T200736Z
UID:120877-1774965600-1774972800@downtownny.com
SUMMARY:Mah Jongg & More
DESCRIPTION:Join a dedicated group of adult American Mah Jongg enthusiasts for friendly and informal games\, or try your hand at other card and board games. Make friends and catch up with neighbors. Sets\, cards\, and games provided\, or bring your own.
URL:https://downtownny.com/event/mah-jongg-more-133/
CATEGORIES:Community
END:VEVENT
BEGIN:VEVENT
DTSTART;TZID=America/New_York:20260328T100000
DTEND;TZID=America/New_York:20260328T120000
DTSTAMP:20260421T062015
CREATED:20260227T200723Z
LAST-MODIFIED:20260227T200723Z
UID:120871-1774692000-1774699200@downtownny.com
SUMMARY:Stewardship Saturday: Garden & Clean Up
DESCRIPTION:Pick up litter and tend to pollinator-friendly gardens. Tools and materials provided. No experience needed. All ages and abilities welcome.
URL:https://downtownny.com/event/stewardship-saturday-garden-clean-up-3/
CATEGORIES:Community
END:VEVENT
BEGIN:VEVENT
DTSTART;TZID=America/New_York:20260327T170000
DTEND;TZID=America/New_York:20260327T190000
DTSTAMP:20260421T062015
CREATED:20260227T200719Z
LAST-MODIFIED:20260227T200719Z
UID:120870-1774630800-1774638000@downtownny.com
SUMMARY:Mah Jongg & More
DESCRIPTION:Join a dedicated group of adult American Mah Jongg enthusiasts for friendly and informal games\, or try your hand at other card and board games. Make friends and catch up with neighbors. Sets\, cards\, and games provided\, or bring your own.
URL:https://downtownny.com/event/mah-jongg-more-132/
CATEGORIES:Community
END:VEVENT
BEGIN:VEVENT
DTSTART;TZID=America/New_York:20260326T130000
DTEND;TZID=America/New_York:20260326T150000
DTSTAMP:20260421T062015
CREATED:20260227T200718Z
LAST-MODIFIED:20260227T200718Z
UID:120867-1774530000-1774537200@downtownny.com
SUMMARY:Fiber Art Crafts Studio
DESCRIPTION:Join this group of fiber art crafters for a fun afternoon of creativity and camaraderie. Bring your projects\, which can include—but are not limited to—knitting\, crocheting\, embroidery and small-loom weaving.
URL:https://downtownny.com/event/fiber-art-crafts-studio-40/
CATEGORIES:Community
END:VEVENT
BEGIN:VEVENT
DTSTART;TZID=America/New_York:20260325T140000
DTEND;TZID=America/New_York:20260325T160000
DTSTAMP:20260421T062015
CREATED:20260227T200659Z
LAST-MODIFIED:20260227T200659Z
UID:120863-1774447200-1774454400@downtownny.com
SUMMARY:Figure Drawing
DESCRIPTION:Challenge your artistic skills by drawing the human figure. Each week a model will strike short and long poses for participants to draw. Artists/ educators will offer constructive suggestions and critique. Materials provided\, and artists are encouraged to bring their own favorite media. Free program\, space is limited\, registration required.
URL:https://downtownny.com/event/figure-drawing-32/
CATEGORIES:Community
END:VEVENT
BEGIN:VEVENT
DTSTART;TZID=America/New_York:20260324T140000
DTEND;TZID=America/New_York:20260324T160000
DTSTAMP:20260421T062015
CREATED:20260227T200642Z
LAST-MODIFIED:20260227T200642Z
UID:120859-1774360800-1774368000@downtownny.com
SUMMARY:Mah Jongg & More
DESCRIPTION:Join a dedicated group of adult American Mah Jongg enthusiasts for friendly and informal games\, or try your hand at other card and board games. Make friends and catch up with neighbors. Sets\, cards\, and games provided\, or bring your own.
URL:https://downtownny.com/event/mah-jongg-more-131/
CATEGORIES:Community
END:VEVENT
BEGIN:VEVENT
DTSTART;TZID=America/New_York:20260324T130000
DTEND;TZID=America/New_York:20260324T140000
DTSTAMP:20260421T062015
CREATED:20260227T200641Z
LAST-MODIFIED:20260227T200641Z
UID:120858-1774357200-1774360800@downtownny.com
SUMMARY:BPC Book Club
DESCRIPTION:Join fellow readers for lively discussion and thoughtful socializing. Today’s discussion will be about Colored Television by Danzy Senna.
URL:https://downtownny.com/event/bpc-book-club-20/
CATEGORIES:Community
END:VEVENT
BEGIN:VEVENT
DTSTART;TZID=America/New_York:20260321T110000
DTEND;TZID=America/New_York:20260321T110000
DTSTAMP:20260421T062015
CREATED:20260227T200623Z
LAST-MODIFIED:20260227T200623Z
UID:120851-1774090800-1774090800@downtownny.com
SUMMARY:Boxcutter Collective
DESCRIPTION:The Boxcutter Collective is a puppet company made up of Bread & Puppet Theatre alumni who have been making innovative and irreverent political puppet shows at a furious pace since their founding in 2016. Program repeated at 2pm.
URL:https://downtownny.com/event/boxcutter-collective-2/
CATEGORIES:Community
END:VEVENT
BEGIN:VEVENT
DTSTART;TZID=America/New_York:20260321T100000
DTEND;TZID=America/New_York:20260321T120000
DTSTAMP:20260421T062015
CREATED:20260227T200618Z
LAST-MODIFIED:20260227T200618Z
UID:120849-1774087200-1774094400@downtownny.com
SUMMARY:Stewardship Saturday: Garden & Clean Up
DESCRIPTION:Pick up litter and tend to pollinator-friendly gardens. Tools and materials provided. No experience needed. All ages and abilities welcome.
URL:https://downtownny.com/event/stewardship-saturday-garden-clean-up-2/
CATEGORIES:Community
END:VEVENT
END:VCALENDAR