BEGIN:VCALENDAR
VERSION:2.0
PRODID:-//Downtown Alliance - ECPv6.15.20//NONSGML v1.0//EN
CALSCALE:GREGORIAN
METHOD:PUBLISH
X-WR-CALNAME:Downtown Alliance
X-ORIGINAL-URL:https://downtownny.com
X-WR-CALDESC:Events for Downtown Alliance
REFRESH-INTERVAL;VALUE=DURATION:PT1H
X-Robots-Tag:noindex
X-PUBLISHED-TTL:PT1H
BEGIN:VTIMEZONE
TZID:America/New_York
BEGIN:DAYLIGHT
TZOFFSETFROM:-0500
TZOFFSETTO:-0400
TZNAME:EDT
DTSTART:20230312T070000
END:DAYLIGHT
BEGIN:STANDARD
TZOFFSETFROM:-0400
TZOFFSETTO:-0500
TZNAME:EST
DTSTART:20231105T060000
END:STANDARD
BEGIN:DAYLIGHT
TZOFFSETFROM:-0500
TZOFFSETTO:-0400
TZNAME:EDT
DTSTART:20240310T070000
END:DAYLIGHT
BEGIN:STANDARD
TZOFFSETFROM:-0400
TZOFFSETTO:-0500
TZNAME:EST
DTSTART:20241103T060000
END:STANDARD
BEGIN:DAYLIGHT
TZOFFSETFROM:-0500
TZOFFSETTO:-0400
TZNAME:EDT
DTSTART:20250309T070000
END:DAYLIGHT
BEGIN:STANDARD
TZOFFSETFROM:-0400
TZOFFSETTO:-0500
TZNAME:EST
DTSTART:20251102T060000
END:STANDARD
END:VTIMEZONE
BEGIN:VEVENT
DTSTART;TZID=America/New_York:20241004T140000
DTEND;TZID=America/New_York:20241004T153000
DTSTAMP:20260423T232528
CREATED:20240930T163547Z
LAST-MODIFIED:20240930T163547Z
UID:101228-1728050400-1728055800@downtownny.com
SUMMARY:Play Offs: Baseball
DESCRIPTION:Children ages 6-10 are invited to play in pop-up clinics on select days off from school this fall. Join BPC coaches for a baseball skills session ending in a scrimmage open to all ability levels. Registration recommended.
URL:https://downtownny.com/event/play-offs-baseball/
CATEGORIES:Community
END:VEVENT
BEGIN:VEVENT
DTSTART;TZID=America/New_York:20241004T150000
DTEND;TZID=America/New_York:20241004T150000
DTSTAMP:20260423T232528
CREATED:20240930T163547Z
LAST-MODIFIED:20240930T163547Z
UID:101229-1728054000-1728054000@downtownny.com
SUMMARY:Urban Farming 101 Workshop: Season Extension and Winter Growing
DESCRIPTION:Learn the crops and practices that can help your garden keep producing all winter long.
URL:https://downtownny.com/event/urban-farming-101-workshop-season-extension-and-winter-growing/
CATEGORIES:Community
END:VEVENT
BEGIN:VEVENT
DTSTART;TZID=America/New_York:20241004T193000
DTEND;TZID=America/New_York:20241004T193000
DTSTAMP:20260423T232528
CREATED:20240930T163548Z
LAST-MODIFIED:20240930T163548Z
UID:101232-1728070200-1728070200@downtownny.com
SUMMARY:Seaport Cinema: Barbie
DESCRIPTION:Movie screening on The Rooftop at Pier 17. Bring your own blankets and chairs to lay out on the turf.
URL:https://downtownny.com/event/seaport-cinema-barbie/
CATEGORIES:Community
END:VEVENT
BEGIN:VEVENT
DTSTART;TZID=America/New_York:20241005T100000
DTEND;TZID=America/New_York:20241005T120000
DTSTAMP:20260423T232528
CREATED:20240930T163551Z
LAST-MODIFIED:20240930T163551Z
UID:101233-1728122400-1728129600@downtownny.com
SUMMARY:Drawing in the Park
DESCRIPTION:Paint in watercolor or use pastels and other drawing materials to capture the magical vistas of the Hudson River and the unique landscape of South Cove. An artist/educator will help participants of all levels with instruction and critique. Materials provided\, and artists are encouraged to bring their own favorite media.
URL:https://downtownny.com/event/drawing-in-the-park-79/
LOCATION:South Cove
CATEGORIES:Community
END:VEVENT
BEGIN:VEVENT
DTSTART;TZID=America/New_York:20241005T103000
DTEND;TZID=America/New_York:20241005T130000
DTSTAMP:20260423T232528
CREATED:20240930T163551Z
LAST-MODIFIED:20240930T163551Z
UID:101234-1728124200-1728133200@downtownny.com
SUMMARY:Go Fish!
DESCRIPTION:Join experienced anglers for catch-and-release fishing and learn about life in the Hudson River. Help observe and identify the fish we catch\, enabling us to share valuable data with research groups who monitor the health of our local waters. The day also includes an art project and a nature walk. Plus: don’t miss a live performance from Sonia de los Santos.
URL:https://downtownny.com/event/go-fish-3/
CATEGORIES:Community
END:VEVENT
BEGIN:VEVENT
DTSTART;TZID=America/New_York:20241005T120000
DTEND;TZID=America/New_York:20241005T120000
DTSTAMP:20260423T232528
CREATED:20240930T163552Z
LAST-MODIFIED:20240930T163552Z
UID:101236-1728129600-1728129600@downtownny.com
SUMMARY:Battery Park City Blessing of the Animals
DESCRIPTION:This blessing will acknowledge pets’ purpose in our lives and express our gratitude and joy for our relationship with them.  All are invited to bring their pets to this non-denominational blessing and all pets are welcome (dogs\, cats\, birds\, etc.).
URL:https://downtownny.com/event/battery-park-city-blessing-of-the-animals-2/
CATEGORIES:Community
END:VEVENT
BEGIN:VEVENT
DTSTART;TZID=America/New_York:20241005T133000
DTEND;TZID=America/New_York:20241005T133000
DTSTAMP:20260423T232528
CREATED:20240930T163624Z
LAST-MODIFIED:20240930T163624Z
UID:101239-1728135000-1728135000@downtownny.com
SUMMARY:Farm Tour for Kids
DESCRIPTION:Take a kid-friendly tour of The Battery Urban Farm! Help care for the plants on the farm\, taste some produce\, and meet our wildlife
URL:https://downtownny.com/event/farm-tour-for-kids-2/
CATEGORIES:Community
END:VEVENT
BEGIN:VEVENT
DTSTART;TZID=America/New_York:20241006T150000
DTEND;TZID=America/New_York:20241006T150000
DTSTAMP:20260423T232528
CREATED:20240930T163652Z
LAST-MODIFIED:20240930T163652Z
UID:101246-1728226800-1728226800@downtownny.com
SUMMARY:Blessing of the Animals
DESCRIPTION:Bring your pet to Trinity Church for a special service.
URL:https://downtownny.com/event/blessing-of-the-animals/
LOCATION:Trinity Church
CATEGORIES:Community
END:VEVENT
BEGIN:VEVENT
DTSTART;TZID=America/New_York:20241007T090000
DTEND;TZID=America/New_York:20241007T090000
DTSTAMP:20260423T232528
CREATED:20240930T163652Z
LAST-MODIFIED:20240930T163652Z
UID:101247-1728291600-1728291600@downtownny.com
SUMMARY:Fall Bird Watching
DESCRIPTION:Explore the parks of BPC\, and spot migrating birds. Binoculars and field guides provided or bring your own.
URL:https://downtownny.com/event/fall-bird-watching-5/
LOCATION:South Cove
CATEGORIES:Community
END:VEVENT
BEGIN:VEVENT
DTSTART;TZID=America/New_York:20241007T140000
DTEND;TZID=America/New_York:20241007T140000
DTSTAMP:20260423T232528
CREATED:20240930T163708Z
LAST-MODIFIED:20240930T163708Z
UID:101249-1728309600-1728309600@downtownny.com
SUMMARY:Creative Writing
DESCRIPTION:Walk and writing session led by poet Jon Curley. Participants will be encouraged to use observations as a way to enhance their writing styles in any preferred mode. Registration required.
URL:https://downtownny.com/event/creative-writing-33/
LOCATION:Battery Park City Library
CATEGORIES:Community
END:VEVENT
BEGIN:VEVENT
DTSTART;TZID=America/New_York:20241008T100000
DTEND;TZID=America/New_York:20241008T100000
DTSTAMP:20260423T232528
CREATED:20240930T163708Z
LAST-MODIFIED:20240930T163708Z
UID:101250-1728381600-1728381600@downtownny.com
SUMMARY:Monthly Service Day
DESCRIPTION:Par­tic­i­pate in a sin­­gle-day stew­ard­ship project focused on habi­tat restora­tion on Governors Island.
URL:https://downtownny.com/event/monthly-service-day-7/
LOCATION:Governors Island
CATEGORIES:Community
END:VEVENT
BEGIN:VEVENT
DTSTART;TZID=America/New_York:20241008T103000
DTEND;TZID=America/New_York:20241008T113000
DTSTAMP:20260423T232528
CREATED:20240930T163709Z
LAST-MODIFIED:20240930T163709Z
UID:101251-1728383400-1728387000@downtownny.com
SUMMARY:Adult Zumba
DESCRIPTION:Join in on the fun featuring easy-to-follow Latin dance choreography while working on your balance\, coordination and range of motion. Come prepared for enthusiastic instruction\, a little strength training and a lot of fun. Participants are encouraged to bring their own equipment: weights\, water bottle\, hand towel etc. Proof of vaccination required.
URL:https://downtownny.com/event/adult-zumba-180/
CATEGORIES:Community
END:VEVENT
BEGIN:VEVENT
DTSTART;TZID=America/New_York:20241008T140000
DTEND;TZID=America/New_York:20241008T153000
DTSTAMP:20260423T232528
CREATED:20240930T163747Z
LAST-MODIFIED:20240930T163747Z
UID:101253-1728396000-1728401400@downtownny.com
SUMMARY:The Moth: Workshop 2
DESCRIPTION:The Moth Community StorySLAM is a noncompetitive\, open-mic storytelling event in which anyone can share a 5 min story on the night’s theme. This is a preparation workshop offering guidance\, techniques\, and practice on the craft of storytelling. This program is recommended for teens and adults.
URL:https://downtownny.com/event/the-moth-workshop-2/
CATEGORIES:Community
END:VEVENT
BEGIN:VEVENT
DTSTART;TZID=America/New_York:20241008T143000
DTEND;TZID=America/New_York:20241008T160000
DTSTAMP:20260423T232528
CREATED:20240930T163748Z
LAST-MODIFIED:20240930T163748Z
UID:101254-1728397800-1728403200@downtownny.com
SUMMARY:Mah Jongg & More
DESCRIPTION:Join a dedicated group of Mah Jongg enthusiasts for friendly games\, or try your hand at other card and board games.
URL:https://downtownny.com/event/mah-jongg-more-59/
CATEGORIES:Community
END:VEVENT
BEGIN:VEVENT
DTSTART;TZID=America/New_York:20241008T153000
DTEND;TZID=America/New_York:20241008T170000
DTSTAMP:20260423T232529
CREATED:20240930T163748Z
LAST-MODIFIED:20240930T163748Z
UID:101257-1728401400-1728406800@downtownny.com
SUMMARY:Drop-In Chess
DESCRIPTION:Play the popular strategy game while getting pointers and advice from an expert. Chess improves concentration\, problem solving\, and strategic planning — plus it’s fun! For ages 5 and up.
URL:https://downtownny.com/event/drop-in-chess-75/
LOCATION:Rockefeller Park
CATEGORIES:Community
END:VEVENT
BEGIN:VEVENT
DTSTART;TZID=America/New_York:20241009T080000
DTEND;TZID=America/New_York:20241009T080000
DTSTAMP:20260423T232529
CREATED:20240930T163749Z
LAST-MODIFIED:20240930T163749Z
UID:101259-1728460800-1728460800@downtownny.com
SUMMARY:Guided Bird Tour
DESCRIPTION:Explore the diversity of migrating birds that find food and habitat in The Battery.
URL:https://downtownny.com/event/guided-bird-tour-2/
CATEGORIES:Community
END:VEVENT
BEGIN:VEVENT
DTSTART;TZID=America/New_York:20241009T130000
DTEND;TZID=America/New_York:20241009T140000
DTSTAMP:20260423T232529
CREATED:20240930T163807Z
LAST-MODIFIED:20240930T163807Z
UID:101261-1728478800-1728482400@downtownny.com
SUMMARY:Downtown Beats Chorus
DESCRIPTION:Directed by Church Street School of Music\, the Downtown Beats adult chorus is open to all who love to sing! Learn contemporary and classic songs and perform at community events throughout the yea
URL:https://downtownny.com/event/downtown-beats-chorus-2/
CATEGORIES:Community
END:VEVENT
BEGIN:VEVENT
DTSTART;TZID=America/New_York:20241009T180000
DTEND;TZID=America/New_York:20241009T190000
DTSTAMP:20260423T232529
CREATED:20240930T163808Z
LAST-MODIFIED:20240930T163808Z
UID:101264-1728496800-1728500400@downtownny.com
SUMMARY:Sunset Yoga
DESCRIPTION:Namaste! Unwind from the day with outdoor yoga. Immerse yourself in this meditative practice- surrounded by the Hudson’s peaceful aura. Strengthen the body and cultivate awareness in a relaxed environment as your instructor guides you through alignments and poses. All levels are welcome. Bringing your own mat is encouraged\, as provided accessories are first come first serve.
URL:https://downtownny.com/event/sunset-yoga-84/
CATEGORIES:Community
END:VEVENT
BEGIN:VEVENT
DTSTART;TZID=America/New_York:20241010T130000
DTEND;TZID=America/New_York:20241010T150000
DTSTAMP:20260423T232529
CREATED:20240930T163814Z
LAST-MODIFIED:20240930T163814Z
UID:101266-1728565200-1728572400@downtownny.com
SUMMARY:Craft Studio
DESCRIPTION:Our open ‘studio’ craft sessions are a great opportunity for seniors to be creative\, learn new skills\, and socialize with others through group activities and individual projects.
URL:https://downtownny.com/event/craft-studio-21/
CATEGORIES:Community
END:VEVENT
BEGIN:VEVENT
DTSTART;TZID=America/New_York:20241010T170000
DTEND;TZID=America/New_York:20241010T170000
DTSTAMP:20260423T232529
CREATED:20240930T163814Z
LAST-MODIFIED:20240930T163814Z
UID:101267-1728579600-1728579600@downtownny.com
SUMMARY:Earth Matter's Anniversary Party
DESCRIPTION:Cel­e­brate 15 years of Earth Mat­ter at their anniver­sary par­ty! Held at LMC­C’s Arts Cen­ter at Gov­er­nors Island\, this cel­e­bra­tion will fea­ture live music from Chico Alverez and Mafim­ba\, lots of danc­ing\, a par­tic­i­pa­to­ry re-use auc­tion\, spe­cial food and drink\, and more fun.
URL:https://downtownny.com/event/earth-matters-anniversary-party/
LOCATION:Governors Island
CATEGORIES:Community
END:VEVENT
BEGIN:VEVENT
DTSTART;TZID=America/New_York:20241010T193000
DTEND;TZID=America/New_York:20241010T213000
DTSTAMP:20260423T232529
CREATED:20240930T163845Z
LAST-MODIFIED:20240930T163845Z
UID:101271-1728588600-1728595800@downtownny.com
SUMMARY:The Moth: Community Story Slam
DESCRIPTION:The Moth Community StorySLAM is a noncompetitive\, open-mic storytelling event in which anyone can share a 5 min story on the night’s theme. Entry is free – come to enjoy the show or for the chance to put your name in the hat to tell a true\, personal story\, live without notes!
URL:https://downtownny.com/event/the-moth-community-story-slam/
CATEGORIES:Community
END:VEVENT
BEGIN:VEVENT
DTSTART;TZID=America/New_York:20241101T103000
DTEND;TZID=America/New_York:20241101T113000
DTSTAMP:20260423T232529
CREATED:20241031T164922Z
LAST-MODIFIED:20241031T164922Z
UID:102073-1730457000-1730460600@downtownny.com
SUMMARY:Adult Zumba
DESCRIPTION:Join in on the fun featuring easy-to-follow Latin dance choreography while working on your balance\, coordination and range of motion. Come prepared for enthusiastic instruction\, a little strength training and a lot of fun. Participants are encouraged to bring their own equipment: weights\, water bottle\, hand towel etc. Proof of vaccination required.
URL:https://downtownny.com/event/adult-zumba-181/
CATEGORIES:Community
END:VEVENT
BEGIN:VEVENT
DTSTART;TZID=America/New_York:20241101T140000
DTEND;TZID=America/New_York:20241101T153000
DTSTAMP:20260423T232529
CREATED:20241031T164923Z
LAST-MODIFIED:20241031T164923Z
UID:102074-1730469600-1730475000@downtownny.com
SUMMARY:Play Offs: Soccer
DESCRIPTION:Children ages 6-10 are invited to play in pop-up clinics on select days off from school this fall. Join BPC coaches for soccer skills session ending in a scrimmage open to all levels. Registration recommended.
URL:https://downtownny.com/event/play-offs-soccer/
CATEGORIES:Community
END:VEVENT
BEGIN:VEVENT
DTSTART;TZID=America/New_York:20241105T103000
DTEND;TZID=America/New_York:20241105T113000
DTSTAMP:20260423T232529
CREATED:20241031T165130Z
LAST-MODIFIED:20241031T165130Z
UID:102086-1730802600-1730806200@downtownny.com
SUMMARY:Adult Zumba
DESCRIPTION:Join in on the fun featuring easy-to-follow Latin dance choreography while working on your balance\, coordination and range of motion. Come prepared for enthusiastic instruction\, a little strength training and a lot of fun. Participants are encouraged to bring their own equipment: weights\, water bottle\, hand towel etc. Proof of vaccination required.
URL:https://downtownny.com/event/adult-zumba-182/
CATEGORIES:Community
END:VEVENT
BEGIN:VEVENT
DTSTART;TZID=America/New_York:20241105T143000
DTEND;TZID=America/New_York:20241105T143000
DTSTAMP:20260423T232529
CREATED:20241031T165329Z
LAST-MODIFIED:20241031T165329Z
UID:102088-1730817000-1730817000@downtownny.com
SUMMARY:Election Day Art & Play
DESCRIPTION:Children are invited to take part in an art project and activities themed around voting and responsible citizenship.
URL:https://downtownny.com/event/election-day-art-play-2/
CATEGORIES:Community
END:VEVENT
BEGIN:VEVENT
DTSTART;TZID=America/New_York:20241105T143000
DTEND;TZID=America/New_York:20241105T160000
DTSTAMP:20260423T232529
CREATED:20241031T165130Z
LAST-MODIFIED:20241031T165130Z
UID:102087-1730817000-1730822400@downtownny.com
SUMMARY:Mah Jongg & More
DESCRIPTION:Join a dedicated group of Mah Jongg enthusiasts for friendly games\, or try your hand at other card and board games.
URL:https://downtownny.com/event/mah-jongg-more-60/
CATEGORIES:Community
END:VEVENT
BEGIN:VEVENT
DTSTART;TZID=America/New_York:20241106T130000
DTEND;TZID=America/New_York:20241106T140000
DTSTAMP:20260423T232529
CREATED:20241031T165330Z
LAST-MODIFIED:20241031T165330Z
UID:102089-1730898000-1730901600@downtownny.com
SUMMARY:Downtown Beats Chorus
DESCRIPTION:Directed by Church Street School of Music\, the Downtown Beats adult chorus is open to all who love to sing! Learn contemporary and classic songs and perform at community events throughout the yea
URL:https://downtownny.com/event/downtown-beats-chorus-3/
CATEGORIES:Community
END:VEVENT
BEGIN:VEVENT
DTSTART;TZID=America/New_York:20241107T130000
DTEND;TZID=America/New_York:20241107T150000
DTSTAMP:20260423T232529
CREATED:20241031T165330Z
LAST-MODIFIED:20241031T165330Z
UID:102091-1730984400-1730991600@downtownny.com
SUMMARY:Craft Studio
DESCRIPTION:Our open ‘studio’ craft sessions are a great opportunity for seniors to be creative\, learn new skills\, and socialize with others through group activities and individual projects.
URL:https://downtownny.com/event/craft-studio-22/
CATEGORIES:Community
END:VEVENT
BEGIN:VEVENT
DTSTART;TZID=America/New_York:20241107T183000
DTEND;TZID=America/New_York:20241107T203000
DTSTAMP:20260423T232529
CREATED:20241031T165531Z
LAST-MODIFIED:20241031T165531Z
UID:102094-1731004200-1731011400@downtownny.com
SUMMARY:Noirvember Movie Night: Don’t Bother to Knock
DESCRIPTION:Each November\, movie fans celebrate the hallmark antiheroes\, femme fatales\, moral complexities\, and the stunning black & white cinematography of film noir. Free popcorn will be served\, and a discussion will follow each screening. Tonight\, see Don’t Bother to Knock (1952). While baby-sitting in a hotel\, a beautiful woman (Marilyn Monroe) begins a flirtation with one of the hotel’s guests (Richard Widmark)\, however there is more to her than meets the eye.
URL:https://downtownny.com/event/noirvember-movie-night-dont-bother-to-knock/
CATEGORIES:Community
END:VEVENT
BEGIN:VEVENT
DTSTART;TZID=America/New_York:20241112T103000
DTEND;TZID=America/New_York:20241112T113000
DTSTAMP:20260423T232529
CREATED:20241031T165933Z
LAST-MODIFIED:20241031T165933Z
UID:102105-1731407400-1731411000@downtownny.com
SUMMARY:Adult Zumba
DESCRIPTION:Join in on the fun featuring easy-to-follow Latin dance choreography while working on your balance\, coordination and range of motion. Come prepared for enthusiastic instruction\, a little strength training and a lot of fun. Participants are encouraged to bring their own equipment: weights\, water bottle\, hand towel etc. Proof of vaccination required.
URL:https://downtownny.com/event/adult-zumba-183/
CATEGORIES:Community
END:VEVENT
END:VCALENDAR