BEGIN:VCALENDAR
VERSION:2.0
PRODID:-//Downtown Alliance - ECPv6.15.20//NONSGML v1.0//EN
CALSCALE:GREGORIAN
METHOD:PUBLISH
X-ORIGINAL-URL:https://downtownny.com
X-WR-CALDESC:Events for Downtown Alliance
REFRESH-INTERVAL;VALUE=DURATION:PT1H
X-Robots-Tag:noindex
X-PUBLISHED-TTL:PT1H
BEGIN:VTIMEZONE
TZID:America/New_York
BEGIN:DAYLIGHT
TZOFFSETFROM:-0500
TZOFFSETTO:-0400
TZNAME:EDT
DTSTART:20240310T070000
END:DAYLIGHT
BEGIN:STANDARD
TZOFFSETFROM:-0400
TZOFFSETTO:-0500
TZNAME:EST
DTSTART:20241103T060000
END:STANDARD
BEGIN:DAYLIGHT
TZOFFSETFROM:-0500
TZOFFSETTO:-0400
TZNAME:EDT
DTSTART:20250309T070000
END:DAYLIGHT
BEGIN:STANDARD
TZOFFSETFROM:-0400
TZOFFSETTO:-0500
TZNAME:EST
DTSTART:20251102T060000
END:STANDARD
BEGIN:DAYLIGHT
TZOFFSETFROM:-0500
TZOFFSETTO:-0400
TZNAME:EDT
DTSTART:20260308T070000
END:DAYLIGHT
BEGIN:STANDARD
TZOFFSETFROM:-0400
TZOFFSETTO:-0500
TZNAME:EST
DTSTART:20261101T060000
END:STANDARD
END:VTIMEZONE
BEGIN:VEVENT
DTSTART;TZID=America/New_York:20251101T150000
DTEND;TZID=America/New_York:20251101T170000
DTSTAMP:20260422T120352
CREATED:20251028T191302Z
LAST-MODIFIED:20251028T191302Z
UID:115564-1762009200-1762016400@downtownny.com
SUMMARY:The Outlaws Who Built NYC Tour
DESCRIPTION:Forget the gangland clichés. This walking tour uncovers the radical\, corrupt\, and wildly enterprising figures who shaped New York City\, from pirate captains and Wall Street bombers to bank fraudsters\, rogue publishers\, and NYPD whistleblowers. It’s a crash course in how NYC was built not just by power and politics\, but by those who bent the rules\, challenged authority\, and sometimes blew things up. \nThis tour isn’t about mob bosses and speakeasies. It’s about the deeper\, dirtier truths behind the institutions that still define New York City today.
URL:https://downtownny.com/event/the-outlaws-who-built-nyc-tour/
CATEGORIES:Arts & Culture,history,the 1920 Wall Street explosion
ATTACH;FMTTYPE=image/jpeg:https://downtownny.com/wp-content/uploads/2025/10/5.jpg
END:VEVENT
END:VCALENDAR